BEGIN:VCALENDAR
VERSION:2.0
PRODID:-//Stroum Jewish Community Center of Greater Seattle - ECPv6.15.20//NONSGML v1.0//EN
CALSCALE:GREGORIAN
METHOD:PUBLISH
X-WR-CALNAME:Stroum Jewish Community Center of Greater Seattle
X-ORIGINAL-URL:https://sjcc.org
X-WR-CALDESC:Events for Stroum Jewish Community Center of Greater Seattle
REFRESH-INTERVAL;VALUE=DURATION:PT1H
X-Robots-Tag:noindex
X-PUBLISHED-TTL:PT1H
BEGIN:VTIMEZONE
TZID:America/Los_Angeles
BEGIN:DAYLIGHT
TZOFFSETFROM:-0800
TZOFFSETTO:-0700
TZNAME:PDT
DTSTART:20250309T100000
END:DAYLIGHT
BEGIN:STANDARD
TZOFFSETFROM:-0700
TZOFFSETTO:-0800
TZNAME:PST
DTSTART:20251102T090000
END:STANDARD
BEGIN:DAYLIGHT
TZOFFSETFROM:-0800
TZOFFSETTO:-0700
TZNAME:PDT
DTSTART:20260308T100000
END:DAYLIGHT
BEGIN:STANDARD
TZOFFSETFROM:-0700
TZOFFSETTO:-0800
TZNAME:PST
DTSTART:20261101T090000
END:STANDARD
BEGIN:DAYLIGHT
TZOFFSETFROM:-0800
TZOFFSETTO:-0700
TZNAME:PDT
DTSTART:20270314T100000
END:DAYLIGHT
BEGIN:STANDARD
TZOFFSETFROM:-0700
TZOFFSETTO:-0800
TZNAME:PST
DTSTART:20271107T090000
END:STANDARD
END:VTIMEZONE
BEGIN:VEVENT
DTSTART;TZID=America/Los_Angeles:20260703T083000
DTEND;TZID=America/Los_Angeles:20260703T093000
DTSTAMP:20260423T143802
CREATED:20251216T173603Z
LAST-MODIFIED:20260423T212642Z
UID:10022944-1783067400-1783071000@sjcc.org
SUMMARY:Fitness Class: Intermediate Slow Flow Yoga
DESCRIPTION:Tuesday pool hours.
URL:https://sjcc.org/event/fitness-class-intermediate-slow-flow-yoga-2/2026-07-03/
LOCATION:Stroum Jewish Community Center\, 3801 E Mercer Way\, Mercer Island\, WA\, United States
CATEGORIES:Demographics: Adults,Demographics: Seniors (55+ better),Demographics: Young Adults,Exercise Studio,Fitness and Aquatics,Group Fitness Classes,Intermediate,Membership,Virtual SJCC
ORGANIZER;CN="Stroum JCC":MAILTO:info@sjcc.org
GEO:47.576754;-122.206204
X-APPLE-STRUCTURED-LOCATION;VALUE=URI;X-ADDRESS=Stroum Jewish Community Center 3801 E Mercer Way Mercer Island WA United States;X-APPLE-RADIUS=500;X-TITLE=3801 E Mercer Way:geo:-122.206204,47.576754
END:VEVENT
BEGIN:VEVENT
DTSTART;TZID=America/Los_Angeles:20260703T090000
DTEND;TZID=America/Los_Angeles:20260703T100000
DTSTAMP:20260423T143802
CREATED:20251216T174047Z
LAST-MODIFIED:20260423T212230Z
UID:10022860-1783069200-1783072800@sjcc.org
SUMMARY:Fitness Class: Aqua Fit
DESCRIPTION:Tuesday pool hours.
URL:https://sjcc.org/event/fitness-class-aqua-fit/2026-07-03/
LOCATION:Stroum Jewish Community Center\, 3801 E Mercer Way\, Mercer Island\, WA\, United States
CATEGORIES:Adults + Seniors,Beginner,Demographics: Adults,Demographics: Seniors (55+ better),Fitness and Aquatics,Group Fitness Classes,Membership,Pool,Swimming
ORGANIZER;CN="Stroum JCC":MAILTO:info@sjcc.org
GEO:47.576754;-122.206204
X-APPLE-STRUCTURED-LOCATION;VALUE=URI;X-ADDRESS=Stroum Jewish Community Center 3801 E Mercer Way Mercer Island WA United States;X-APPLE-RADIUS=500;X-TITLE=3801 E Mercer Way:geo:-122.206204,47.576754
END:VEVENT
BEGIN:VEVENT
DTSTART;TZID=America/Los_Angeles:20260703T103000
DTEND;TZID=America/Los_Angeles:20260703T113000
DTSTAMP:20260423T143802
CREATED:20251216T173847Z
LAST-MODIFIED:20260423T212431Z
UID:10022905-1783074600-1783078200@sjcc.org
SUMMARY:Fitness Class: Tai Chi
DESCRIPTION:Tuesday pool hours.
URL:https://sjcc.org/event/fitness-class-tai-chi-2/2026-07-03/
LOCATION:Stroum Jewish Community Center\, 3801 E Mercer Way\, Mercer Island\, WA\, United States
CATEGORIES:Adults + Seniors,Demographics: Adults,Demographics: Seniors (55+ better),Demographics: Young Adults,Exercise Studio,Fitness and Aquatics,Group Fitness Classes,Intermediate,Membership
ORGANIZER;CN="Stroum JCC":MAILTO:info@sjcc.org
GEO:47.576754;-122.206204
X-APPLE-STRUCTURED-LOCATION;VALUE=URI;X-ADDRESS=Stroum Jewish Community Center 3801 E Mercer Way Mercer Island WA United States;X-APPLE-RADIUS=500;X-TITLE=3801 E Mercer Way:geo:-122.206204,47.576754
END:VEVENT
BEGIN:VEVENT
DTSTART;TZID=America/Los_Angeles:20260703T110000
DTEND;TZID=America/Los_Angeles:20260703T120000
DTSTAMP:20260423T143802
CREATED:20260209T173452Z
LAST-MODIFIED:20260423T180202Z
UID:10022678-1783076400-1783080000@sjcc.org
SUMMARY:Fitness Class: Rock Steady Boxing Level 1/2
DESCRIPTION:Tuesday pool hours.
URL:https://sjcc.org/event/fitness-class-rock-steady-boxing-level-1-2/2026-07-03/
LOCATION:Stroum Jewish Community Center\, 3801 E Mercer Way\, Mercer Island\, WA\, United States
CATEGORIES:Beginner,Demographics: Adults,Demographics: Seniors (55+ better),Demographics: Young Adults,Exercise Studio,Fitness and Aquatics,Group Fitness Classes
ORGANIZER;CN="Stroum JCC":MAILTO:info@sjcc.org
GEO:47.576754;-122.206204
X-APPLE-STRUCTURED-LOCATION;VALUE=URI;X-ADDRESS=Stroum Jewish Community Center 3801 E Mercer Way Mercer Island WA United States;X-APPLE-RADIUS=500;X-TITLE=3801 E Mercer Way:geo:-122.206204,47.576754
END:VEVENT
BEGIN:VEVENT
DTSTART;TZID=America/Los_Angeles:20260703T121500
DTEND;TZID=America/Los_Angeles:20260703T131500
DTSTAMP:20260423T143802
CREATED:20260209T173739Z
LAST-MODIFIED:20260423T212949Z
UID:10023072-1783080900-1783084500@sjcc.org
SUMMARY:Fitness Class: Rock Steady Boxing Level 3/4
DESCRIPTION:Tuesday pool hours.
URL:https://sjcc.org/event/fitness-class-rock-steady-boxing-level-3-4/2026-07-03/
LOCATION:Stroum Jewish Community Center\, 3801 E Mercer Way\, Mercer Island\, WA\, United States
CATEGORIES:Beginner,Demographics: Adults,Demographics: Seniors (55+ better),Demographics: Young Adults,Exercise Studio,Fitness and Aquatics,Group Fitness Classes
ORGANIZER;CN="Stroum JCC":MAILTO:info@sjcc.org
GEO:47.576754;-122.206204
X-APPLE-STRUCTURED-LOCATION;VALUE=URI;X-ADDRESS=Stroum Jewish Community Center 3801 E Mercer Way Mercer Island WA United States;X-APPLE-RADIUS=500;X-TITLE=3801 E Mercer Way:geo:-122.206204,47.576754
END:VEVENT
BEGIN:VEVENT
DTSTART;TZID=America/Los_Angeles:20260704T081500
DTEND;TZID=America/Los_Angeles:20260704T091500
DTSTAMP:20260423T143802
CREATED:20251216T172707Z
LAST-MODIFIED:20260423T212837Z
UID:10023037-1783152900-1783156500@sjcc.org
SUMMARY:Fitness Class: H.I.I.T.
DESCRIPTION:Tuesday pool hours.
URL:https://sjcc.org/event/fitness-class-h-i-i-t-3/2026-07-04/
LOCATION:Stroum Jewish Community Center\, 3801 E Mercer Way\, Mercer Island\, WA\, United States
CATEGORIES:Demographics: Adults,Demographics: Seniors (55+ better),Demographics: Young Adults,Exercise Studio,Fitness and Aquatics,Group Fitness Classes,Intermediate,Membership
ORGANIZER;CN="Stroum JCC":MAILTO:info@sjcc.org
GEO:47.576754;-122.206204
X-APPLE-STRUCTURED-LOCATION;VALUE=URI;X-ADDRESS=Stroum Jewish Community Center 3801 E Mercer Way Mercer Island WA United States;X-APPLE-RADIUS=500;X-TITLE=3801 E Mercer Way:geo:-122.206204,47.576754
END:VEVENT
BEGIN:VEVENT
DTSTART;TZID=America/Los_Angeles:20260704T093000
DTEND;TZID=America/Los_Angeles:20260704T103000
DTSTAMP:20260423T143802
CREATED:20251216T173918Z
LAST-MODIFIED:20260423T212450Z
UID:10022918-1783157400-1783161000@sjcc.org
SUMMARY:Fitness Class: H.I.I.T.
DESCRIPTION:Tuesday pool hours.
URL:https://sjcc.org/event/fitness-class-h-i-i-t-4/2026-07-04/
LOCATION:Stroum Jewish Community Center\, 3801 E Mercer Way\, Mercer Island\, WA\, United States
CATEGORIES:Demographics: Adults,Demographics: Seniors (55+ better),Demographics: Young Adults,Exercise Studio,Fitness and Aquatics,Group Fitness Classes,Intermediate,Membership
ORGANIZER;CN="Stroum JCC":MAILTO:info@sjcc.org
GEO:47.576754;-122.206204
X-APPLE-STRUCTURED-LOCATION;VALUE=URI;X-ADDRESS=Stroum Jewish Community Center 3801 E Mercer Way Mercer Island WA United States;X-APPLE-RADIUS=500;X-TITLE=3801 E Mercer Way:geo:-122.206204,47.576754
END:VEVENT
BEGIN:VEVENT
DTSTART;TZID=America/Los_Angeles:20260705T081000
DTEND;TZID=America/Los_Angeles:20260705T091000
DTSTAMP:20260423T143802
CREATED:20251216T173745Z
LAST-MODIFIED:20260423T212408Z
UID:10022890-1783239000-1783242600@sjcc.org
SUMMARY:Fitness Class: Advanced H.I.R.T - Sunday
DESCRIPTION:Tuesday pool hours.
URL:https://sjcc.org/event/fitness-class-advanced-h-i-r-t-sunday-2/2026-07-05/
LOCATION:Stroum Jewish Community Center\, 3801 E Mercer Way\, Mercer Island\, WA\, United States
CATEGORIES:Advanced,Demographics: Adults,Demographics: Seniors (55+ better),Demographics: Young Adults,Exercise Studio,Fitness and Aquatics,Group Fitness Classes,Membership
ORGANIZER;CN="Stroum JCC":MAILTO:info@sjcc.org
GEO:47.576754;-122.206204
X-APPLE-STRUCTURED-LOCATION;VALUE=URI;X-ADDRESS=Stroum Jewish Community Center 3801 E Mercer Way Mercer Island WA United States;X-APPLE-RADIUS=500;X-TITLE=3801 E Mercer Way:geo:-122.206204,47.576754
END:VEVENT
BEGIN:VEVENT
DTSTART;TZID=America/Los_Angeles:20260705T092000
DTEND;TZID=America/Los_Angeles:20260705T102000
DTSTAMP:20260423T143802
CREATED:20251216T174120Z
LAST-MODIFIED:20260423T212152Z
UID:10022837-1783243200-1783246800@sjcc.org
SUMMARY:Fitness Class: Restorative Stretch - Sunday
DESCRIPTION:Tuesday pool hours.
URL:https://sjcc.org/event/fitness-class-restorative-stretch-sunday/2026-07-05/
LOCATION:Stroum Jewish Community Center\, 3801 E Mercer Way\, Mercer Island\, WA\, United States
CATEGORIES:Demographics: Adults,Demographics: Seniors (55+ better),Demographics: Young Adults,Exercise Studio,Fitness and Aquatics,Group Fitness Classes,Intermediate,Membership
ORGANIZER;CN="Stroum JCC":MAILTO:info@sjcc.org
GEO:47.576754;-122.206204
X-APPLE-STRUCTURED-LOCATION;VALUE=URI;X-ADDRESS=Stroum Jewish Community Center 3801 E Mercer Way Mercer Island WA United States;X-APPLE-RADIUS=500;X-TITLE=3801 E Mercer Way:geo:-122.206204,47.576754
END:VEVENT
BEGIN:VEVENT
DTSTART;TZID=America/Los_Angeles:20260705T103000
DTEND;TZID=America/Los_Angeles:20260705T113000
DTSTAMP:20260423T143802
CREATED:20251216T173718Z
LAST-MODIFIED:20260423T212620Z
UID:10022931-1783247400-1783251000@sjcc.org
SUMMARY:Fitness Class: Step Class - Sunday
DESCRIPTION:Tuesday pool hours.
URL:https://sjcc.org/event/fitness-class-step-class-sunday/2026-07-05/
LOCATION:Stroum Jewish Community Center\, 3801 E Mercer Way\, Mercer Island\, WA\, United States
CATEGORIES:Demographics: Adults,Demographics: Seniors (55+ better),Demographics: Young Adults,Exercise Studio,Fitness and Aquatics,Group Fitness Classes,Intermediate,Membership
ORGANIZER;CN="Stroum JCC":MAILTO:info@sjcc.org
GEO:47.576754;-122.206204
X-APPLE-STRUCTURED-LOCATION;VALUE=URI;X-ADDRESS=Stroum Jewish Community Center 3801 E Mercer Way Mercer Island WA United States;X-APPLE-RADIUS=500;X-TITLE=3801 E Mercer Way:geo:-122.206204,47.576754
END:VEVENT
BEGIN:VEVENT
DTSTART;TZID=America/Los_Angeles:20260706T083000
DTEND;TZID=America/Los_Angeles:20260706T093000
DTSTAMP:20260423T143802
CREATED:20251216T173216Z
LAST-MODIFIED:20260423T212721Z
UID:10022971-1783326600-1783330200@sjcc.org
SUMMARY:Fitness Class: Pilates
DESCRIPTION:Tuesday pool hours.
URL:https://sjcc.org/event/fitness-class-pilates-2/2026-07-06/
LOCATION:Stroum Jewish Community Center\, 3801 E Mercer Way\, Mercer Island\, WA\, United States
CATEGORIES:Demographics: Adults,Demographics: Seniors (55+ better),Demographics: Young Adults,Exercise Studio,Fitness and Aquatics,Group Fitness Classes,Intermediate
ORGANIZER;CN="Stroum JCC":MAILTO:info@sjcc.org
GEO:47.576754;-122.206204
X-APPLE-STRUCTURED-LOCATION;VALUE=URI;X-ADDRESS=Stroum Jewish Community Center 3801 E Mercer Way Mercer Island WA United States;X-APPLE-RADIUS=500;X-TITLE=3801 E Mercer Way:geo:-122.206204,47.576754
END:VEVENT
BEGIN:VEVENT
DTSTART;TZID=America/Los_Angeles:20260706T090000
DTEND;TZID=America/Los_Angeles:20260706T100000
DTSTAMP:20260423T143802
CREATED:20251216T174047Z
LAST-MODIFIED:20260423T212230Z
UID:10022861-1783328400-1783332000@sjcc.org
SUMMARY:Fitness Class: Aqua Fit
DESCRIPTION:Tuesday pool hours.
URL:https://sjcc.org/event/fitness-class-aqua-fit/2026-07-06/
LOCATION:Stroum Jewish Community Center\, 3801 E Mercer Way\, Mercer Island\, WA\, United States
CATEGORIES:Adults + Seniors,Beginner,Demographics: Adults,Demographics: Seniors (55+ better),Fitness and Aquatics,Group Fitness Classes,Membership,Pool,Swimming
ORGANIZER;CN="Stroum JCC":MAILTO:info@sjcc.org
GEO:47.576754;-122.206204
X-APPLE-STRUCTURED-LOCATION;VALUE=URI;X-ADDRESS=Stroum Jewish Community Center 3801 E Mercer Way Mercer Island WA United States;X-APPLE-RADIUS=500;X-TITLE=3801 E Mercer Way:geo:-122.206204,47.576754
END:VEVENT
BEGIN:VEVENT
DTSTART;TZID=America/Los_Angeles:20260706T094500
DTEND;TZID=America/Los_Angeles:20260706T104500
DTSTAMP:20260423T143802
CREATED:20251216T174415Z
LAST-MODIFIED:20260423T195159Z
UID:10022785-1783331100-1783334700@sjcc.org
SUMMARY:Fitness Class: Intermediate Bootcamp - Monday
DESCRIPTION:Tuesday pool hours.
URL:https://sjcc.org/event/fitness-class-intermediate-bootcamp-monday-2/2026-07-06/
LOCATION:Stroum Jewish Community Center\, 3801 E Mercer Way\, Mercer Island\, WA\, United States
CATEGORIES:Demographics: Adults,Demographics: Seniors (55+ better),Demographics: Young Adults,Exercise Studio,Fitness and Aquatics,Group Fitness Classes,Intermediate,Membership,Small Group at the J
ORGANIZER;CN="Stroum JCC":MAILTO:info@sjcc.org
GEO:47.576754;-122.206204
X-APPLE-STRUCTURED-LOCATION;VALUE=URI;X-ADDRESS=Stroum Jewish Community Center 3801 E Mercer Way Mercer Island WA United States;X-APPLE-RADIUS=500;X-TITLE=3801 E Mercer Way:geo:-122.206204,47.576754
END:VEVENT
BEGIN:VEVENT
DTSTART;TZID=America/Los_Angeles:20260706T110000
DTEND;TZID=America/Los_Angeles:20260706T120000
DTSTAMP:20260423T143802
CREATED:20260209T173452Z
LAST-MODIFIED:20260423T180202Z
UID:10022679-1783335600-1783339200@sjcc.org
SUMMARY:Fitness Class: Rock Steady Boxing Level 1/2
DESCRIPTION:Tuesday pool hours.
URL:https://sjcc.org/event/fitness-class-rock-steady-boxing-level-1-2/2026-07-06/
LOCATION:Stroum Jewish Community Center\, 3801 E Mercer Way\, Mercer Island\, WA\, United States
CATEGORIES:Beginner,Demographics: Adults,Demographics: Seniors (55+ better),Demographics: Young Adults,Exercise Studio,Fitness and Aquatics,Group Fitness Classes
ORGANIZER;CN="Stroum JCC":MAILTO:info@sjcc.org
GEO:47.576754;-122.206204
X-APPLE-STRUCTURED-LOCATION;VALUE=URI;X-ADDRESS=Stroum Jewish Community Center 3801 E Mercer Way Mercer Island WA United States;X-APPLE-RADIUS=500;X-TITLE=3801 E Mercer Way:geo:-122.206204,47.576754
END:VEVENT
BEGIN:VEVENT
DTSTART;TZID=America/Los_Angeles:20260706T121500
DTEND;TZID=America/Los_Angeles:20260706T131500
DTSTAMP:20260423T143802
CREATED:20260209T173739Z
LAST-MODIFIED:20260423T212949Z
UID:10023073-1783340100-1783343700@sjcc.org
SUMMARY:Fitness Class: Rock Steady Boxing Level 3/4
DESCRIPTION:Tuesday pool hours.
URL:https://sjcc.org/event/fitness-class-rock-steady-boxing-level-3-4/2026-07-06/
LOCATION:Stroum Jewish Community Center\, 3801 E Mercer Way\, Mercer Island\, WA\, United States
CATEGORIES:Beginner,Demographics: Adults,Demographics: Seniors (55+ better),Demographics: Young Adults,Exercise Studio,Fitness and Aquatics,Group Fitness Classes
ORGANIZER;CN="Stroum JCC":MAILTO:info@sjcc.org
GEO:47.576754;-122.206204
X-APPLE-STRUCTURED-LOCATION;VALUE=URI;X-ADDRESS=Stroum Jewish Community Center 3801 E Mercer Way Mercer Island WA United States;X-APPLE-RADIUS=500;X-TITLE=3801 E Mercer Way:geo:-122.206204,47.576754
END:VEVENT
BEGIN:VEVENT
DTSTART;TZID=America/Los_Angeles:20260706T174500
DTEND;TZID=America/Los_Angeles:20260706T183000
DTSTAMP:20260423T143802
CREATED:20251216T172740Z
LAST-MODIFIED:20260423T212820Z
UID:10023024-1783359900-1783362600@sjcc.org
SUMMARY:Fitness Class: Strength & Sweat
DESCRIPTION:Tuesday pool hours.
URL:https://sjcc.org/event/fitness-class-strength-sweat-2/2026-07-06/
LOCATION:Stroum Jewish Community Center\, 3801 E Mercer Way\, Mercer Island\, WA\, United States
CATEGORIES:Advanced,Demographics,Demographics: Adults,Demographics: Seniors (55+ better),Demographics: Young Adults,Fitness and Aquatics,Group Fitness Classes,Intermediate,Membership
ORGANIZER;CN="Stroum JCC":MAILTO:info@sjcc.org
GEO:47.576754;-122.206204
X-APPLE-STRUCTURED-LOCATION;VALUE=URI;X-ADDRESS=Stroum Jewish Community Center 3801 E Mercer Way Mercer Island WA United States;X-APPLE-RADIUS=500;X-TITLE=3801 E Mercer Way:geo:-122.206204,47.576754
END:VEVENT
BEGIN:VEVENT
DTSTART;TZID=America/Los_Angeles:20260707T080000
DTEND;TZID=America/Los_Angeles:20260707T090000
DTSTAMP:20260423T143802
CREATED:20260422T224631Z
LAST-MODIFIED:20260422T224631Z
UID:10022596-1783411200-1783414800@sjcc.org
SUMMARY:Fitness Class: Sprint Interval Training (SIT)
DESCRIPTION:Tuesday pool hours.
URL:https://sjcc.org/event/fitness-class-sprint-interval-training-sit-2/2026-07-07/
LOCATION:Stroum Jewish Community Center\, 3801 E Mercer Way\, Mercer Island\, WA\, United States
CATEGORIES:Demographics,Demographics: Adults,Demographics: Young Adults,Exercise Studio,Facilities,Fitness and Aquatics,Group Fitness Classes,Intermediate
ORGANIZER;CN="Stroum JCC":MAILTO:info@sjcc.org
GEO:47.576754;-122.206204
X-APPLE-STRUCTURED-LOCATION;VALUE=URI;X-ADDRESS=Stroum Jewish Community Center 3801 E Mercer Way Mercer Island WA United States;X-APPLE-RADIUS=500;X-TITLE=3801 E Mercer Way:geo:-122.206204,47.576754
END:VEVENT
BEGIN:VEVENT
DTSTART;TZID=America/Los_Angeles:20260707T083000
DTEND;TZID=America/Los_Angeles:20260707T093000
DTSTAMP:20260423T143802
CREATED:20251216T174616Z
LAST-MODIFIED:20260423T180324Z
UID:10022733-1783413000-1783416600@sjcc.org
SUMMARY:Fitness Class: TRX Suspension Training
DESCRIPTION:Tuesday pool hours.
URL:https://sjcc.org/event/fitness-class-trx-suspension-training-2/2026-07-07/
LOCATION:Stroum Jewish Community Center\, 3801 E Mercer Way\, Mercer Island\, WA\, United States
CATEGORIES:Demographics: Adults,Demographics: Young Adults,Exercise Studio,Fitness and Aquatics,Group Fitness Classes,Intermediate,Membership
ORGANIZER;CN="Stroum JCC":MAILTO:info@sjcc.org
GEO:47.576754;-122.206204
X-APPLE-STRUCTURED-LOCATION;VALUE=URI;X-ADDRESS=Stroum Jewish Community Center 3801 E Mercer Way Mercer Island WA United States;X-APPLE-RADIUS=500;X-TITLE=3801 E Mercer Way:geo:-122.206204,47.576754
END:VEVENT
BEGIN:VEVENT
DTSTART;TZID=America/Los_Angeles:20260707T090000
DTEND;TZID=America/Los_Angeles:20260707T100000
DTSTAMP:20260423T143802
CREATED:20260123T003133Z
LAST-MODIFIED:20260423T180303Z
UID:10022720-1783414800-1783418400@sjcc.org
SUMMARY:Fitness Class: Aqua Fit Strong
DESCRIPTION:Tuesday pool hours.
URL:https://sjcc.org/event/fitness-class-aqua-fit-strong/2026-07-07/
LOCATION:Stroum Jewish Community Center\, 3801 E Mercer Way\, Mercer Island\, WA\, United States
CATEGORIES:Adults + Seniors,Beginner,Demographics: Adults,Demographics: Seniors (55+ better),Fitness and Aquatics,Group Fitness Classes,Membership,Pool,Swimming
ORGANIZER;CN="Stroum JCC":MAILTO:info@sjcc.org
GEO:47.576754;-122.206204
X-APPLE-STRUCTURED-LOCATION;VALUE=URI;X-ADDRESS=Stroum Jewish Community Center 3801 E Mercer Way Mercer Island WA United States;X-APPLE-RADIUS=500;X-TITLE=3801 E Mercer Way:geo:-122.206204,47.576754
END:VEVENT
BEGIN:VEVENT
DTSTART;TZID=America/Los_Angeles:20260707T094500
DTEND;TZID=America/Los_Angeles:20260707T104500
DTSTAMP:20260423T143803
CREATED:20251216T174544Z
LAST-MODIFIED:20260423T194756Z
UID:10022751-1783417500-1783421100@sjcc.org
SUMMARY:Fitness Class: Body Fit
DESCRIPTION:Tuesday pool hours.
URL:https://sjcc.org/event/fitness-class-body-fit/2026-07-07/
LOCATION:Stroum Jewish Community Center\, 3801 E Mercer Way\, Mercer Island\, WA\, United States
CATEGORIES:Demographics: Adults,Demographics: Seniors (55+ better),Demographics: Young Adults,Exercise Studio,Fitness and Aquatics,Group Fitness Classes,Intermediate,Membership
ORGANIZER;CN="Stroum JCC":MAILTO:info@sjcc.org
GEO:47.576754;-122.206204
X-APPLE-STRUCTURED-LOCATION;VALUE=URI;X-ADDRESS=Stroum Jewish Community Center 3801 E Mercer Way Mercer Island WA United States;X-APPLE-RADIUS=500;X-TITLE=3801 E Mercer Way:geo:-122.206204,47.576754
END:VEVENT
BEGIN:VEVENT
DTSTART;TZID=America/Los_Angeles:20260707T100000
DTEND;TZID=America/Los_Angeles:20260707T110000
DTSTAMP:20260423T143803
CREATED:20251216T174224Z
LAST-MODIFIED:20260423T195307Z
UID:10022812-1783418400-1783422000@sjcc.org
SUMMARY:Fitness Class: Zumba
DESCRIPTION:Tuesday pool hours.
URL:https://sjcc.org/event/fitness-class-zumba-2/2026-07-07/
LOCATION:Stroum Jewish Community Center\, 3801 E Mercer Way\, Mercer Island\, WA\, United States
CATEGORIES:Demographics: Adults,Demographics: Seniors (55+ better),Demographics: Young Adults,Fitness and Aquatics,Group Fitness Classes,Intermediate,Membership
ORGANIZER;CN="Stroum JCC":MAILTO:info@sjcc.org
GEO:47.576754;-122.206204
X-APPLE-STRUCTURED-LOCATION;VALUE=URI;X-ADDRESS=Stroum Jewish Community Center 3801 E Mercer Way Mercer Island WA United States;X-APPLE-RADIUS=500;X-TITLE=3801 E Mercer Way:geo:-122.206204,47.576754
END:VEVENT
BEGIN:VEVENT
DTSTART;TZID=America/Los_Angeles:20260707T110000
DTEND;TZID=America/Los_Angeles:20260707T120000
DTSTAMP:20260423T143803
CREATED:20251216T173527Z
LAST-MODIFIED:20260423T212658Z
UID:10022958-1783422000-1783425600@sjcc.org
SUMMARY:Fitness Class: Senior Strong
DESCRIPTION:Tuesday pool hours.
URL:https://sjcc.org/event/fitness-class-senior-strong-2/2026-07-07/
LOCATION:Stroum Jewish Community Center\, 3801 E Mercer Way\, Mercer Island\, WA\, United States
CATEGORIES:Adults + Seniors,Beginner,Demographics: Adults,Demographics: Seniors (55+ better),Demographics: Young Adults,Exercise Studio,Fitness and Aquatics,Group Fitness Classes,Membership,Senior Fitness
ORGANIZER;CN="Stroum JCC":MAILTO:info@sjcc.org
GEO:47.576754;-122.206204
X-APPLE-STRUCTURED-LOCATION;VALUE=URI;X-ADDRESS=Stroum Jewish Community Center 3801 E Mercer Way Mercer Island WA United States;X-APPLE-RADIUS=500;X-TITLE=3801 E Mercer Way:geo:-122.206204,47.576754
END:VEVENT
BEGIN:VEVENT
DTSTART;TZID=America/Los_Angeles:20260707T163000
DTEND;TZID=America/Los_Angeles:20260707T173000
DTSTAMP:20260423T143803
CREATED:20251216T172820Z
LAST-MODIFIED:20260423T212805Z
UID:10023003-1783441800-1783445400@sjcc.org
SUMMARY:Fitness Class: H.I.R.T - T/TH
DESCRIPTION:Tuesday pool hours.
URL:https://sjcc.org/event/fitness-class-h-i-r-t-t-th/2026-07-07/
LOCATION:Stroum Jewish Community Center\, 3801 E Mercer Way\, Mercer Island\, WA\, United States
CATEGORIES:Demographics: Adults,Demographics: Seniors (55+ better),Demographics: Young Adults,Exercise Studio,Fitness and Aquatics,Group Fitness Classes,Intermediate,Membership
ORGANIZER;CN="Stroum JCC":MAILTO:info@sjcc.org
GEO:47.576754;-122.206204
X-APPLE-STRUCTURED-LOCATION;VALUE=URI;X-ADDRESS=Stroum Jewish Community Center 3801 E Mercer Way Mercer Island WA United States;X-APPLE-RADIUS=500;X-TITLE=3801 E Mercer Way:geo:-122.206204,47.576754
END:VEVENT
BEGIN:VEVENT
DTSTART;TZID=America/Los_Angeles:20260708T083000
DTEND;TZID=America/Los_Angeles:20260708T093000
DTSTAMP:20260423T143803
CREATED:20251216T174339Z
LAST-MODIFIED:20260423T195241Z
UID:10022799-1783499400-1783503000@sjcc.org
SUMMARY:Fitness Class: Advanced Bootcamp - Wednesday
DESCRIPTION:Tuesday pool hours.
URL:https://sjcc.org/event/fitness-class-advanced-bootcamp-wednesday/2026-07-08/
LOCATION:Stroum Jewish Community Center\, 3801 E Mercer Way\, Mercer Island\, WA\, United States
CATEGORIES:Advanced,Demographics: Adults,Demographics: Seniors (55+ better),Demographics: Young Adults,Exercise Studio,Fitness and Aquatics,Group Fitness Classes,Membership,Virtual SJCC
ORGANIZER;CN="Stroum JCC":MAILTO:info@sjcc.org
GEO:47.576754;-122.206204
X-APPLE-STRUCTURED-LOCATION;VALUE=URI;X-ADDRESS=Stroum Jewish Community Center 3801 E Mercer Way Mercer Island WA United States;X-APPLE-RADIUS=500;X-TITLE=3801 E Mercer Way:geo:-122.206204,47.576754
END:VEVENT
BEGIN:VEVENT
DTSTART;TZID=America/Los_Angeles:20260708T090000
DTEND;TZID=America/Los_Angeles:20260708T100000
DTSTAMP:20260423T143803
CREATED:20251216T174047Z
LAST-MODIFIED:20260423T212230Z
UID:10022862-1783501200-1783504800@sjcc.org
SUMMARY:Fitness Class: Aqua Fit
DESCRIPTION:Tuesday pool hours.
URL:https://sjcc.org/event/fitness-class-aqua-fit/2026-07-08/
LOCATION:Stroum Jewish Community Center\, 3801 E Mercer Way\, Mercer Island\, WA\, United States
CATEGORIES:Adults + Seniors,Beginner,Demographics: Adults,Demographics: Seniors (55+ better),Fitness and Aquatics,Group Fitness Classes,Membership,Pool,Swimming
ORGANIZER;CN="Stroum JCC":MAILTO:info@sjcc.org
GEO:47.576754;-122.206204
X-APPLE-STRUCTURED-LOCATION;VALUE=URI;X-ADDRESS=Stroum Jewish Community Center 3801 E Mercer Way Mercer Island WA United States;X-APPLE-RADIUS=500;X-TITLE=3801 E Mercer Way:geo:-122.206204,47.576754
END:VEVENT
BEGIN:VEVENT
DTSTART;TZID=America/Los_Angeles:20260708T094500
DTEND;TZID=America/Los_Angeles:20260708T104500
DTSTAMP:20260423T143803
CREATED:20251216T174507Z
LAST-MODIFIED:20260423T194905Z
UID:10022772-1783503900-1783507500@sjcc.org
SUMMARY:Fitness Class: Restorative Stretch - Wednesday
DESCRIPTION:Tuesday pool hours.
URL:https://sjcc.org/event/fitness-class-restorative-stretch-wednesday/2026-07-08/
LOCATION:Stroum Jewish Community Center\, 3801 E Mercer Way\, Mercer Island\, WA\, United States
CATEGORIES:Demographics: Adults,Demographics: Seniors (55+ better),Demographics: Young Adults,Exercise Studio,Fitness and Aquatics,Group Fitness Classes,Intermediate,Membership,Small Group at the J
ORGANIZER;CN="Stroum JCC":MAILTO:info@sjcc.org
GEO:47.576754;-122.206204
X-APPLE-STRUCTURED-LOCATION;VALUE=URI;X-ADDRESS=Stroum Jewish Community Center 3801 E Mercer Way Mercer Island WA United States;X-APPLE-RADIUS=500;X-TITLE=3801 E Mercer Way:geo:-122.206204,47.576754
END:VEVENT
BEGIN:VEVENT
DTSTART;TZID=America/Los_Angeles:20260708T110000
DTEND;TZID=America/Los_Angeles:20260708T120000
DTSTAMP:20260423T143803
CREATED:20251216T172546Z
LAST-MODIFIED:20260423T212855Z
UID:10023051-1783508400-1783512000@sjcc.org
SUMMARY:Fitness Class: Chair Yoga
DESCRIPTION:Tuesday pool hours.
URL:https://sjcc.org/event/fitness-class-chair-yoga-2/2026-07-08/
LOCATION:Stroum Jewish Community Center\, 3801 E Mercer Way\, Mercer Island\, WA\, United States
CATEGORIES:Adults + Seniors,Demographics: Adults,Demographics: Seniors (55+ better),Exercise Studio,Fitness and Aquatics,Group Fitness Classes,Intermediate,Membership
ORGANIZER;CN="Stroum JCC":MAILTO:info@sjcc.org
GEO:47.576754;-122.206204
X-APPLE-STRUCTURED-LOCATION;VALUE=URI;X-ADDRESS=Stroum Jewish Community Center 3801 E Mercer Way Mercer Island WA United States;X-APPLE-RADIUS=500;X-TITLE=3801 E Mercer Way:geo:-122.206204,47.576754
END:VEVENT
BEGIN:VEVENT
DTSTART;TZID=America/Los_Angeles:20260708T110000
DTEND;TZID=America/Los_Angeles:20260708T120000
DTSTAMP:20260423T143803
CREATED:20260209T173452Z
LAST-MODIFIED:20260423T180202Z
UID:10022680-1783508400-1783512000@sjcc.org
SUMMARY:Fitness Class: Rock Steady Boxing Level 1/2
DESCRIPTION:Tuesday pool hours.
URL:https://sjcc.org/event/fitness-class-rock-steady-boxing-level-1-2/2026-07-08/
LOCATION:Stroum Jewish Community Center\, 3801 E Mercer Way\, Mercer Island\, WA\, United States
CATEGORIES:Beginner,Demographics: Adults,Demographics: Seniors (55+ better),Demographics: Young Adults,Exercise Studio,Fitness and Aquatics,Group Fitness Classes
ORGANIZER;CN="Stroum JCC":MAILTO:info@sjcc.org
GEO:47.576754;-122.206204
X-APPLE-STRUCTURED-LOCATION;VALUE=URI;X-ADDRESS=Stroum Jewish Community Center 3801 E Mercer Way Mercer Island WA United States;X-APPLE-RADIUS=500;X-TITLE=3801 E Mercer Way:geo:-122.206204,47.576754
END:VEVENT
BEGIN:VEVENT
DTSTART;TZID=America/Los_Angeles:20260708T121500
DTEND;TZID=America/Los_Angeles:20260708T131500
DTSTAMP:20260423T143803
CREATED:20260209T173739Z
LAST-MODIFIED:20260423T212949Z
UID:10023074-1783512900-1783516500@sjcc.org
SUMMARY:Fitness Class: Rock Steady Boxing Level 3/4
DESCRIPTION:Tuesday pool hours.
URL:https://sjcc.org/event/fitness-class-rock-steady-boxing-level-3-4/2026-07-08/
LOCATION:Stroum Jewish Community Center\, 3801 E Mercer Way\, Mercer Island\, WA\, United States
CATEGORIES:Beginner,Demographics: Adults,Demographics: Seniors (55+ better),Demographics: Young Adults,Exercise Studio,Fitness and Aquatics,Group Fitness Classes
ORGANIZER;CN="Stroum JCC":MAILTO:info@sjcc.org
GEO:47.576754;-122.206204
X-APPLE-STRUCTURED-LOCATION;VALUE=URI;X-ADDRESS=Stroum Jewish Community Center 3801 E Mercer Way Mercer Island WA United States;X-APPLE-RADIUS=500;X-TITLE=3801 E Mercer Way:geo:-122.206204,47.576754
END:VEVENT
BEGIN:VEVENT
DTSTART;TZID=America/Los_Angeles:20260709T083000
DTEND;TZID=America/Los_Angeles:20260709T093000
DTSTAMP:20260423T143803
CREATED:20251216T174154Z
LAST-MODIFIED:20260423T195433Z
UID:10022825-1783585800-1783589400@sjcc.org
SUMMARY:Fitness Class: Step Class - Thursday
DESCRIPTION:Tuesday pool hours.
URL:https://sjcc.org/event/fitness-class-step-class-thursday-2/2026-07-09/
LOCATION:Stroum Jewish Community Center\, 3801 E Mercer Way\, Mercer Island\, WA\, United States
CATEGORIES:Demographics: Adults,Demographics: Seniors (55+ better),Demographics: Young Adults,Exercise Studio,Fitness and Aquatics,Group Fitness Classes,Membership,Small Group at the J
ORGANIZER;CN="Stroum JCC":MAILTO:info@sjcc.org
GEO:47.576754;-122.206204
X-APPLE-STRUCTURED-LOCATION;VALUE=URI;X-ADDRESS=Stroum Jewish Community Center 3801 E Mercer Way Mercer Island WA United States;X-APPLE-RADIUS=500;X-TITLE=3801 E Mercer Way:geo:-122.206204,47.576754
END:VEVENT
END:VCALENDAR