BEGIN:VCALENDAR
VERSION:2.0
PRODID:-//Stroum Jewish Community Center of Greater Seattle - ECPv6.15.20//NONSGML v1.0//EN
CALSCALE:GREGORIAN
METHOD:PUBLISH
X-WR-CALNAME:Stroum Jewish Community Center of Greater Seattle
X-ORIGINAL-URL:https://sjcc.org
X-WR-CALDESC:Events for Stroum Jewish Community Center of Greater Seattle
REFRESH-INTERVAL;VALUE=DURATION:PT1H
X-Robots-Tag:noindex
X-PUBLISHED-TTL:PT1H
BEGIN:VTIMEZONE
TZID:America/Los_Angeles
BEGIN:DAYLIGHT
TZOFFSETFROM:-0800
TZOFFSETTO:-0700
TZNAME:PDT
DTSTART:20250309T100000
END:DAYLIGHT
BEGIN:STANDARD
TZOFFSETFROM:-0700
TZOFFSETTO:-0800
TZNAME:PST
DTSTART:20251102T090000
END:STANDARD
BEGIN:DAYLIGHT
TZOFFSETFROM:-0800
TZOFFSETTO:-0700
TZNAME:PDT
DTSTART:20260308T100000
END:DAYLIGHT
BEGIN:STANDARD
TZOFFSETFROM:-0700
TZOFFSETTO:-0800
TZNAME:PST
DTSTART:20261101T090000
END:STANDARD
BEGIN:DAYLIGHT
TZOFFSETFROM:-0800
TZOFFSETTO:-0700
TZNAME:PDT
DTSTART:20270314T100000
END:DAYLIGHT
BEGIN:STANDARD
TZOFFSETFROM:-0700
TZOFFSETTO:-0800
TZNAME:PST
DTSTART:20271107T090000
END:STANDARD
END:VTIMEZONE
BEGIN:VEVENT
DTSTART;TZID=America/Los_Angeles:20260605T061500
DTEND;TZID=America/Los_Angeles:20260605T071500
DTSTAMP:20260423T130953
CREATED:20260422T222537Z
LAST-MODIFIED:20260422T224405Z
UID:10022569-1780640100-1780643700@sjcc.org
SUMMARY:Fitness Class: Yoga Sculpt
DESCRIPTION:Saturday pool hours.
URL:https://sjcc.org/event/fitness-class-yoga-sculpt-2/2026-06-05/
LOCATION:Stroum Jewish Community Center\, 3801 E Mercer Way\, Mercer Island\, WA\, United States
CATEGORIES:Clinics + Workshops,Demographics,Demographics: Adults,Demographics: Seniors (55+ better),Demographics: Young Adults,Exercise Studio,Facilities,Fitness and Aquatics,Group Fitness Classes,Intermediate
ORGANIZER;CN="Stroum JCC":MAILTO:info@sjcc.org
GEO:47.576754;-122.206204
X-APPLE-STRUCTURED-LOCATION;VALUE=URI;X-ADDRESS=Stroum Jewish Community Center 3801 E Mercer Way Mercer Island WA United States;X-APPLE-RADIUS=500;X-TITLE=3801 E Mercer Way:geo:-122.206204,47.576754
END:VEVENT
BEGIN:VEVENT
DTSTART;TZID=America/Los_Angeles:20260605T094500
DTEND;TZID=America/Los_Angeles:20260605T103000
DTSTAMP:20260423T130953
CREATED:20250827T213250Z
LAST-MODIFIED:20260113T193447Z
UID:10017920-1780652700-1780655400@sjcc.org
SUMMARY:Tot Shabbat
DESCRIPTION:Saturday pool hours.
URL:https://sjcc.org/event/tot-shabbat-2-2/2026-06-05/
LOCATION:Stroum Jewish Community Center\, 3801 E Mercer Way\, Mercer Island\, WA\, United States
CATEGORIES:Demographics: Early Childhood (Birth to 5 yrs),Demographics: Families,Holiday Programs,J Community,Jewish Life,Kids: Grades K to 5th,Tot Shabbat
ATTACH;FMTTYPE=image/jpeg:https://sjcc.org/wp-content/uploads/2025/07/250710-tot-shabbat-EVENT-1200.jpg
ORGANIZER;CN="Stroum JCC":MAILTO:info@sjcc.org
GEO:47.576754;-122.206204
X-APPLE-STRUCTURED-LOCATION;VALUE=URI;X-ADDRESS=Stroum Jewish Community Center 3801 E Mercer Way Mercer Island WA United States;X-APPLE-RADIUS=500;X-TITLE=3801 E Mercer Way:geo:-122.206204,47.576754
END:VEVENT
BEGIN:VEVENT
DTSTART;TZID=America/Los_Angeles:20260605T110000
DTEND;TZID=America/Los_Angeles:20260605T120000
DTSTAMP:20260423T130953
CREATED:20260209T173452Z
LAST-MODIFIED:20260423T180202Z
UID:10022666-1780657200-1780660800@sjcc.org
SUMMARY:Fitness Class: Rock Steady Boxing Level 1/2
DESCRIPTION:Saturday pool hours.
URL:https://sjcc.org/event/fitness-class-rock-steady-boxing-level-1-2/2026-06-05/
LOCATION:Stroum Jewish Community Center\, 3801 E Mercer Way\, Mercer Island\, WA\, United States
CATEGORIES:Beginner,Demographics: Adults,Demographics: Seniors (55+ better),Demographics: Young Adults,Exercise Studio,Fitness and Aquatics,Group Fitness Classes
ORGANIZER;CN="Stroum JCC":MAILTO:info@sjcc.org
GEO:47.576754;-122.206204
X-APPLE-STRUCTURED-LOCATION;VALUE=URI;X-ADDRESS=Stroum Jewish Community Center 3801 E Mercer Way Mercer Island WA United States;X-APPLE-RADIUS=500;X-TITLE=3801 E Mercer Way:geo:-122.206204,47.576754
END:VEVENT
BEGIN:VEVENT
DTSTART;TZID=America/Los_Angeles:20260605T130000
DTEND;TZID=America/Los_Angeles:20260605T150000
DTSTAMP:20260423T130953
CREATED:20251117T220058Z
LAST-MODIFIED:20251117T220058Z
UID:10018812-1780664400-1780671600@sjcc.org
SUMMARY:Monthly Challah Bake
DESCRIPTION:Saturday pool hours.
URL:https://sjcc.org/event/monthly-challah-bake-6-5/
LOCATION:Stroum Jewish Community Center\, 3801 E Mercer Way\, Mercer Island\, WA\, United States
CATEGORIES:Adult Gatherings,Adults + Seniors,Demographics: Adults,Demographics: Families,Demographics: Seniors (55+ better),Demographics: Young Adults,Family Programs,Holiday Programs,J Community,Jewish Life,Kitchen,Young Adult Programs
ATTACH;FMTTYPE=image/jpeg:https://sjcc.org/wp-content/uploads/2025/11/260605-monthly-challah-bakes-EVENT-1200.jpg
ORGANIZER;CN="Stroum JCC":MAILTO:info@sjcc.org
GEO:47.576754;-122.206204
X-APPLE-STRUCTURED-LOCATION;VALUE=URI;X-ADDRESS=Stroum Jewish Community Center 3801 E Mercer Way Mercer Island WA United States;X-APPLE-RADIUS=500;X-TITLE=3801 E Mercer Way:geo:-122.206204,47.576754
END:VEVENT
BEGIN:VEVENT
DTSTART;TZID=America/Los_Angeles:20260606T080000
DTEND;TZID=America/Los_Angeles:20260606T164500
DTSTAMP:20260423T130953
CREATED:20260326T210805Z
LAST-MODIFIED:20260326T210805Z
UID:10022422-1780732800-1780764300@sjcc.org
SUMMARY:Saturday Pool Hours
DESCRIPTION:Saturday pool hours.
URL:https://sjcc.org/event/saturday-pool-hours-2/2026-06-06/
LOCATION:Stroum Jewish Community Center\, 3801 E Mercer Way\, Mercer Island\, WA\, United States
CATEGORIES:Fitness and Aquatics,Pool,Swimming
ORGANIZER;CN="Stroum JCC":MAILTO:info@sjcc.org
GEO:47.576754;-122.206204
X-APPLE-STRUCTURED-LOCATION;VALUE=URI;X-ADDRESS=Stroum Jewish Community Center 3801 E Mercer Way Mercer Island WA United States;X-APPLE-RADIUS=500;X-TITLE=3801 E Mercer Way:geo:-122.206204,47.576754
END:VEVENT
BEGIN:VEVENT
DTSTART;TZID=America/Los_Angeles:20260606T200000
DTEND;TZID=America/Los_Angeles:20260606T213000
DTSTAMP:20260423T130953
CREATED:20250916T201233Z
LAST-MODIFIED:20251024T184710Z
UID:10018086-1780776000-1780781400@sjcc.org
SUMMARY:Comedian Jon Fisch
DESCRIPTION:Saturday pool hours.
URL:https://sjcc.org/event/comedian-jon-fisch/
LOCATION:Stroum Jewish Community Center\, 3801 E Mercer Way\, Mercer Island\, WA\, United States
CATEGORIES:Adult Gatherings,Adults + Seniors,Arts + Ideas,Arts Featured Events,Comedy,Demographics: Adults,Demographics: Seniors (55+ better),Demographics: Young Adults,J Community,Jewish Life,Young Adult Programs
ATTACH;FMTTYPE=image/jpeg:https://sjcc.org/wp-content/uploads/2025/09/260606-comedy-fisch-EVENT-1200.jpg
ORGANIZER;CN="Stroum JCC":MAILTO:info@sjcc.org
GEO:47.576754;-122.206204
X-APPLE-STRUCTURED-LOCATION;VALUE=URI;X-ADDRESS=Stroum Jewish Community Center 3801 E Mercer Way Mercer Island WA United States;X-APPLE-RADIUS=500;X-TITLE=3801 E Mercer Way:geo:-122.206204,47.576754
END:VEVENT
BEGIN:VEVENT
DTSTART;TZID=America/Los_Angeles:20260607T080000
DTEND;TZID=America/Los_Angeles:20260607T164500
DTSTAMP:20260423T130953
CREATED:20260326T210848Z
LAST-MODIFIED:20260326T210848Z
UID:10022431-1780819200-1780850700@sjcc.org
SUMMARY:Sunday Pool Hours
DESCRIPTION:Saturday pool hours.
URL:https://sjcc.org/event/sunday-pool-hours-2/2026-06-07/
LOCATION:Stroum Jewish Community Center\, 3801 E Mercer Way\, Mercer Island\, WA\, United States
CATEGORIES:Fitness and Aquatics,Pool,Swimming
ORGANIZER;CN="Stroum JCC":MAILTO:info@sjcc.org
GEO:47.576754;-122.206204
X-APPLE-STRUCTURED-LOCATION;VALUE=URI;X-ADDRESS=Stroum Jewish Community Center 3801 E Mercer Way Mercer Island WA United States;X-APPLE-RADIUS=500;X-TITLE=3801 E Mercer Way:geo:-122.206204,47.576754
END:VEVENT
BEGIN:VEVENT
DTSTART;TZID=America/Los_Angeles:20260608T060000
DTEND;TZID=America/Los_Angeles:20260608T204500
DTSTAMP:20260423T130953
CREATED:20260326T210459Z
LAST-MODIFIED:20260326T210459Z
UID:10022401-1780898400-1780951500@sjcc.org
SUMMARY:Monday Pool Hours
DESCRIPTION:Saturday pool hours.
URL:https://sjcc.org/event/monday-pool-hours-2/2026-06-08/
LOCATION:Stroum Jewish Community Center\, 3801 E Mercer Way\, Mercer Island\, WA\, United States
CATEGORIES:Fitness and Aquatics,Pool,Swimming
ORGANIZER;CN="Stroum JCC":MAILTO:info@sjcc.org
GEO:47.576754;-122.206204
X-APPLE-STRUCTURED-LOCATION;VALUE=URI;X-ADDRESS=Stroum Jewish Community Center 3801 E Mercer Way Mercer Island WA United States;X-APPLE-RADIUS=500;X-TITLE=3801 E Mercer Way:geo:-122.206204,47.576754
END:VEVENT
BEGIN:VEVENT
DTSTART;TZID=America/Los_Angeles:20260608T094500
DTEND;TZID=America/Los_Angeles:20260608T104500
DTSTAMP:20260423T130953
CREATED:20251216T174415Z
LAST-MODIFIED:20260423T195159Z
UID:10022781-1780911900-1780915500@sjcc.org
SUMMARY:Fitness Class: Intermediate Bootcamp - Monday
DESCRIPTION:Saturday pool hours.
URL:https://sjcc.org/event/fitness-class-intermediate-bootcamp-monday-2/2026-06-08/
LOCATION:Stroum Jewish Community Center\, 3801 E Mercer Way\, Mercer Island\, WA\, United States
CATEGORIES:Demographics: Adults,Demographics: Seniors (55+ better),Demographics: Young Adults,Exercise Studio,Fitness and Aquatics,Group Fitness Classes,Intermediate,Membership,Small Group at the J
ORGANIZER;CN="Stroum JCC":MAILTO:info@sjcc.org
GEO:47.576754;-122.206204
X-APPLE-STRUCTURED-LOCATION;VALUE=URI;X-ADDRESS=Stroum Jewish Community Center 3801 E Mercer Way Mercer Island WA United States;X-APPLE-RADIUS=500;X-TITLE=3801 E Mercer Way:geo:-122.206204,47.576754
END:VEVENT
BEGIN:VEVENT
DTSTART;TZID=America/Los_Angeles:20260608T110000
DTEND;TZID=America/Los_Angeles:20260608T120000
DTSTAMP:20260423T130953
CREATED:20260209T173452Z
LAST-MODIFIED:20260423T180202Z
UID:10022667-1780916400-1780920000@sjcc.org
SUMMARY:Fitness Class: Rock Steady Boxing Level 1/2
DESCRIPTION:Saturday pool hours.
URL:https://sjcc.org/event/fitness-class-rock-steady-boxing-level-1-2/2026-06-08/
LOCATION:Stroum Jewish Community Center\, 3801 E Mercer Way\, Mercer Island\, WA\, United States
CATEGORIES:Beginner,Demographics: Adults,Demographics: Seniors (55+ better),Demographics: Young Adults,Exercise Studio,Fitness and Aquatics,Group Fitness Classes
ORGANIZER;CN="Stroum JCC":MAILTO:info@sjcc.org
GEO:47.576754;-122.206204
X-APPLE-STRUCTURED-LOCATION;VALUE=URI;X-ADDRESS=Stroum Jewish Community Center 3801 E Mercer Way Mercer Island WA United States;X-APPLE-RADIUS=500;X-TITLE=3801 E Mercer Way:geo:-122.206204,47.576754
END:VEVENT
BEGIN:VEVENT
DTSTART;TZID=America/Los_Angeles:20260608T130000
DTEND;TZID=America/Los_Angeles:20260608T150000
DTSTAMP:20260423T130953
CREATED:20260219T184640Z
LAST-MODIFIED:20260219T184640Z
UID:10021433-1780923600-1780930800@sjcc.org
SUMMARY:Daytime Drop-In Mahjong
DESCRIPTION:Saturday pool hours.
URL:https://sjcc.org/event/daytime-drop-in-mahjong/2026-06-08/
LOCATION:Stroum Jewish Community Center\, 3801 E Mercer Way\, Mercer Island\, WA\, United States
CATEGORIES:Adult Games,Adults + Seniors,Demographics,Demographics: Adults,Demographics: Seniors (55+ better),J Community
ATTACH;FMTTYPE=image/jpeg:https://sjcc.org/wp-content/uploads/2025/12/2026-mahjong-generic-EVENT-1200.jpg
ORGANIZER;CN="Stroum JCC":MAILTO:info@sjcc.org
GEO:47.576754;-122.206204
X-APPLE-STRUCTURED-LOCATION;VALUE=URI;X-ADDRESS=Stroum Jewish Community Center 3801 E Mercer Way Mercer Island WA United States;X-APPLE-RADIUS=500;X-TITLE=3801 E Mercer Way:geo:-122.206204,47.576754
END:VEVENT
BEGIN:VEVENT
DTSTART;TZID=America/Los_Angeles:20260608T180000
DTEND;TZID=America/Los_Angeles:20260608T203000
DTSTAMP:20260423T130953
CREATED:20251118T221639Z
LAST-MODIFIED:20251118T221639Z
UID:10018824-1780941600-1780950600@sjcc.org
SUMMARY:June Beginning Mahjong Class
DESCRIPTION:Saturday pool hours.
URL:https://sjcc.org/event/june-beginning-mahjong-class-2/
LOCATION:Stroum Jewish Community Center\, 3801 E Mercer Way\, Mercer Island\, WA\, United States
CATEGORIES:Adult Classes,Adult Games,Adults + Seniors,Demographics: Adults,Demographics: Seniors (55+ better),J Community,Jewish Life
ATTACH;FMTTYPE=image/jpeg:https://sjcc.org/wp-content/uploads/2025/11/260209-beginner-mahjong-EVENT-1200.jpg
GEO:47.576754;-122.206204
X-APPLE-STRUCTURED-LOCATION;VALUE=URI;X-ADDRESS=Stroum Jewish Community Center 3801 E Mercer Way Mercer Island WA United States;X-APPLE-RADIUS=500;X-TITLE=3801 E Mercer Way:geo:-122.206204,47.576754
END:VEVENT
BEGIN:VEVENT
DTSTART;TZID=America/Los_Angeles:20260609T060000
DTEND;TZID=America/Los_Angeles:20260609T204500
DTSTAMP:20260423T130953
CREATED:20260326T210342Z
LAST-MODIFIED:20260326T210342Z
UID:10022392-1780984800-1781037900@sjcc.org
SUMMARY:Tuesday Pool Hours
DESCRIPTION:Saturday pool hours.
URL:https://sjcc.org/event/tuesday-pool-hours-2/2026-06-09/
LOCATION:Stroum Jewish Community Center\, 3801 E Mercer Way\, Mercer Island\, WA\, United States
CATEGORIES:Fitness and Aquatics,Pool,Swimming
ORGANIZER;CN="Stroum JCC":MAILTO:info@sjcc.org
GEO:47.576754;-122.206204
X-APPLE-STRUCTURED-LOCATION;VALUE=URI;X-ADDRESS=Stroum Jewish Community Center 3801 E Mercer Way Mercer Island WA United States;X-APPLE-RADIUS=500;X-TITLE=3801 E Mercer Way:geo:-122.206204,47.576754
END:VEVENT
BEGIN:VEVENT
DTSTART;TZID=America/Los_Angeles:20260609T080000
DTEND;TZID=America/Los_Angeles:20260609T090000
DTSTAMP:20260423T130953
CREATED:20260422T224631Z
LAST-MODIFIED:20260422T224631Z
UID:10022592-1780992000-1780995600@sjcc.org
SUMMARY:Fitness Class: Sprint Interval Training (SIT)
DESCRIPTION:Saturday pool hours.
URL:https://sjcc.org/event/fitness-class-sprint-interval-training-sit-2/2026-06-09/
LOCATION:Stroum Jewish Community Center\, 3801 E Mercer Way\, Mercer Island\, WA\, United States
CATEGORIES:Demographics,Demographics: Adults,Demographics: Young Adults,Exercise Studio,Facilities,Fitness and Aquatics,Group Fitness Classes,Intermediate
ORGANIZER;CN="Stroum JCC":MAILTO:info@sjcc.org
GEO:47.576754;-122.206204
X-APPLE-STRUCTURED-LOCATION;VALUE=URI;X-ADDRESS=Stroum Jewish Community Center 3801 E Mercer Way Mercer Island WA United States;X-APPLE-RADIUS=500;X-TITLE=3801 E Mercer Way:geo:-122.206204,47.576754
END:VEVENT
BEGIN:VEVENT
DTSTART;TZID=America/Los_Angeles:20260609T083000
DTEND;TZID=America/Los_Angeles:20260609T093000
DTSTAMP:20260423T130953
CREATED:20251216T174616Z
LAST-MODIFIED:20260423T180324Z
UID:10022729-1780993800-1780997400@sjcc.org
SUMMARY:Fitness Class: TRX Suspension Training
DESCRIPTION:Saturday pool hours.
URL:https://sjcc.org/event/fitness-class-trx-suspension-training-2/2026-06-09/
LOCATION:Stroum Jewish Community Center\, 3801 E Mercer Way\, Mercer Island\, WA\, United States
CATEGORIES:Demographics: Adults,Demographics: Young Adults,Exercise Studio,Fitness and Aquatics,Group Fitness Classes,Intermediate,Membership
ORGANIZER;CN="Stroum JCC":MAILTO:info@sjcc.org
GEO:47.576754;-122.206204
X-APPLE-STRUCTURED-LOCATION;VALUE=URI;X-ADDRESS=Stroum Jewish Community Center 3801 E Mercer Way Mercer Island WA United States;X-APPLE-RADIUS=500;X-TITLE=3801 E Mercer Way:geo:-122.206204,47.576754
END:VEVENT
BEGIN:VEVENT
DTSTART;TZID=America/Los_Angeles:20260609T090000
DTEND;TZID=America/Los_Angeles:20260609T100000
DTSTAMP:20260423T130953
CREATED:20260123T003133Z
LAST-MODIFIED:20260423T180303Z
UID:10022716-1780995600-1780999200@sjcc.org
SUMMARY:Fitness Class: Aqua Fit Strong
DESCRIPTION:Saturday pool hours.
URL:https://sjcc.org/event/fitness-class-aqua-fit-strong/2026-06-09/
LOCATION:Stroum Jewish Community Center\, 3801 E Mercer Way\, Mercer Island\, WA\, United States
CATEGORIES:Adults + Seniors,Beginner,Demographics: Adults,Demographics: Seniors (55+ better),Fitness and Aquatics,Group Fitness Classes,Membership,Pool,Swimming
ORGANIZER;CN="Stroum JCC":MAILTO:info@sjcc.org
GEO:47.576754;-122.206204
X-APPLE-STRUCTURED-LOCATION;VALUE=URI;X-ADDRESS=Stroum Jewish Community Center 3801 E Mercer Way Mercer Island WA United States;X-APPLE-RADIUS=500;X-TITLE=3801 E Mercer Way:geo:-122.206204,47.576754
END:VEVENT
BEGIN:VEVENT
DTSTART;TZID=America/Los_Angeles:20260609T094500
DTEND;TZID=America/Los_Angeles:20260609T104500
DTSTAMP:20260423T130953
CREATED:20251216T174544Z
LAST-MODIFIED:20260423T194756Z
UID:10022743-1780998300-1781001900@sjcc.org
SUMMARY:Fitness Class: Body Fit
DESCRIPTION:Saturday pool hours.
URL:https://sjcc.org/event/fitness-class-body-fit/2026-06-09/
LOCATION:Stroum Jewish Community Center\, 3801 E Mercer Way\, Mercer Island\, WA\, United States
CATEGORIES:Demographics: Adults,Demographics: Seniors (55+ better),Demographics: Young Adults,Exercise Studio,Fitness and Aquatics,Group Fitness Classes,Intermediate,Membership
ORGANIZER;CN="Stroum JCC":MAILTO:info@sjcc.org
GEO:47.576754;-122.206204
X-APPLE-STRUCTURED-LOCATION;VALUE=URI;X-ADDRESS=Stroum Jewish Community Center 3801 E Mercer Way Mercer Island WA United States;X-APPLE-RADIUS=500;X-TITLE=3801 E Mercer Way:geo:-122.206204,47.576754
END:VEVENT
BEGIN:VEVENT
DTSTART;TZID=America/Los_Angeles:20260609T100000
DTEND;TZID=America/Los_Angeles:20260609T110000
DTSTAMP:20260423T130953
CREATED:20251216T174224Z
LAST-MODIFIED:20260423T195307Z
UID:10022808-1780999200-1781002800@sjcc.org
SUMMARY:Fitness Class: Zumba
DESCRIPTION:Saturday pool hours.
URL:https://sjcc.org/event/fitness-class-zumba-2/2026-06-09/
LOCATION:Stroum Jewish Community Center\, 3801 E Mercer Way\, Mercer Island\, WA\, United States
CATEGORIES:Demographics: Adults,Demographics: Seniors (55+ better),Demographics: Young Adults,Fitness and Aquatics,Group Fitness Classes,Intermediate,Membership
ORGANIZER;CN="Stroum JCC":MAILTO:info@sjcc.org
GEO:47.576754;-122.206204
X-APPLE-STRUCTURED-LOCATION;VALUE=URI;X-ADDRESS=Stroum Jewish Community Center 3801 E Mercer Way Mercer Island WA United States;X-APPLE-RADIUS=500;X-TITLE=3801 E Mercer Way:geo:-122.206204,47.576754
END:VEVENT
BEGIN:VEVENT
DTSTART;TZID=America/Los_Angeles:20260609T183000
DTEND;TZID=America/Los_Angeles:20260609T203000
DTSTAMP:20260423T130953
CREATED:20260422T173035Z
LAST-MODIFIED:20260422T212428Z
UID:10022562-1781029800-1781037000@sjcc.org
SUMMARY:Social Hour: Metal Embossing Workshop
DESCRIPTION:Saturday pool hours.
URL:https://sjcc.org/event/social-hour-metal-embossing-workshop/
LOCATION:Stroum Jewish Community Center\, 3801 E Mercer Way\, Mercer Island\, WA\, United States
CATEGORIES:Adult Gatherings,Adults + Seniors,Demographics,Demographics: Adults,Demographics: Seniors (55+ better),Demographics: Young Adults,J Community,Young Adult Programs
ATTACH;FMTTYPE=image/jpeg:https://sjcc.org/wp-content/uploads/2026/04/260609-metal-embossing-EVENT-1200.jpg
ORGANIZER;CN="Stroum JCC":MAILTO:info@sjcc.org
GEO:47.576754;-122.206204
X-APPLE-STRUCTURED-LOCATION;VALUE=URI;X-ADDRESS=Stroum Jewish Community Center 3801 E Mercer Way Mercer Island WA United States;X-APPLE-RADIUS=500;X-TITLE=3801 E Mercer Way:geo:-122.206204,47.576754
END:VEVENT
BEGIN:VEVENT
DTSTART;TZID=America/Los_Angeles:20260610T060000
DTEND;TZID=America/Los_Angeles:20260610T204500
DTSTAMP:20260423T130953
CREATED:20260326T210114Z
LAST-MODIFIED:20260326T210114Z
UID:10022383-1781071200-1781124300@sjcc.org
SUMMARY:Wednesday Pool Hours
DESCRIPTION:Saturday pool hours.
URL:https://sjcc.org/event/wednesday-pool-hours-2/2026-06-10/
LOCATION:Stroum Jewish Community Center\, 3801 E Mercer Way\, Mercer Island\, WA\, United States
CATEGORIES:Fitness and Aquatics,Pool,Swimming
ORGANIZER;CN="Stroum JCC":MAILTO:info@sjcc.org
GEO:47.576754;-122.206204
X-APPLE-STRUCTURED-LOCATION;VALUE=URI;X-ADDRESS=Stroum Jewish Community Center 3801 E Mercer Way Mercer Island WA United States;X-APPLE-RADIUS=500;X-TITLE=3801 E Mercer Way:geo:-122.206204,47.576754
END:VEVENT
BEGIN:VEVENT
DTSTART;TZID=America/Los_Angeles:20260610T083000
DTEND;TZID=America/Los_Angeles:20260610T093000
DTSTAMP:20260423T130953
CREATED:20251216T174339Z
LAST-MODIFIED:20260423T195241Z
UID:10022795-1781080200-1781083800@sjcc.org
SUMMARY:Fitness Class: Advanced Bootcamp - Wednesday
DESCRIPTION:Saturday pool hours.
URL:https://sjcc.org/event/fitness-class-advanced-bootcamp-wednesday/2026-06-10/
LOCATION:Stroum Jewish Community Center\, 3801 E Mercer Way\, Mercer Island\, WA\, United States
CATEGORIES:Advanced,Demographics: Adults,Demographics: Seniors (55+ better),Demographics: Young Adults,Exercise Studio,Fitness and Aquatics,Group Fitness Classes,Membership,Virtual SJCC
ORGANIZER;CN="Stroum JCC":MAILTO:info@sjcc.org
GEO:47.576754;-122.206204
X-APPLE-STRUCTURED-LOCATION;VALUE=URI;X-ADDRESS=Stroum Jewish Community Center 3801 E Mercer Way Mercer Island WA United States;X-APPLE-RADIUS=500;X-TITLE=3801 E Mercer Way:geo:-122.206204,47.576754
END:VEVENT
BEGIN:VEVENT
DTSTART;TZID=America/Los_Angeles:20260610T094500
DTEND;TZID=America/Los_Angeles:20260610T104500
DTSTAMP:20260423T130953
CREATED:20251216T174507Z
LAST-MODIFIED:20260423T194905Z
UID:10022768-1781084700-1781088300@sjcc.org
SUMMARY:Fitness Class: Restorative Stretch - Wednesday
DESCRIPTION:Saturday pool hours.
URL:https://sjcc.org/event/fitness-class-restorative-stretch-wednesday/2026-06-10/
LOCATION:Stroum Jewish Community Center\, 3801 E Mercer Way\, Mercer Island\, WA\, United States
CATEGORIES:Demographics: Adults,Demographics: Seniors (55+ better),Demographics: Young Adults,Exercise Studio,Fitness and Aquatics,Group Fitness Classes,Intermediate,Membership,Small Group at the J
ORGANIZER;CN="Stroum JCC":MAILTO:info@sjcc.org
GEO:47.576754;-122.206204
X-APPLE-STRUCTURED-LOCATION;VALUE=URI;X-ADDRESS=Stroum Jewish Community Center 3801 E Mercer Way Mercer Island WA United States;X-APPLE-RADIUS=500;X-TITLE=3801 E Mercer Way:geo:-122.206204,47.576754
END:VEVENT
BEGIN:VEVENT
DTSTART;TZID=America/Los_Angeles:20260610T110000
DTEND;TZID=America/Los_Angeles:20260610T120000
DTSTAMP:20260423T130953
CREATED:20260209T173452Z
LAST-MODIFIED:20260423T180202Z
UID:10022668-1781089200-1781092800@sjcc.org
SUMMARY:Fitness Class: Rock Steady Boxing Level 1/2
DESCRIPTION:Saturday pool hours.
URL:https://sjcc.org/event/fitness-class-rock-steady-boxing-level-1-2/2026-06-10/
LOCATION:Stroum Jewish Community Center\, 3801 E Mercer Way\, Mercer Island\, WA\, United States
CATEGORIES:Beginner,Demographics: Adults,Demographics: Seniors (55+ better),Demographics: Young Adults,Exercise Studio,Fitness and Aquatics,Group Fitness Classes
ORGANIZER;CN="Stroum JCC":MAILTO:info@sjcc.org
GEO:47.576754;-122.206204
X-APPLE-STRUCTURED-LOCATION;VALUE=URI;X-ADDRESS=Stroum Jewish Community Center 3801 E Mercer Way Mercer Island WA United States;X-APPLE-RADIUS=500;X-TITLE=3801 E Mercer Way:geo:-122.206204,47.576754
END:VEVENT
BEGIN:VEVENT
DTSTART;TZID=America/Los_Angeles:20260611T060000
DTEND;TZID=America/Los_Angeles:20260611T204500
DTSTAMP:20260423T130953
CREATED:20260326T205723Z
LAST-MODIFIED:20260326T210048Z
UID:10022374-1781157600-1781210700@sjcc.org
SUMMARY:Thursday Pool Hours
DESCRIPTION:Saturday pool hours.
URL:https://sjcc.org/event/thursday-pool-hours-2/2026-06-11/
LOCATION:Stroum Jewish Community Center\, 3801 E Mercer Way\, Mercer Island\, WA\, United States
CATEGORIES:Fitness and Aquatics,Pool,Swimming
ORGANIZER;CN="Stroum JCC":MAILTO:info@sjcc.org
GEO:47.576754;-122.206204
X-APPLE-STRUCTURED-LOCATION;VALUE=URI;X-ADDRESS=Stroum Jewish Community Center 3801 E Mercer Way Mercer Island WA United States;X-APPLE-RADIUS=500;X-TITLE=3801 E Mercer Way:geo:-122.206204,47.576754
END:VEVENT
BEGIN:VEVENT
DTSTART;TZID=America/Los_Angeles:20260611T083000
DTEND;TZID=America/Los_Angeles:20260611T093000
DTSTAMP:20260423T130953
CREATED:20251216T174154Z
LAST-MODIFIED:20260423T195433Z
UID:10022821-1781166600-1781170200@sjcc.org
SUMMARY:Fitness Class: Step Class - Thursday
DESCRIPTION:Saturday pool hours.
URL:https://sjcc.org/event/fitness-class-step-class-thursday-2/2026-06-11/
LOCATION:Stroum Jewish Community Center\, 3801 E Mercer Way\, Mercer Island\, WA\, United States
CATEGORIES:Demographics: Adults,Demographics: Seniors (55+ better),Demographics: Young Adults,Exercise Studio,Fitness and Aquatics,Group Fitness Classes,Membership,Small Group at the J
ORGANIZER;CN="Stroum JCC":MAILTO:info@sjcc.org
GEO:47.576754;-122.206204
X-APPLE-STRUCTURED-LOCATION;VALUE=URI;X-ADDRESS=Stroum Jewish Community Center 3801 E Mercer Way Mercer Island WA United States;X-APPLE-RADIUS=500;X-TITLE=3801 E Mercer Way:geo:-122.206204,47.576754
END:VEVENT
BEGIN:VEVENT
DTSTART;TZID=America/Los_Angeles:20260611T090000
DTEND;TZID=America/Los_Angeles:20260611T100000
DTSTAMP:20260423T130953
CREATED:20260123T004410Z
LAST-MODIFIED:20260423T180246Z
UID:10022704-1781168400-1781172000@sjcc.org
SUMMARY:Fitness Class: Aqua Fit HIIT
DESCRIPTION:Saturday pool hours.
URL:https://sjcc.org/event/fitness-class-aqua-fit-hiit/2026-06-11/
LOCATION:Stroum Jewish Community Center\, 3801 E Mercer Way\, Mercer Island\, WA\, United States
CATEGORIES:Adults + Seniors,Beginner,Demographics: Adults,Demographics: Seniors (55+ better),Fitness and Aquatics,Group Fitness Classes,Membership,Pool,Swimming
ORGANIZER;CN="Stroum JCC":MAILTO:info@sjcc.org
GEO:47.576754;-122.206204
X-APPLE-STRUCTURED-LOCATION;VALUE=URI;X-ADDRESS=Stroum Jewish Community Center 3801 E Mercer Way Mercer Island WA United States;X-APPLE-RADIUS=500;X-TITLE=3801 E Mercer Way:geo:-122.206204,47.576754
END:VEVENT
BEGIN:VEVENT
DTSTART;TZID=America/Los_Angeles:20260611T094500
DTEND;TZID=America/Los_Angeles:20260611T104500
DTSTAMP:20260423T130953
CREATED:20251216T174544Z
LAST-MODIFIED:20260423T194756Z
UID:10022744-1781171100-1781174700@sjcc.org
SUMMARY:Fitness Class: Body Fit
DESCRIPTION:Saturday pool hours.
URL:https://sjcc.org/event/fitness-class-body-fit/2026-06-11/
LOCATION:Stroum Jewish Community Center\, 3801 E Mercer Way\, Mercer Island\, WA\, United States
CATEGORIES:Demographics: Adults,Demographics: Seniors (55+ better),Demographics: Young Adults,Exercise Studio,Fitness and Aquatics,Group Fitness Classes,Intermediate,Membership
ORGANIZER;CN="Stroum JCC":MAILTO:info@sjcc.org
GEO:47.576754;-122.206204
X-APPLE-STRUCTURED-LOCATION;VALUE=URI;X-ADDRESS=Stroum Jewish Community Center 3801 E Mercer Way Mercer Island WA United States;X-APPLE-RADIUS=500;X-TITLE=3801 E Mercer Way:geo:-122.206204,47.576754
END:VEVENT
BEGIN:VEVENT
DTSTART;TZID=America/Los_Angeles:20260611T110000
DTEND;TZID=America/Los_Angeles:20260611T114000
DTSTAMP:20260423T130953
CREATED:20260326T183514Z
LAST-MODIFIED:20260423T180107Z
UID:10022614-1781175600-1781178000@sjcc.org
SUMMARY:Fitness Class: Balance + Stability
DESCRIPTION:Saturday pool hours.
URL:https://sjcc.org/event/fitness-class-balance-stability/2026-06-11/
LOCATION:Stroum Jewish Community Center\, 3801 E Mercer Way\, Mercer Island\, WA\, United States
CATEGORIES:Beginner,Demographics: Adults,Demographics: Seniors (55+ better),Demographics: Young Adults,Exercise Studio,Fitness and Aquatics,Group Fitness Classes
ORGANIZER;CN="Stroum JCC":MAILTO:info@sjcc.org
GEO:47.576754;-122.206204
X-APPLE-STRUCTURED-LOCATION;VALUE=URI;X-ADDRESS=Stroum Jewish Community Center 3801 E Mercer Way Mercer Island WA United States;X-APPLE-RADIUS=500;X-TITLE=3801 E Mercer Way:geo:-122.206204,47.576754
END:VEVENT
BEGIN:VEVENT
DTSTART;TZID=America/Los_Angeles:20260612T060000
DTEND;TZID=America/Los_Angeles:20260612T184500
DTSTAMP:20260423T130953
CREATED:20260326T204243Z
LAST-MODIFIED:20260326T211023Z
UID:10022441-1781244000-1781289900@sjcc.org
SUMMARY:Friday Pool Hours
DESCRIPTION:Saturday pool hours.
URL:https://sjcc.org/event/friday-pool-hours-2/2026-06-12/
LOCATION:Stroum Jewish Community Center\, 3801 E Mercer Way\, Mercer Island\, WA\, United States
CATEGORIES:Fitness and Aquatics,Pool,Swimming
ORGANIZER;CN="Stroum JCC":MAILTO:info@sjcc.org
GEO:47.576754;-122.206204
X-APPLE-STRUCTURED-LOCATION;VALUE=URI;X-ADDRESS=Stroum Jewish Community Center 3801 E Mercer Way Mercer Island WA United States;X-APPLE-RADIUS=500;X-TITLE=3801 E Mercer Way:geo:-122.206204,47.576754
END:VEVENT
BEGIN:VEVENT
DTSTART;TZID=America/Los_Angeles:20260612T061500
DTEND;TZID=America/Los_Angeles:20260612T071500
DTSTAMP:20260423T130953
CREATED:20260422T222537Z
LAST-MODIFIED:20260422T224405Z
UID:10022570-1781244900-1781248500@sjcc.org
SUMMARY:Fitness Class: Yoga Sculpt
DESCRIPTION:Saturday pool hours.
URL:https://sjcc.org/event/fitness-class-yoga-sculpt-2/2026-06-12/
LOCATION:Stroum Jewish Community Center\, 3801 E Mercer Way\, Mercer Island\, WA\, United States
CATEGORIES:Clinics + Workshops,Demographics,Demographics: Adults,Demographics: Seniors (55+ better),Demographics: Young Adults,Exercise Studio,Facilities,Fitness and Aquatics,Group Fitness Classes,Intermediate
ORGANIZER;CN="Stroum JCC":MAILTO:info@sjcc.org
GEO:47.576754;-122.206204
X-APPLE-STRUCTURED-LOCATION;VALUE=URI;X-ADDRESS=Stroum Jewish Community Center 3801 E Mercer Way Mercer Island WA United States;X-APPLE-RADIUS=500;X-TITLE=3801 E Mercer Way:geo:-122.206204,47.576754
END:VEVENT
END:VCALENDAR