BEGIN:VCALENDAR
VERSION:2.0
PRODID:-//Stroum Jewish Community Center of Greater Seattle - ECPv6.15.20//NONSGML v1.0//EN
CALSCALE:GREGORIAN
METHOD:PUBLISH
X-WR-CALNAME:Stroum Jewish Community Center of Greater Seattle
X-ORIGINAL-URL:https://sjcc.org
X-WR-CALDESC:Events for Stroum Jewish Community Center of Greater Seattle
REFRESH-INTERVAL;VALUE=DURATION:PT1H
X-Robots-Tag:noindex
X-PUBLISHED-TTL:PT1H
BEGIN:VTIMEZONE
TZID:America/Los_Angeles
BEGIN:DAYLIGHT
TZOFFSETFROM:-0800
TZOFFSETTO:-0700
TZNAME:PDT
DTSTART:20250309T100000
END:DAYLIGHT
BEGIN:STANDARD
TZOFFSETFROM:-0700
TZOFFSETTO:-0800
TZNAME:PST
DTSTART:20251102T090000
END:STANDARD
BEGIN:DAYLIGHT
TZOFFSETFROM:-0800
TZOFFSETTO:-0700
TZNAME:PDT
DTSTART:20260308T100000
END:DAYLIGHT
BEGIN:STANDARD
TZOFFSETFROM:-0700
TZOFFSETTO:-0800
TZNAME:PST
DTSTART:20261101T090000
END:STANDARD
BEGIN:DAYLIGHT
TZOFFSETFROM:-0800
TZOFFSETTO:-0700
TZNAME:PDT
DTSTART:20270314T100000
END:DAYLIGHT
BEGIN:STANDARD
TZOFFSETFROM:-0700
TZOFFSETTO:-0800
TZNAME:PST
DTSTART:20271107T090000
END:STANDARD
END:VTIMEZONE
BEGIN:VEVENT
DTSTART;TZID=America/Los_Angeles:20260720T110000
DTEND;TZID=America/Los_Angeles:20260720T120000
DTSTAMP:20260425T092456
CREATED:20260209T173452Z
LAST-MODIFIED:20260423T180202Z
UID:10022685-1784545200-1784548800@sjcc.org
SUMMARY:Fitness Class: Rock Steady Boxing Level 1/2
DESCRIPTION:Tuesday pool hours.
URL:https://sjcc.org/event/fitness-class-rock-steady-boxing-level-1-2/2026-07-20/
LOCATION:Stroum Jewish Community Center\, 3801 E Mercer Way\, Mercer Island\, WA\, United States
CATEGORIES:Beginner,Demographics: Adults,Demographics: Seniors (55+ better),Demographics: Young Adults,Exercise Studio,Fitness and Aquatics,Group Fitness Classes
ORGANIZER;CN="Stroum JCC":MAILTO:info@sjcc.org
GEO:47.576754;-122.206204
X-APPLE-STRUCTURED-LOCATION;VALUE=URI;X-ADDRESS=Stroum Jewish Community Center 3801 E Mercer Way Mercer Island WA United States;X-APPLE-RADIUS=500;X-TITLE=3801 E Mercer Way:geo:-122.206204,47.576754
END:VEVENT
BEGIN:VEVENT
DTSTART;TZID=America/Los_Angeles:20260720T121500
DTEND;TZID=America/Los_Angeles:20260720T131500
DTSTAMP:20260425T092456
CREATED:20260209T173739Z
LAST-MODIFIED:20260423T212949Z
UID:10023079-1784549700-1784553300@sjcc.org
SUMMARY:Fitness Class: Rock Steady Boxing Level 3/4
DESCRIPTION:Tuesday pool hours.
URL:https://sjcc.org/event/fitness-class-rock-steady-boxing-level-3-4/2026-07-20/
LOCATION:Stroum Jewish Community Center\, 3801 E Mercer Way\, Mercer Island\, WA\, United States
CATEGORIES:Beginner,Demographics: Adults,Demographics: Seniors (55+ better),Demographics: Young Adults,Exercise Studio,Fitness and Aquatics,Group Fitness Classes
ORGANIZER;CN="Stroum JCC":MAILTO:info@sjcc.org
GEO:47.576754;-122.206204
X-APPLE-STRUCTURED-LOCATION;VALUE=URI;X-ADDRESS=Stroum Jewish Community Center 3801 E Mercer Way Mercer Island WA United States;X-APPLE-RADIUS=500;X-TITLE=3801 E Mercer Way:geo:-122.206204,47.576754
END:VEVENT
BEGIN:VEVENT
DTSTART;TZID=America/Los_Angeles:20260720T174500
DTEND;TZID=America/Los_Angeles:20260720T183000
DTSTAMP:20260425T092456
CREATED:20251216T172740Z
LAST-MODIFIED:20260423T212820Z
UID:10023026-1784569500-1784572200@sjcc.org
SUMMARY:Fitness Class: Strength & Sweat
DESCRIPTION:Tuesday pool hours.
URL:https://sjcc.org/event/fitness-class-strength-sweat-2/2026-07-20/
LOCATION:Stroum Jewish Community Center\, 3801 E Mercer Way\, Mercer Island\, WA\, United States
CATEGORIES:Advanced,Demographics,Demographics: Adults,Demographics: Seniors (55+ better),Demographics: Young Adults,Fitness and Aquatics,Group Fitness Classes,Intermediate,Membership
ORGANIZER;CN="Stroum JCC":MAILTO:info@sjcc.org
GEO:47.576754;-122.206204
X-APPLE-STRUCTURED-LOCATION;VALUE=URI;X-ADDRESS=Stroum Jewish Community Center 3801 E Mercer Way Mercer Island WA United States;X-APPLE-RADIUS=500;X-TITLE=3801 E Mercer Way:geo:-122.206204,47.576754
END:VEVENT
BEGIN:VEVENT
DTSTART;TZID=America/Los_Angeles:20260721T080000
DTEND;TZID=America/Los_Angeles:20260721T090000
DTSTAMP:20260425T092456
CREATED:20260422T224631Z
LAST-MODIFIED:20260422T224631Z
UID:10022598-1784620800-1784624400@sjcc.org
SUMMARY:Fitness Class: Sprint Interval Training (SIT)
DESCRIPTION:Tuesday pool hours.
URL:https://sjcc.org/event/fitness-class-sprint-interval-training-sit-2/2026-07-21/
LOCATION:Stroum Jewish Community Center\, 3801 E Mercer Way\, Mercer Island\, WA\, United States
CATEGORIES:Demographics,Demographics: Adults,Demographics: Young Adults,Exercise Studio,Facilities,Fitness and Aquatics,Group Fitness Classes,Intermediate
ORGANIZER;CN="Stroum JCC":MAILTO:info@sjcc.org
GEO:47.576754;-122.206204
X-APPLE-STRUCTURED-LOCATION;VALUE=URI;X-ADDRESS=Stroum Jewish Community Center 3801 E Mercer Way Mercer Island WA United States;X-APPLE-RADIUS=500;X-TITLE=3801 E Mercer Way:geo:-122.206204,47.576754
END:VEVENT
BEGIN:VEVENT
DTSTART;TZID=America/Los_Angeles:20260721T083000
DTEND;TZID=America/Los_Angeles:20260721T093000
DTSTAMP:20260425T092456
CREATED:20251216T174616Z
LAST-MODIFIED:20260423T180324Z
UID:10022735-1784622600-1784626200@sjcc.org
SUMMARY:Fitness Class: TRX Suspension Training
DESCRIPTION:Tuesday pool hours.
URL:https://sjcc.org/event/fitness-class-trx-suspension-training-2/2026-07-21/
LOCATION:Stroum Jewish Community Center\, 3801 E Mercer Way\, Mercer Island\, WA\, United States
CATEGORIES:Demographics: Adults,Demographics: Young Adults,Exercise Studio,Fitness and Aquatics,Group Fitness Classes,Intermediate,Membership
ORGANIZER;CN="Stroum JCC":MAILTO:info@sjcc.org
GEO:47.576754;-122.206204
X-APPLE-STRUCTURED-LOCATION;VALUE=URI;X-ADDRESS=Stroum Jewish Community Center 3801 E Mercer Way Mercer Island WA United States;X-APPLE-RADIUS=500;X-TITLE=3801 E Mercer Way:geo:-122.206204,47.576754
END:VEVENT
BEGIN:VEVENT
DTSTART;TZID=America/Los_Angeles:20260721T090000
DTEND;TZID=America/Los_Angeles:20260721T100000
DTSTAMP:20260425T092456
CREATED:20260123T003133Z
LAST-MODIFIED:20260423T180303Z
UID:10022722-1784624400-1784628000@sjcc.org
SUMMARY:Fitness Class: Aqua Fit Strong
DESCRIPTION:Tuesday pool hours.
URL:https://sjcc.org/event/fitness-class-aqua-fit-strong/2026-07-21/
LOCATION:Stroum Jewish Community Center\, 3801 E Mercer Way\, Mercer Island\, WA\, United States
CATEGORIES:Adults + Seniors,Beginner,Demographics: Adults,Demographics: Seniors (55+ better),Fitness and Aquatics,Group Fitness Classes,Membership,Pool,Swimming
ORGANIZER;CN="Stroum JCC":MAILTO:info@sjcc.org
GEO:47.576754;-122.206204
X-APPLE-STRUCTURED-LOCATION;VALUE=URI;X-ADDRESS=Stroum Jewish Community Center 3801 E Mercer Way Mercer Island WA United States;X-APPLE-RADIUS=500;X-TITLE=3801 E Mercer Way:geo:-122.206204,47.576754
END:VEVENT
BEGIN:VEVENT
DTSTART;TZID=America/Los_Angeles:20260721T094500
DTEND;TZID=America/Los_Angeles:20260721T104500
DTSTAMP:20260425T092456
CREATED:20251216T174544Z
LAST-MODIFIED:20260423T194756Z
UID:10022755-1784627100-1784630700@sjcc.org
SUMMARY:Fitness Class: Body Fit
DESCRIPTION:Tuesday pool hours.
URL:https://sjcc.org/event/fitness-class-body-fit/2026-07-21/
LOCATION:Stroum Jewish Community Center\, 3801 E Mercer Way\, Mercer Island\, WA\, United States
CATEGORIES:Demographics: Adults,Demographics: Seniors (55+ better),Demographics: Young Adults,Exercise Studio,Fitness and Aquatics,Group Fitness Classes,Intermediate,Membership
ORGANIZER;CN="Stroum JCC":MAILTO:info@sjcc.org
GEO:47.576754;-122.206204
X-APPLE-STRUCTURED-LOCATION;VALUE=URI;X-ADDRESS=Stroum Jewish Community Center 3801 E Mercer Way Mercer Island WA United States;X-APPLE-RADIUS=500;X-TITLE=3801 E Mercer Way:geo:-122.206204,47.576754
END:VEVENT
BEGIN:VEVENT
DTSTART;TZID=America/Los_Angeles:20260721T100000
DTEND;TZID=America/Los_Angeles:20260721T110000
DTSTAMP:20260425T092456
CREATED:20251216T174224Z
LAST-MODIFIED:20260423T195307Z
UID:10022814-1784628000-1784631600@sjcc.org
SUMMARY:Fitness Class: Zumba
DESCRIPTION:Tuesday pool hours.
URL:https://sjcc.org/event/fitness-class-zumba-2/2026-07-21/
LOCATION:Stroum Jewish Community Center\, 3801 E Mercer Way\, Mercer Island\, WA\, United States
CATEGORIES:Demographics: Adults,Demographics: Seniors (55+ better),Demographics: Young Adults,Fitness and Aquatics,Group Fitness Classes,Intermediate,Membership
ORGANIZER;CN="Stroum JCC":MAILTO:info@sjcc.org
GEO:47.576754;-122.206204
X-APPLE-STRUCTURED-LOCATION;VALUE=URI;X-ADDRESS=Stroum Jewish Community Center 3801 E Mercer Way Mercer Island WA United States;X-APPLE-RADIUS=500;X-TITLE=3801 E Mercer Way:geo:-122.206204,47.576754
END:VEVENT
BEGIN:VEVENT
DTSTART;TZID=America/Los_Angeles:20260721T110000
DTEND;TZID=America/Los_Angeles:20260721T120000
DTSTAMP:20260425T092456
CREATED:20251216T173527Z
LAST-MODIFIED:20260423T212658Z
UID:10022960-1784631600-1784635200@sjcc.org
SUMMARY:Fitness Class: Senior Strong
DESCRIPTION:Tuesday pool hours.
URL:https://sjcc.org/event/fitness-class-senior-strong-2/2026-07-21/
LOCATION:Stroum Jewish Community Center\, 3801 E Mercer Way\, Mercer Island\, WA\, United States
CATEGORIES:Adults + Seniors,Beginner,Demographics: Adults,Demographics: Seniors (55+ better),Demographics: Young Adults,Exercise Studio,Fitness and Aquatics,Group Fitness Classes,Membership,Senior Fitness
ORGANIZER;CN="Stroum JCC":MAILTO:info@sjcc.org
GEO:47.576754;-122.206204
X-APPLE-STRUCTURED-LOCATION;VALUE=URI;X-ADDRESS=Stroum Jewish Community Center 3801 E Mercer Way Mercer Island WA United States;X-APPLE-RADIUS=500;X-TITLE=3801 E Mercer Way:geo:-122.206204,47.576754
END:VEVENT
BEGIN:VEVENT
DTSTART;TZID=America/Los_Angeles:20260721T163000
DTEND;TZID=America/Los_Angeles:20260721T173000
DTSTAMP:20260425T092456
CREATED:20251216T172820Z
LAST-MODIFIED:20260423T212805Z
UID:10023007-1784651400-1784655000@sjcc.org
SUMMARY:Fitness Class: H.I.R.T - T/TH
DESCRIPTION:Tuesday pool hours.
URL:https://sjcc.org/event/fitness-class-h-i-r-t-t-th/2026-07-21/
LOCATION:Stroum Jewish Community Center\, 3801 E Mercer Way\, Mercer Island\, WA\, United States
CATEGORIES:Demographics: Adults,Demographics: Seniors (55+ better),Demographics: Young Adults,Exercise Studio,Fitness and Aquatics,Group Fitness Classes,Intermediate,Membership
ORGANIZER;CN="Stroum JCC":MAILTO:info@sjcc.org
GEO:47.576754;-122.206204
X-APPLE-STRUCTURED-LOCATION;VALUE=URI;X-ADDRESS=Stroum Jewish Community Center 3801 E Mercer Way Mercer Island WA United States;X-APPLE-RADIUS=500;X-TITLE=3801 E Mercer Way:geo:-122.206204,47.576754
END:VEVENT
BEGIN:VEVENT
DTSTART;TZID=America/Los_Angeles:20260722T083000
DTEND;TZID=America/Los_Angeles:20260722T093000
DTSTAMP:20260425T092456
CREATED:20251216T174339Z
LAST-MODIFIED:20260423T195241Z
UID:10022801-1784709000-1784712600@sjcc.org
SUMMARY:Fitness Class: Advanced Bootcamp - Wednesday
DESCRIPTION:Tuesday pool hours.
URL:https://sjcc.org/event/fitness-class-advanced-bootcamp-wednesday/2026-07-22/
LOCATION:Stroum Jewish Community Center\, 3801 E Mercer Way\, Mercer Island\, WA\, United States
CATEGORIES:Advanced,Demographics: Adults,Demographics: Seniors (55+ better),Demographics: Young Adults,Exercise Studio,Fitness and Aquatics,Group Fitness Classes,Membership,Virtual SJCC
ORGANIZER;CN="Stroum JCC":MAILTO:info@sjcc.org
GEO:47.576754;-122.206204
X-APPLE-STRUCTURED-LOCATION;VALUE=URI;X-ADDRESS=Stroum Jewish Community Center 3801 E Mercer Way Mercer Island WA United States;X-APPLE-RADIUS=500;X-TITLE=3801 E Mercer Way:geo:-122.206204,47.576754
END:VEVENT
BEGIN:VEVENT
DTSTART;TZID=America/Los_Angeles:20260722T090000
DTEND;TZID=America/Los_Angeles:20260722T100000
DTSTAMP:20260425T092456
CREATED:20251216T174047Z
LAST-MODIFIED:20260423T212230Z
UID:10022868-1784710800-1784714400@sjcc.org
SUMMARY:Fitness Class: Aqua Fit
DESCRIPTION:Tuesday pool hours.
URL:https://sjcc.org/event/fitness-class-aqua-fit/2026-07-22/
LOCATION:Stroum Jewish Community Center\, 3801 E Mercer Way\, Mercer Island\, WA\, United States
CATEGORIES:Adults + Seniors,Beginner,Demographics: Adults,Demographics: Seniors (55+ better),Fitness and Aquatics,Group Fitness Classes,Membership,Pool,Swimming
ORGANIZER;CN="Stroum JCC":MAILTO:info@sjcc.org
GEO:47.576754;-122.206204
X-APPLE-STRUCTURED-LOCATION;VALUE=URI;X-ADDRESS=Stroum Jewish Community Center 3801 E Mercer Way Mercer Island WA United States;X-APPLE-RADIUS=500;X-TITLE=3801 E Mercer Way:geo:-122.206204,47.576754
END:VEVENT
BEGIN:VEVENT
DTSTART;TZID=America/Los_Angeles:20260722T094500
DTEND;TZID=America/Los_Angeles:20260722T104500
DTSTAMP:20260425T092456
CREATED:20251216T174507Z
LAST-MODIFIED:20260423T194905Z
UID:10022774-1784713500-1784717100@sjcc.org
SUMMARY:Fitness Class: Restorative Stretch - Wednesday
DESCRIPTION:Tuesday pool hours.
URL:https://sjcc.org/event/fitness-class-restorative-stretch-wednesday/2026-07-22/
LOCATION:Stroum Jewish Community Center\, 3801 E Mercer Way\, Mercer Island\, WA\, United States
CATEGORIES:Demographics: Adults,Demographics: Seniors (55+ better),Demographics: Young Adults,Exercise Studio,Fitness and Aquatics,Group Fitness Classes,Intermediate,Membership,Small Group at the J
ORGANIZER;CN="Stroum JCC":MAILTO:info@sjcc.org
GEO:47.576754;-122.206204
X-APPLE-STRUCTURED-LOCATION;VALUE=URI;X-ADDRESS=Stroum Jewish Community Center 3801 E Mercer Way Mercer Island WA United States;X-APPLE-RADIUS=500;X-TITLE=3801 E Mercer Way:geo:-122.206204,47.576754
END:VEVENT
BEGIN:VEVENT
DTSTART;TZID=America/Los_Angeles:20260722T110000
DTEND;TZID=America/Los_Angeles:20260722T120000
DTSTAMP:20260425T092456
CREATED:20251216T172546Z
LAST-MODIFIED:20260423T212855Z
UID:10023053-1784718000-1784721600@sjcc.org
SUMMARY:Fitness Class: Chair Yoga
DESCRIPTION:Tuesday pool hours.
URL:https://sjcc.org/event/fitness-class-chair-yoga-2/2026-07-22/
LOCATION:Stroum Jewish Community Center\, 3801 E Mercer Way\, Mercer Island\, WA\, United States
CATEGORIES:Adults + Seniors,Demographics: Adults,Demographics: Seniors (55+ better),Exercise Studio,Fitness and Aquatics,Group Fitness Classes,Intermediate,Membership
ORGANIZER;CN="Stroum JCC":MAILTO:info@sjcc.org
GEO:47.576754;-122.206204
X-APPLE-STRUCTURED-LOCATION;VALUE=URI;X-ADDRESS=Stroum Jewish Community Center 3801 E Mercer Way Mercer Island WA United States;X-APPLE-RADIUS=500;X-TITLE=3801 E Mercer Way:geo:-122.206204,47.576754
END:VEVENT
BEGIN:VEVENT
DTSTART;TZID=America/Los_Angeles:20260722T110000
DTEND;TZID=America/Los_Angeles:20260722T120000
DTSTAMP:20260425T092456
CREATED:20260209T173452Z
LAST-MODIFIED:20260423T180202Z
UID:10022686-1784718000-1784721600@sjcc.org
SUMMARY:Fitness Class: Rock Steady Boxing Level 1/2
DESCRIPTION:Tuesday pool hours.
URL:https://sjcc.org/event/fitness-class-rock-steady-boxing-level-1-2/2026-07-22/
LOCATION:Stroum Jewish Community Center\, 3801 E Mercer Way\, Mercer Island\, WA\, United States
CATEGORIES:Beginner,Demographics: Adults,Demographics: Seniors (55+ better),Demographics: Young Adults,Exercise Studio,Fitness and Aquatics,Group Fitness Classes
ORGANIZER;CN="Stroum JCC":MAILTO:info@sjcc.org
GEO:47.576754;-122.206204
X-APPLE-STRUCTURED-LOCATION;VALUE=URI;X-ADDRESS=Stroum Jewish Community Center 3801 E Mercer Way Mercer Island WA United States;X-APPLE-RADIUS=500;X-TITLE=3801 E Mercer Way:geo:-122.206204,47.576754
END:VEVENT
BEGIN:VEVENT
DTSTART;TZID=America/Los_Angeles:20260722T121500
DTEND;TZID=America/Los_Angeles:20260722T131500
DTSTAMP:20260425T092456
CREATED:20260209T173739Z
LAST-MODIFIED:20260423T212949Z
UID:10023080-1784722500-1784726100@sjcc.org
SUMMARY:Fitness Class: Rock Steady Boxing Level 3/4
DESCRIPTION:Tuesday pool hours.
URL:https://sjcc.org/event/fitness-class-rock-steady-boxing-level-3-4/2026-07-22/
LOCATION:Stroum Jewish Community Center\, 3801 E Mercer Way\, Mercer Island\, WA\, United States
CATEGORIES:Beginner,Demographics: Adults,Demographics: Seniors (55+ better),Demographics: Young Adults,Exercise Studio,Fitness and Aquatics,Group Fitness Classes
ORGANIZER;CN="Stroum JCC":MAILTO:info@sjcc.org
GEO:47.576754;-122.206204
X-APPLE-STRUCTURED-LOCATION;VALUE=URI;X-ADDRESS=Stroum Jewish Community Center 3801 E Mercer Way Mercer Island WA United States;X-APPLE-RADIUS=500;X-TITLE=3801 E Mercer Way:geo:-122.206204,47.576754
END:VEVENT
BEGIN:VEVENT
DTSTART;TZID=America/Los_Angeles:20260723T083000
DTEND;TZID=America/Los_Angeles:20260723T093000
DTSTAMP:20260425T092456
CREATED:20251216T174154Z
LAST-MODIFIED:20260423T195433Z
UID:10022827-1784795400-1784799000@sjcc.org
SUMMARY:Fitness Class: Step Class - Thursday
DESCRIPTION:Tuesday pool hours.
URL:https://sjcc.org/event/fitness-class-step-class-thursday-2/2026-07-23/
LOCATION:Stroum Jewish Community Center\, 3801 E Mercer Way\, Mercer Island\, WA\, United States
CATEGORIES:Demographics: Adults,Demographics: Seniors (55+ better),Demographics: Young Adults,Exercise Studio,Fitness and Aquatics,Group Fitness Classes,Membership,Small Group at the J
ORGANIZER;CN="Stroum JCC":MAILTO:info@sjcc.org
GEO:47.576754;-122.206204
X-APPLE-STRUCTURED-LOCATION;VALUE=URI;X-ADDRESS=Stroum Jewish Community Center 3801 E Mercer Way Mercer Island WA United States;X-APPLE-RADIUS=500;X-TITLE=3801 E Mercer Way:geo:-122.206204,47.576754
END:VEVENT
BEGIN:VEVENT
DTSTART;TZID=America/Los_Angeles:20260723T090000
DTEND;TZID=America/Los_Angeles:20260723T100000
DTSTAMP:20260425T092456
CREATED:20260123T004410Z
LAST-MODIFIED:20260423T180246Z
UID:10022710-1784797200-1784800800@sjcc.org
SUMMARY:Fitness Class: Aqua Fit HIIT
DESCRIPTION:Tuesday pool hours.
URL:https://sjcc.org/event/fitness-class-aqua-fit-hiit/2026-07-23/
LOCATION:Stroum Jewish Community Center\, 3801 E Mercer Way\, Mercer Island\, WA\, United States
CATEGORIES:Adults + Seniors,Beginner,Demographics: Adults,Demographics: Seniors (55+ better),Fitness and Aquatics,Group Fitness Classes,Membership,Pool,Swimming
ORGANIZER;CN="Stroum JCC":MAILTO:info@sjcc.org
GEO:47.576754;-122.206204
X-APPLE-STRUCTURED-LOCATION;VALUE=URI;X-ADDRESS=Stroum Jewish Community Center 3801 E Mercer Way Mercer Island WA United States;X-APPLE-RADIUS=500;X-TITLE=3801 E Mercer Way:geo:-122.206204,47.576754
END:VEVENT
BEGIN:VEVENT
DTSTART;TZID=America/Los_Angeles:20260723T094500
DTEND;TZID=America/Los_Angeles:20260723T104500
DTSTAMP:20260425T092457
CREATED:20251216T174544Z
LAST-MODIFIED:20260423T194756Z
UID:10022756-1784799900-1784803500@sjcc.org
SUMMARY:Fitness Class: Body Fit
DESCRIPTION:Tuesday pool hours.
URL:https://sjcc.org/event/fitness-class-body-fit/2026-07-23/
LOCATION:Stroum Jewish Community Center\, 3801 E Mercer Way\, Mercer Island\, WA\, United States
CATEGORIES:Demographics: Adults,Demographics: Seniors (55+ better),Demographics: Young Adults,Exercise Studio,Fitness and Aquatics,Group Fitness Classes,Intermediate,Membership
ORGANIZER;CN="Stroum JCC":MAILTO:info@sjcc.org
GEO:47.576754;-122.206204
X-APPLE-STRUCTURED-LOCATION;VALUE=URI;X-ADDRESS=Stroum Jewish Community Center 3801 E Mercer Way Mercer Island WA United States;X-APPLE-RADIUS=500;X-TITLE=3801 E Mercer Way:geo:-122.206204,47.576754
END:VEVENT
BEGIN:VEVENT
DTSTART;TZID=America/Los_Angeles:20260723T110000
DTEND;TZID=America/Los_Angeles:20260723T114000
DTSTAMP:20260425T092457
CREATED:20260326T183514Z
LAST-MODIFIED:20260423T180107Z
UID:10022620-1784804400-1784806800@sjcc.org
SUMMARY:Fitness Class: Balance + Stability
DESCRIPTION:Tuesday pool hours.
URL:https://sjcc.org/event/fitness-class-balance-stability/2026-07-23/
LOCATION:Stroum Jewish Community Center\, 3801 E Mercer Way\, Mercer Island\, WA\, United States
CATEGORIES:Beginner,Demographics: Adults,Demographics: Seniors (55+ better),Demographics: Young Adults,Exercise Studio,Fitness and Aquatics,Group Fitness Classes
ORGANIZER;CN="Stroum JCC":MAILTO:info@sjcc.org
GEO:47.576754;-122.206204
X-APPLE-STRUCTURED-LOCATION;VALUE=URI;X-ADDRESS=Stroum Jewish Community Center 3801 E Mercer Way Mercer Island WA United States;X-APPLE-RADIUS=500;X-TITLE=3801 E Mercer Way:geo:-122.206204,47.576754
END:VEVENT
BEGIN:VEVENT
DTSTART;TZID=America/Los_Angeles:20260723T163000
DTEND;TZID=America/Los_Angeles:20260723T173000
DTSTAMP:20260425T092457
CREATED:20251216T172820Z
LAST-MODIFIED:20260423T212805Z
UID:10023008-1784824200-1784827800@sjcc.org
SUMMARY:Fitness Class: H.I.R.T - T/TH
DESCRIPTION:Tuesday pool hours.
URL:https://sjcc.org/event/fitness-class-h-i-r-t-t-th/2026-07-23/
LOCATION:Stroum Jewish Community Center\, 3801 E Mercer Way\, Mercer Island\, WA\, United States
CATEGORIES:Demographics: Adults,Demographics: Seniors (55+ better),Demographics: Young Adults,Exercise Studio,Fitness and Aquatics,Group Fitness Classes,Intermediate,Membership
ORGANIZER;CN="Stroum JCC":MAILTO:info@sjcc.org
GEO:47.576754;-122.206204
X-APPLE-STRUCTURED-LOCATION;VALUE=URI;X-ADDRESS=Stroum Jewish Community Center 3801 E Mercer Way Mercer Island WA United States;X-APPLE-RADIUS=500;X-TITLE=3801 E Mercer Way:geo:-122.206204,47.576754
END:VEVENT
BEGIN:VEVENT
DTSTART;TZID=America/Los_Angeles:20260724T061500
DTEND;TZID=America/Los_Angeles:20260724T071500
DTSTAMP:20260425T092457
CREATED:20260422T222537Z
LAST-MODIFIED:20260422T224405Z
UID:10022576-1784873700-1784877300@sjcc.org
SUMMARY:Fitness Class: Yoga Sculpt
DESCRIPTION:Tuesday pool hours.
URL:https://sjcc.org/event/fitness-class-yoga-sculpt-2/2026-07-24/
LOCATION:Stroum Jewish Community Center\, 3801 E Mercer Way\, Mercer Island\, WA\, United States
CATEGORIES:Clinics + Workshops,Demographics,Demographics: Adults,Demographics: Seniors (55+ better),Demographics: Young Adults,Exercise Studio,Facilities,Fitness and Aquatics,Group Fitness Classes,Intermediate
ORGANIZER;CN="Stroum JCC":MAILTO:info@sjcc.org
GEO:47.576754;-122.206204
X-APPLE-STRUCTURED-LOCATION;VALUE=URI;X-ADDRESS=Stroum Jewish Community Center 3801 E Mercer Way Mercer Island WA United States;X-APPLE-RADIUS=500;X-TITLE=3801 E Mercer Way:geo:-122.206204,47.576754
END:VEVENT
BEGIN:VEVENT
DTSTART;TZID=America/Los_Angeles:20260724T071500
DTEND;TZID=America/Los_Angeles:20260724T081500
DTSTAMP:20260425T092457
CREATED:20251216T173143Z
LAST-MODIFIED:20260423T212736Z
UID:10022987-1784877300-1784880900@sjcc.org
SUMMARY:Fitness Class: Ageless Strength Training
DESCRIPTION:Tuesday pool hours.
URL:https://sjcc.org/event/fitness-class-ageless-strength-training/2026-07-24/
LOCATION:Stroum Jewish Community Center\, 3801 E Mercer Way\, Mercer Island\, WA\, United States
CATEGORIES:Demographics: Adults,Demographics: Seniors (55+ better),Exercise Studio,Fitness and Aquatics,Group Fitness Classes,Intermediate,Membership
ORGANIZER;CN="Stroum JCC":MAILTO:info@sjcc.org
GEO:47.576754;-122.206204
X-APPLE-STRUCTURED-LOCATION;VALUE=URI;X-ADDRESS=Stroum Jewish Community Center 3801 E Mercer Way Mercer Island WA United States;X-APPLE-RADIUS=500;X-TITLE=3801 E Mercer Way:geo:-122.206204,47.576754
END:VEVENT
BEGIN:VEVENT
DTSTART;TZID=America/Los_Angeles:20260724T083000
DTEND;TZID=America/Los_Angeles:20260724T093000
DTSTAMP:20260425T092457
CREATED:20251216T173603Z
LAST-MODIFIED:20260423T212642Z
UID:10022947-1784881800-1784885400@sjcc.org
SUMMARY:Fitness Class: Intermediate Slow Flow Yoga
DESCRIPTION:Tuesday pool hours.
URL:https://sjcc.org/event/fitness-class-intermediate-slow-flow-yoga-2/2026-07-24/
LOCATION:Stroum Jewish Community Center\, 3801 E Mercer Way\, Mercer Island\, WA\, United States
CATEGORIES:Demographics: Adults,Demographics: Seniors (55+ better),Demographics: Young Adults,Exercise Studio,Fitness and Aquatics,Group Fitness Classes,Intermediate,Membership,Virtual SJCC
ORGANIZER;CN="Stroum JCC":MAILTO:info@sjcc.org
GEO:47.576754;-122.206204
X-APPLE-STRUCTURED-LOCATION;VALUE=URI;X-ADDRESS=Stroum Jewish Community Center 3801 E Mercer Way Mercer Island WA United States;X-APPLE-RADIUS=500;X-TITLE=3801 E Mercer Way:geo:-122.206204,47.576754
END:VEVENT
BEGIN:VEVENT
DTSTART;TZID=America/Los_Angeles:20260724T090000
DTEND;TZID=America/Los_Angeles:20260724T100000
DTSTAMP:20260425T092457
CREATED:20251216T174047Z
LAST-MODIFIED:20260423T212230Z
UID:10022869-1784883600-1784887200@sjcc.org
SUMMARY:Fitness Class: Aqua Fit
DESCRIPTION:Tuesday pool hours.
URL:https://sjcc.org/event/fitness-class-aqua-fit/2026-07-24/
LOCATION:Stroum Jewish Community Center\, 3801 E Mercer Way\, Mercer Island\, WA\, United States
CATEGORIES:Adults + Seniors,Beginner,Demographics: Adults,Demographics: Seniors (55+ better),Fitness and Aquatics,Group Fitness Classes,Membership,Pool,Swimming
ORGANIZER;CN="Stroum JCC":MAILTO:info@sjcc.org
GEO:47.576754;-122.206204
X-APPLE-STRUCTURED-LOCATION;VALUE=URI;X-ADDRESS=Stroum Jewish Community Center 3801 E Mercer Way Mercer Island WA United States;X-APPLE-RADIUS=500;X-TITLE=3801 E Mercer Way:geo:-122.206204,47.576754
END:VEVENT
BEGIN:VEVENT
DTSTART;TZID=America/Los_Angeles:20260724T094500
DTEND;TZID=America/Los_Angeles:20260724T103000
DTSTAMP:20260425T092457
CREATED:20250827T213250Z
LAST-MODIFIED:20260424T222913Z
UID:10023108-1784886300-1784889000@sjcc.org
SUMMARY:Tot Shabbat
DESCRIPTION:Tuesday pool hours.
URL:https://sjcc.org/event/tot-shabbat-2-2/2026-07-24/
LOCATION:Stroum Jewish Community Center\, 3801 E Mercer Way\, Mercer Island\, WA\, United States
CATEGORIES:Demographics: Early Childhood (Birth to 5 yrs),Demographics: Families,Holiday Programs,J Community,Jewish Life,Kids: Grades K to 5th,Tot Shabbat
ATTACH;FMTTYPE=image/jpeg:https://sjcc.org/wp-content/uploads/2025/07/250710-tot-shabbat-EVENT-1200.jpg
ORGANIZER;CN="Stroum JCC":MAILTO:info@sjcc.org
GEO:47.576754;-122.206204
X-APPLE-STRUCTURED-LOCATION;VALUE=URI;X-ADDRESS=Stroum Jewish Community Center 3801 E Mercer Way Mercer Island WA United States;X-APPLE-RADIUS=500;X-TITLE=3801 E Mercer Way:geo:-122.206204,47.576754
END:VEVENT
BEGIN:VEVENT
DTSTART;TZID=America/Los_Angeles:20260724T103000
DTEND;TZID=America/Los_Angeles:20260724T113000
DTSTAMP:20260425T092457
CREATED:20251216T173847Z
LAST-MODIFIED:20260423T212431Z
UID:10022908-1784889000-1784892600@sjcc.org
SUMMARY:Fitness Class: Tai Chi
DESCRIPTION:Tuesday pool hours.
URL:https://sjcc.org/event/fitness-class-tai-chi-2/2026-07-24/
LOCATION:Stroum Jewish Community Center\, 3801 E Mercer Way\, Mercer Island\, WA\, United States
CATEGORIES:Adults + Seniors,Demographics: Adults,Demographics: Seniors (55+ better),Demographics: Young Adults,Exercise Studio,Fitness and Aquatics,Group Fitness Classes,Intermediate,Membership
ORGANIZER;CN="Stroum JCC":MAILTO:info@sjcc.org
GEO:47.576754;-122.206204
X-APPLE-STRUCTURED-LOCATION;VALUE=URI;X-ADDRESS=Stroum Jewish Community Center 3801 E Mercer Way Mercer Island WA United States;X-APPLE-RADIUS=500;X-TITLE=3801 E Mercer Way:geo:-122.206204,47.576754
END:VEVENT
BEGIN:VEVENT
DTSTART;TZID=America/Los_Angeles:20260724T110000
DTEND;TZID=America/Los_Angeles:20260724T120000
DTSTAMP:20260425T092457
CREATED:20260209T173452Z
LAST-MODIFIED:20260423T180202Z
UID:10022687-1784890800-1784894400@sjcc.org
SUMMARY:Fitness Class: Rock Steady Boxing Level 1/2
DESCRIPTION:Tuesday pool hours.
URL:https://sjcc.org/event/fitness-class-rock-steady-boxing-level-1-2/2026-07-24/
LOCATION:Stroum Jewish Community Center\, 3801 E Mercer Way\, Mercer Island\, WA\, United States
CATEGORIES:Beginner,Demographics: Adults,Demographics: Seniors (55+ better),Demographics: Young Adults,Exercise Studio,Fitness and Aquatics,Group Fitness Classes
ORGANIZER;CN="Stroum JCC":MAILTO:info@sjcc.org
GEO:47.576754;-122.206204
X-APPLE-STRUCTURED-LOCATION;VALUE=URI;X-ADDRESS=Stroum Jewish Community Center 3801 E Mercer Way Mercer Island WA United States;X-APPLE-RADIUS=500;X-TITLE=3801 E Mercer Way:geo:-122.206204,47.576754
END:VEVENT
BEGIN:VEVENT
DTSTART;TZID=America/Los_Angeles:20260724T121500
DTEND;TZID=America/Los_Angeles:20260724T131500
DTSTAMP:20260425T092457
CREATED:20260209T173739Z
LAST-MODIFIED:20260423T212949Z
UID:10023081-1784895300-1784898900@sjcc.org
SUMMARY:Fitness Class: Rock Steady Boxing Level 3/4
DESCRIPTION:Tuesday pool hours.
URL:https://sjcc.org/event/fitness-class-rock-steady-boxing-level-3-4/2026-07-24/
LOCATION:Stroum Jewish Community Center\, 3801 E Mercer Way\, Mercer Island\, WA\, United States
CATEGORIES:Beginner,Demographics: Adults,Demographics: Seniors (55+ better),Demographics: Young Adults,Exercise Studio,Fitness and Aquatics,Group Fitness Classes
ORGANIZER;CN="Stroum JCC":MAILTO:info@sjcc.org
GEO:47.576754;-122.206204
X-APPLE-STRUCTURED-LOCATION;VALUE=URI;X-ADDRESS=Stroum Jewish Community Center 3801 E Mercer Way Mercer Island WA United States;X-APPLE-RADIUS=500;X-TITLE=3801 E Mercer Way:geo:-122.206204,47.576754
END:VEVENT
BEGIN:VEVENT
DTSTART;TZID=America/Los_Angeles:20260725T081500
DTEND;TZID=America/Los_Angeles:20260725T091500
DTSTAMP:20260425T092457
CREATED:20251216T172707Z
LAST-MODIFIED:20260423T212837Z
UID:10023040-1784967300-1784970900@sjcc.org
SUMMARY:Fitness Class: H.I.I.T.
DESCRIPTION:Tuesday pool hours.
URL:https://sjcc.org/event/fitness-class-h-i-i-t-3/2026-07-25/
LOCATION:Stroum Jewish Community Center\, 3801 E Mercer Way\, Mercer Island\, WA\, United States
CATEGORIES:Demographics: Adults,Demographics: Seniors (55+ better),Demographics: Young Adults,Exercise Studio,Fitness and Aquatics,Group Fitness Classes,Intermediate,Membership
ORGANIZER;CN="Stroum JCC":MAILTO:info@sjcc.org
GEO:47.576754;-122.206204
X-APPLE-STRUCTURED-LOCATION;VALUE=URI;X-ADDRESS=Stroum Jewish Community Center 3801 E Mercer Way Mercer Island WA United States;X-APPLE-RADIUS=500;X-TITLE=3801 E Mercer Way:geo:-122.206204,47.576754
END:VEVENT
END:VCALENDAR