BEGIN:VCALENDAR
VERSION:2.0
PRODID:-//Stroum Jewish Community Center of Greater Seattle - ECPv6.15.20//NONSGML v1.0//EN
CALSCALE:GREGORIAN
METHOD:PUBLISH
X-WR-CALNAME:Stroum Jewish Community Center of Greater Seattle
X-ORIGINAL-URL:https://sjcc.org
X-WR-CALDESC:Events for Stroum Jewish Community Center of Greater Seattle
REFRESH-INTERVAL;VALUE=DURATION:PT1H
X-Robots-Tag:noindex
X-PUBLISHED-TTL:PT1H
BEGIN:VTIMEZONE
TZID:America/Los_Angeles
BEGIN:DAYLIGHT
TZOFFSETFROM:-0800
TZOFFSETTO:-0700
TZNAME:PDT
DTSTART:20250309T100000
END:DAYLIGHT
BEGIN:STANDARD
TZOFFSETFROM:-0700
TZOFFSETTO:-0800
TZNAME:PST
DTSTART:20251102T090000
END:STANDARD
BEGIN:DAYLIGHT
TZOFFSETFROM:-0800
TZOFFSETTO:-0700
TZNAME:PDT
DTSTART:20260308T100000
END:DAYLIGHT
BEGIN:STANDARD
TZOFFSETFROM:-0700
TZOFFSETTO:-0800
TZNAME:PST
DTSTART:20261101T090000
END:STANDARD
BEGIN:DAYLIGHT
TZOFFSETFROM:-0800
TZOFFSETTO:-0700
TZNAME:PDT
DTSTART:20270314T100000
END:DAYLIGHT
BEGIN:STANDARD
TZOFFSETFROM:-0700
TZOFFSETTO:-0800
TZNAME:PST
DTSTART:20271107T090000
END:STANDARD
BEGIN:DAYLIGHT
TZOFFSETFROM:-0800
TZOFFSETTO:-0700
TZNAME:PDT
DTSTART:20280312T100000
END:DAYLIGHT
BEGIN:STANDARD
TZOFFSETFROM:-0700
TZOFFSETTO:-0800
TZNAME:PST
DTSTART:20281105T090000
END:STANDARD
END:VTIMEZONE
BEGIN:VEVENT
DTSTART;TZID=America/Los_Angeles:20260811T083000
DTEND;TZID=America/Los_Angeles:20260811T093000
DTSTAMP:20260423T121812
CREATED:20251216T174616Z
LAST-MODIFIED:20260423T180324Z
UID:10022738-1786437000-1786440600@sjcc.org
SUMMARY:Fitness Class: TRX Suspension Training
DESCRIPTION:Open gym hours.
URL:https://sjcc.org/event/fitness-class-trx-suspension-training-2/2026-08-11/
LOCATION:Stroum Jewish Community Center\, 3801 E Mercer Way\, Mercer Island\, WA\, United States
CATEGORIES:Demographics: Adults,Demographics: Young Adults,Exercise Studio,Fitness and Aquatics,Group Fitness Classes,Intermediate,Membership
ORGANIZER;CN="Stroum JCC":MAILTO:info@sjcc.org
GEO:47.576754;-122.206204
X-APPLE-STRUCTURED-LOCATION;VALUE=URI;X-ADDRESS=Stroum Jewish Community Center 3801 E Mercer Way Mercer Island WA United States;X-APPLE-RADIUS=500;X-TITLE=3801 E Mercer Way:geo:-122.206204,47.576754
END:VEVENT
BEGIN:VEVENT
DTSTART;TZID=America/Los_Angeles:20260811T090000
DTEND;TZID=America/Los_Angeles:20260811T100000
DTSTAMP:20260423T121812
CREATED:20260123T003133Z
LAST-MODIFIED:20260423T180303Z
UID:10022725-1786438800-1786442400@sjcc.org
SUMMARY:Fitness Class: Aqua Fit Strong
DESCRIPTION:Open gym hours.
URL:https://sjcc.org/event/fitness-class-aqua-fit-strong/2026-08-11/
LOCATION:Stroum Jewish Community Center\, 3801 E Mercer Way\, Mercer Island\, WA\, United States
CATEGORIES:Adults + Seniors,Beginner,Demographics: Adults,Demographics: Seniors (55+ better),Fitness and Aquatics,Group Fitness Classes,Membership,Pool,Swimming
ORGANIZER;CN="Stroum JCC":MAILTO:info@sjcc.org
GEO:47.576754;-122.206204
X-APPLE-STRUCTURED-LOCATION;VALUE=URI;X-ADDRESS=Stroum Jewish Community Center 3801 E Mercer Way Mercer Island WA United States;X-APPLE-RADIUS=500;X-TITLE=3801 E Mercer Way:geo:-122.206204,47.576754
END:VEVENT
BEGIN:VEVENT
DTSTART;TZID=America/Los_Angeles:20260811T094500
DTEND;TZID=America/Los_Angeles:20260811T104500
DTSTAMP:20260423T121812
CREATED:20251216T174544Z
LAST-MODIFIED:20260423T180341Z
UID:10022761-1786441500-1786445100@sjcc.org
SUMMARY:Fitness Class: Body Fit
DESCRIPTION:Open gym hours.
URL:https://sjcc.org/event/fitness-class-body-fit/2026-08-11/
LOCATION:Stroum Jewish Community Center\, 3801 E Mercer Way\, Mercer Island\, WA\, United States
CATEGORIES:Demographics: Adults,Demographics: Seniors (55+ better),Demographics: Young Adults,Exercise Studio,Fitness and Aquatics,Group Fitness Classes,Intermediate,Membership
ORGANIZER;CN="Stroum JCC":MAILTO:info@sjcc.org
GEO:47.576754;-122.206204
X-APPLE-STRUCTURED-LOCATION;VALUE=URI;X-ADDRESS=Stroum Jewish Community Center 3801 E Mercer Way Mercer Island WA United States;X-APPLE-RADIUS=500;X-TITLE=3801 E Mercer Way:geo:-122.206204,47.576754
END:VEVENT
BEGIN:VEVENT
DTSTART;TZID=America/Los_Angeles:20260812T110000
DTEND;TZID=America/Los_Angeles:20260812T120000
DTSTAMP:20260423T121812
CREATED:20260209T173452Z
LAST-MODIFIED:20260423T180202Z
UID:10022695-1786532400-1786536000@sjcc.org
SUMMARY:Fitness Class: Rock Steady Boxing Level 1/2
DESCRIPTION:Open gym hours.
URL:https://sjcc.org/event/fitness-class-rock-steady-boxing-level-1-2/2026-08-12/
LOCATION:Stroum Jewish Community Center\, 3801 E Mercer Way\, Mercer Island\, WA\, United States
CATEGORIES:Beginner,Demographics: Adults,Demographics: Seniors (55+ better),Demographics: Young Adults,Exercise Studio,Fitness and Aquatics,Group Fitness Classes
ORGANIZER;CN="Stroum JCC":MAILTO:info@sjcc.org
GEO:47.576754;-122.206204
X-APPLE-STRUCTURED-LOCATION;VALUE=URI;X-ADDRESS=Stroum Jewish Community Center 3801 E Mercer Way Mercer Island WA United States;X-APPLE-RADIUS=500;X-TITLE=3801 E Mercer Way:geo:-122.206204,47.576754
END:VEVENT
BEGIN:VEVENT
DTSTART;TZID=America/Los_Angeles:20260813T090000
DTEND;TZID=America/Los_Angeles:20260813T100000
DTSTAMP:20260423T121812
CREATED:20260123T004410Z
LAST-MODIFIED:20260423T180246Z
UID:10022713-1786611600-1786615200@sjcc.org
SUMMARY:Fitness Class: Aqua Fit HIIT
DESCRIPTION:Open gym hours.
URL:https://sjcc.org/event/fitness-class-aqua-fit-hiit/2026-08-13/
LOCATION:Stroum Jewish Community Center\, 3801 E Mercer Way\, Mercer Island\, WA\, United States
CATEGORIES:Adults + Seniors,Beginner,Demographics: Adults,Demographics: Seniors (55+ better),Fitness and Aquatics,Group Fitness Classes,Membership,Pool,Swimming
ORGANIZER;CN="Stroum JCC":MAILTO:info@sjcc.org
GEO:47.576754;-122.206204
X-APPLE-STRUCTURED-LOCATION;VALUE=URI;X-ADDRESS=Stroum Jewish Community Center 3801 E Mercer Way Mercer Island WA United States;X-APPLE-RADIUS=500;X-TITLE=3801 E Mercer Way:geo:-122.206204,47.576754
END:VEVENT
BEGIN:VEVENT
DTSTART;TZID=America/Los_Angeles:20260813T094500
DTEND;TZID=America/Los_Angeles:20260813T104500
DTSTAMP:20260423T121812
CREATED:20251216T174544Z
LAST-MODIFIED:20260423T180341Z
UID:10022762-1786614300-1786617900@sjcc.org
SUMMARY:Fitness Class: Body Fit
DESCRIPTION:Open gym hours.
URL:https://sjcc.org/event/fitness-class-body-fit/2026-08-13/
LOCATION:Stroum Jewish Community Center\, 3801 E Mercer Way\, Mercer Island\, WA\, United States
CATEGORIES:Demographics: Adults,Demographics: Seniors (55+ better),Demographics: Young Adults,Exercise Studio,Fitness and Aquatics,Group Fitness Classes,Intermediate,Membership
ORGANIZER;CN="Stroum JCC":MAILTO:info@sjcc.org
GEO:47.576754;-122.206204
X-APPLE-STRUCTURED-LOCATION;VALUE=URI;X-ADDRESS=Stroum Jewish Community Center 3801 E Mercer Way Mercer Island WA United States;X-APPLE-RADIUS=500;X-TITLE=3801 E Mercer Way:geo:-122.206204,47.576754
END:VEVENT
BEGIN:VEVENT
DTSTART;TZID=America/Los_Angeles:20260813T110000
DTEND;TZID=America/Los_Angeles:20260813T114000
DTSTAMP:20260423T121812
CREATED:20260326T183514Z
LAST-MODIFIED:20260423T180107Z
UID:10022623-1786618800-1786621200@sjcc.org
SUMMARY:Fitness Class: Balance + Stability
DESCRIPTION:Open gym hours.
URL:https://sjcc.org/event/fitness-class-balance-stability/2026-08-13/
LOCATION:Stroum Jewish Community Center\, 3801 E Mercer Way\, Mercer Island\, WA\, United States
CATEGORIES:Beginner,Demographics: Adults,Demographics: Seniors (55+ better),Demographics: Young Adults,Exercise Studio,Fitness and Aquatics,Group Fitness Classes
ORGANIZER;CN="Stroum JCC":MAILTO:info@sjcc.org
GEO:47.576754;-122.206204
X-APPLE-STRUCTURED-LOCATION;VALUE=URI;X-ADDRESS=Stroum Jewish Community Center 3801 E Mercer Way Mercer Island WA United States;X-APPLE-RADIUS=500;X-TITLE=3801 E Mercer Way:geo:-122.206204,47.576754
END:VEVENT
BEGIN:VEVENT
DTSTART;TZID=America/Los_Angeles:20260814T110000
DTEND;TZID=America/Los_Angeles:20260814T120000
DTSTAMP:20260423T121812
CREATED:20260209T173452Z
LAST-MODIFIED:20260423T180202Z
UID:10022696-1786705200-1786708800@sjcc.org
SUMMARY:Fitness Class: Rock Steady Boxing Level 1/2
DESCRIPTION:Open gym hours.
URL:https://sjcc.org/event/fitness-class-rock-steady-boxing-level-1-2/2026-08-14/
LOCATION:Stroum Jewish Community Center\, 3801 E Mercer Way\, Mercer Island\, WA\, United States
CATEGORIES:Beginner,Demographics: Adults,Demographics: Seniors (55+ better),Demographics: Young Adults,Exercise Studio,Fitness and Aquatics,Group Fitness Classes
ORGANIZER;CN="Stroum JCC":MAILTO:info@sjcc.org
GEO:47.576754;-122.206204
X-APPLE-STRUCTURED-LOCATION;VALUE=URI;X-ADDRESS=Stroum Jewish Community Center 3801 E Mercer Way Mercer Island WA United States;X-APPLE-RADIUS=500;X-TITLE=3801 E Mercer Way:geo:-122.206204,47.576754
END:VEVENT
BEGIN:VEVENT
DTSTART;TZID=America/Los_Angeles:20260817T110000
DTEND;TZID=America/Los_Angeles:20260817T120000
DTSTAMP:20260423T121812
CREATED:20260209T173452Z
LAST-MODIFIED:20260423T180202Z
UID:10022697-1786964400-1786968000@sjcc.org
SUMMARY:Fitness Class: Rock Steady Boxing Level 1/2
DESCRIPTION:Open gym hours.
URL:https://sjcc.org/event/fitness-class-rock-steady-boxing-level-1-2/2026-08-17/
LOCATION:Stroum Jewish Community Center\, 3801 E Mercer Way\, Mercer Island\, WA\, United States
CATEGORIES:Beginner,Demographics: Adults,Demographics: Seniors (55+ better),Demographics: Young Adults,Exercise Studio,Fitness and Aquatics,Group Fitness Classes
ORGANIZER;CN="Stroum JCC":MAILTO:info@sjcc.org
GEO:47.576754;-122.206204
X-APPLE-STRUCTURED-LOCATION;VALUE=URI;X-ADDRESS=Stroum Jewish Community Center 3801 E Mercer Way Mercer Island WA United States;X-APPLE-RADIUS=500;X-TITLE=3801 E Mercer Way:geo:-122.206204,47.576754
END:VEVENT
BEGIN:VEVENT
DTSTART;TZID=America/Los_Angeles:20260818T083000
DTEND;TZID=America/Los_Angeles:20260818T093000
DTSTAMP:20260423T121812
CREATED:20251216T174616Z
LAST-MODIFIED:20260423T180324Z
UID:10022739-1787041800-1787045400@sjcc.org
SUMMARY:Fitness Class: TRX Suspension Training
DESCRIPTION:Open gym hours.
URL:https://sjcc.org/event/fitness-class-trx-suspension-training-2/2026-08-18/
LOCATION:Stroum Jewish Community Center\, 3801 E Mercer Way\, Mercer Island\, WA\, United States
CATEGORIES:Demographics: Adults,Demographics: Young Adults,Exercise Studio,Fitness and Aquatics,Group Fitness Classes,Intermediate,Membership
ORGANIZER;CN="Stroum JCC":MAILTO:info@sjcc.org
GEO:47.576754;-122.206204
X-APPLE-STRUCTURED-LOCATION;VALUE=URI;X-ADDRESS=Stroum Jewish Community Center 3801 E Mercer Way Mercer Island WA United States;X-APPLE-RADIUS=500;X-TITLE=3801 E Mercer Way:geo:-122.206204,47.576754
END:VEVENT
BEGIN:VEVENT
DTSTART;TZID=America/Los_Angeles:20260818T090000
DTEND;TZID=America/Los_Angeles:20260818T100000
DTSTAMP:20260423T121812
CREATED:20260123T003133Z
LAST-MODIFIED:20260423T180303Z
UID:10022726-1787043600-1787047200@sjcc.org
SUMMARY:Fitness Class: Aqua Fit Strong
DESCRIPTION:Open gym hours.
URL:https://sjcc.org/event/fitness-class-aqua-fit-strong/2026-08-18/
LOCATION:Stroum Jewish Community Center\, 3801 E Mercer Way\, Mercer Island\, WA\, United States
CATEGORIES:Adults + Seniors,Beginner,Demographics: Adults,Demographics: Seniors (55+ better),Fitness and Aquatics,Group Fitness Classes,Membership,Pool,Swimming
ORGANIZER;CN="Stroum JCC":MAILTO:info@sjcc.org
GEO:47.576754;-122.206204
X-APPLE-STRUCTURED-LOCATION;VALUE=URI;X-ADDRESS=Stroum Jewish Community Center 3801 E Mercer Way Mercer Island WA United States;X-APPLE-RADIUS=500;X-TITLE=3801 E Mercer Way:geo:-122.206204,47.576754
END:VEVENT
BEGIN:VEVENT
DTSTART;TZID=America/Los_Angeles:20260818T094500
DTEND;TZID=America/Los_Angeles:20260818T104500
DTSTAMP:20260423T121813
CREATED:20251216T174544Z
LAST-MODIFIED:20260423T180341Z
UID:10022763-1787046300-1787049900@sjcc.org
SUMMARY:Fitness Class: Body Fit
DESCRIPTION:Open gym hours.
URL:https://sjcc.org/event/fitness-class-body-fit/2026-08-18/
LOCATION:Stroum Jewish Community Center\, 3801 E Mercer Way\, Mercer Island\, WA\, United States
CATEGORIES:Demographics: Adults,Demographics: Seniors (55+ better),Demographics: Young Adults,Exercise Studio,Fitness and Aquatics,Group Fitness Classes,Intermediate,Membership
ORGANIZER;CN="Stroum JCC":MAILTO:info@sjcc.org
GEO:47.576754;-122.206204
X-APPLE-STRUCTURED-LOCATION;VALUE=URI;X-ADDRESS=Stroum Jewish Community Center 3801 E Mercer Way Mercer Island WA United States;X-APPLE-RADIUS=500;X-TITLE=3801 E Mercer Way:geo:-122.206204,47.576754
END:VEVENT
BEGIN:VEVENT
DTSTART;TZID=America/Los_Angeles:20260819T110000
DTEND;TZID=America/Los_Angeles:20260819T120000
DTSTAMP:20260423T121813
CREATED:20260209T173452Z
LAST-MODIFIED:20260423T180202Z
UID:10022698-1787137200-1787140800@sjcc.org
SUMMARY:Fitness Class: Rock Steady Boxing Level 1/2
DESCRIPTION:Open gym hours.
URL:https://sjcc.org/event/fitness-class-rock-steady-boxing-level-1-2/2026-08-19/
LOCATION:Stroum Jewish Community Center\, 3801 E Mercer Way\, Mercer Island\, WA\, United States
CATEGORIES:Beginner,Demographics: Adults,Demographics: Seniors (55+ better),Demographics: Young Adults,Exercise Studio,Fitness and Aquatics,Group Fitness Classes
ORGANIZER;CN="Stroum JCC":MAILTO:info@sjcc.org
GEO:47.576754;-122.206204
X-APPLE-STRUCTURED-LOCATION;VALUE=URI;X-ADDRESS=Stroum Jewish Community Center 3801 E Mercer Way Mercer Island WA United States;X-APPLE-RADIUS=500;X-TITLE=3801 E Mercer Way:geo:-122.206204,47.576754
END:VEVENT
BEGIN:VEVENT
DTSTART;TZID=America/Los_Angeles:20260820T090000
DTEND;TZID=America/Los_Angeles:20260820T100000
DTSTAMP:20260423T121813
CREATED:20260123T004410Z
LAST-MODIFIED:20260423T180246Z
UID:10022714-1787216400-1787220000@sjcc.org
SUMMARY:Fitness Class: Aqua Fit HIIT
DESCRIPTION:Open gym hours.
URL:https://sjcc.org/event/fitness-class-aqua-fit-hiit/2026-08-20/
LOCATION:Stroum Jewish Community Center\, 3801 E Mercer Way\, Mercer Island\, WA\, United States
CATEGORIES:Adults + Seniors,Beginner,Demographics: Adults,Demographics: Seniors (55+ better),Fitness and Aquatics,Group Fitness Classes,Membership,Pool,Swimming
ORGANIZER;CN="Stroum JCC":MAILTO:info@sjcc.org
GEO:47.576754;-122.206204
X-APPLE-STRUCTURED-LOCATION;VALUE=URI;X-ADDRESS=Stroum Jewish Community Center 3801 E Mercer Way Mercer Island WA United States;X-APPLE-RADIUS=500;X-TITLE=3801 E Mercer Way:geo:-122.206204,47.576754
END:VEVENT
BEGIN:VEVENT
DTSTART;TZID=America/Los_Angeles:20260820T094500
DTEND;TZID=America/Los_Angeles:20260820T104500
DTSTAMP:20260423T121813
CREATED:20251216T174544Z
LAST-MODIFIED:20260423T180341Z
UID:10022764-1787219100-1787222700@sjcc.org
SUMMARY:Fitness Class: Body Fit
DESCRIPTION:Open gym hours.
URL:https://sjcc.org/event/fitness-class-body-fit/2026-08-20/
LOCATION:Stroum Jewish Community Center\, 3801 E Mercer Way\, Mercer Island\, WA\, United States
CATEGORIES:Demographics: Adults,Demographics: Seniors (55+ better),Demographics: Young Adults,Exercise Studio,Fitness and Aquatics,Group Fitness Classes,Intermediate,Membership
ORGANIZER;CN="Stroum JCC":MAILTO:info@sjcc.org
GEO:47.576754;-122.206204
X-APPLE-STRUCTURED-LOCATION;VALUE=URI;X-ADDRESS=Stroum Jewish Community Center 3801 E Mercer Way Mercer Island WA United States;X-APPLE-RADIUS=500;X-TITLE=3801 E Mercer Way:geo:-122.206204,47.576754
END:VEVENT
BEGIN:VEVENT
DTSTART;TZID=America/Los_Angeles:20260820T110000
DTEND;TZID=America/Los_Angeles:20260820T114000
DTSTAMP:20260423T121813
CREATED:20260326T183514Z
LAST-MODIFIED:20260423T180107Z
UID:10022624-1787223600-1787226000@sjcc.org
SUMMARY:Fitness Class: Balance + Stability
DESCRIPTION:Open gym hours.
URL:https://sjcc.org/event/fitness-class-balance-stability/2026-08-20/
LOCATION:Stroum Jewish Community Center\, 3801 E Mercer Way\, Mercer Island\, WA\, United States
CATEGORIES:Beginner,Demographics: Adults,Demographics: Seniors (55+ better),Demographics: Young Adults,Exercise Studio,Fitness and Aquatics,Group Fitness Classes
ORGANIZER;CN="Stroum JCC":MAILTO:info@sjcc.org
GEO:47.576754;-122.206204
X-APPLE-STRUCTURED-LOCATION;VALUE=URI;X-ADDRESS=Stroum Jewish Community Center 3801 E Mercer Way Mercer Island WA United States;X-APPLE-RADIUS=500;X-TITLE=3801 E Mercer Way:geo:-122.206204,47.576754
END:VEVENT
BEGIN:VEVENT
DTSTART;TZID=America/Los_Angeles:20260821T110000
DTEND;TZID=America/Los_Angeles:20260821T120000
DTSTAMP:20260423T121813
CREATED:20260209T173452Z
LAST-MODIFIED:20260423T180202Z
UID:10022699-1787310000-1787313600@sjcc.org
SUMMARY:Fitness Class: Rock Steady Boxing Level 1/2
DESCRIPTION:Open gym hours.
URL:https://sjcc.org/event/fitness-class-rock-steady-boxing-level-1-2/2026-08-21/
LOCATION:Stroum Jewish Community Center\, 3801 E Mercer Way\, Mercer Island\, WA\, United States
CATEGORIES:Beginner,Demographics: Adults,Demographics: Seniors (55+ better),Demographics: Young Adults,Exercise Studio,Fitness and Aquatics,Group Fitness Classes
ORGANIZER;CN="Stroum JCC":MAILTO:info@sjcc.org
GEO:47.576754;-122.206204
X-APPLE-STRUCTURED-LOCATION;VALUE=URI;X-ADDRESS=Stroum Jewish Community Center 3801 E Mercer Way Mercer Island WA United States;X-APPLE-RADIUS=500;X-TITLE=3801 E Mercer Way:geo:-122.206204,47.576754
END:VEVENT
BEGIN:VEVENT
DTSTART;TZID=America/Los_Angeles:20260824T110000
DTEND;TZID=America/Los_Angeles:20260824T120000
DTSTAMP:20260423T121813
CREATED:20260209T173452Z
LAST-MODIFIED:20260423T180202Z
UID:10022700-1787569200-1787572800@sjcc.org
SUMMARY:Fitness Class: Rock Steady Boxing Level 1/2
DESCRIPTION:Open gym hours.
URL:https://sjcc.org/event/fitness-class-rock-steady-boxing-level-1-2/2026-08-24/
LOCATION:Stroum Jewish Community Center\, 3801 E Mercer Way\, Mercer Island\, WA\, United States
CATEGORIES:Beginner,Demographics: Adults,Demographics: Seniors (55+ better),Demographics: Young Adults,Exercise Studio,Fitness and Aquatics,Group Fitness Classes
ORGANIZER;CN="Stroum JCC":MAILTO:info@sjcc.org
GEO:47.576754;-122.206204
X-APPLE-STRUCTURED-LOCATION;VALUE=URI;X-ADDRESS=Stroum Jewish Community Center 3801 E Mercer Way Mercer Island WA United States;X-APPLE-RADIUS=500;X-TITLE=3801 E Mercer Way:geo:-122.206204,47.576754
END:VEVENT
BEGIN:VEVENT
DTSTART;TZID=America/Los_Angeles:20260825T083000
DTEND;TZID=America/Los_Angeles:20260825T093000
DTSTAMP:20260423T121813
CREATED:20251216T174616Z
LAST-MODIFIED:20260423T180324Z
UID:10022740-1787646600-1787650200@sjcc.org
SUMMARY:Fitness Class: TRX Suspension Training
DESCRIPTION:Open gym hours.
URL:https://sjcc.org/event/fitness-class-trx-suspension-training-2/2026-08-25/
LOCATION:Stroum Jewish Community Center\, 3801 E Mercer Way\, Mercer Island\, WA\, United States
CATEGORIES:Demographics: Adults,Demographics: Young Adults,Exercise Studio,Fitness and Aquatics,Group Fitness Classes,Intermediate,Membership
ORGANIZER;CN="Stroum JCC":MAILTO:info@sjcc.org
GEO:47.576754;-122.206204
X-APPLE-STRUCTURED-LOCATION;VALUE=URI;X-ADDRESS=Stroum Jewish Community Center 3801 E Mercer Way Mercer Island WA United States;X-APPLE-RADIUS=500;X-TITLE=3801 E Mercer Way:geo:-122.206204,47.576754
END:VEVENT
BEGIN:VEVENT
DTSTART;TZID=America/Los_Angeles:20260825T090000
DTEND;TZID=America/Los_Angeles:20260825T100000
DTSTAMP:20260423T121813
CREATED:20260123T003133Z
LAST-MODIFIED:20260423T180303Z
UID:10022727-1787648400-1787652000@sjcc.org
SUMMARY:Fitness Class: Aqua Fit Strong
DESCRIPTION:Open gym hours.
URL:https://sjcc.org/event/fitness-class-aqua-fit-strong/2026-08-25/
LOCATION:Stroum Jewish Community Center\, 3801 E Mercer Way\, Mercer Island\, WA\, United States
CATEGORIES:Adults + Seniors,Beginner,Demographics: Adults,Demographics: Seniors (55+ better),Fitness and Aquatics,Group Fitness Classes,Membership,Pool,Swimming
ORGANIZER;CN="Stroum JCC":MAILTO:info@sjcc.org
GEO:47.576754;-122.206204
X-APPLE-STRUCTURED-LOCATION;VALUE=URI;X-ADDRESS=Stroum Jewish Community Center 3801 E Mercer Way Mercer Island WA United States;X-APPLE-RADIUS=500;X-TITLE=3801 E Mercer Way:geo:-122.206204,47.576754
END:VEVENT
BEGIN:VEVENT
DTSTART;TZID=America/Los_Angeles:20260825T094500
DTEND;TZID=America/Los_Angeles:20260825T104500
DTSTAMP:20260423T121813
CREATED:20251216T174544Z
LAST-MODIFIED:20260423T180341Z
UID:10022765-1787651100-1787654700@sjcc.org
SUMMARY:Fitness Class: Body Fit
DESCRIPTION:Open gym hours.
URL:https://sjcc.org/event/fitness-class-body-fit/2026-08-25/
LOCATION:Stroum Jewish Community Center\, 3801 E Mercer Way\, Mercer Island\, WA\, United States
CATEGORIES:Demographics: Adults,Demographics: Seniors (55+ better),Demographics: Young Adults,Exercise Studio,Fitness and Aquatics,Group Fitness Classes,Intermediate,Membership
ORGANIZER;CN="Stroum JCC":MAILTO:info@sjcc.org
GEO:47.576754;-122.206204
X-APPLE-STRUCTURED-LOCATION;VALUE=URI;X-ADDRESS=Stroum Jewish Community Center 3801 E Mercer Way Mercer Island WA United States;X-APPLE-RADIUS=500;X-TITLE=3801 E Mercer Way:geo:-122.206204,47.576754
END:VEVENT
BEGIN:VEVENT
DTSTART;TZID=America/Los_Angeles:20260826T110000
DTEND;TZID=America/Los_Angeles:20260826T120000
DTSTAMP:20260423T121813
CREATED:20260209T173452Z
LAST-MODIFIED:20260423T180202Z
UID:10022701-1787742000-1787745600@sjcc.org
SUMMARY:Fitness Class: Rock Steady Boxing Level 1/2
DESCRIPTION:Open gym hours.
URL:https://sjcc.org/event/fitness-class-rock-steady-boxing-level-1-2/2026-08-26/
LOCATION:Stroum Jewish Community Center\, 3801 E Mercer Way\, Mercer Island\, WA\, United States
CATEGORIES:Beginner,Demographics: Adults,Demographics: Seniors (55+ better),Demographics: Young Adults,Exercise Studio,Fitness and Aquatics,Group Fitness Classes
ORGANIZER;CN="Stroum JCC":MAILTO:info@sjcc.org
GEO:47.576754;-122.206204
X-APPLE-STRUCTURED-LOCATION;VALUE=URI;X-ADDRESS=Stroum Jewish Community Center 3801 E Mercer Way Mercer Island WA United States;X-APPLE-RADIUS=500;X-TITLE=3801 E Mercer Way:geo:-122.206204,47.576754
END:VEVENT
BEGIN:VEVENT
DTSTART;TZID=America/Los_Angeles:20260827T090000
DTEND;TZID=America/Los_Angeles:20260827T100000
DTSTAMP:20260423T121813
CREATED:20260123T004410Z
LAST-MODIFIED:20260423T180246Z
UID:10022715-1787821200-1787824800@sjcc.org
SUMMARY:Fitness Class: Aqua Fit HIIT
DESCRIPTION:Open gym hours.
URL:https://sjcc.org/event/fitness-class-aqua-fit-hiit/2026-08-27/
LOCATION:Stroum Jewish Community Center\, 3801 E Mercer Way\, Mercer Island\, WA\, United States
CATEGORIES:Adults + Seniors,Beginner,Demographics: Adults,Demographics: Seniors (55+ better),Fitness and Aquatics,Group Fitness Classes,Membership,Pool,Swimming
ORGANIZER;CN="Stroum JCC":MAILTO:info@sjcc.org
GEO:47.576754;-122.206204
X-APPLE-STRUCTURED-LOCATION;VALUE=URI;X-ADDRESS=Stroum Jewish Community Center 3801 E Mercer Way Mercer Island WA United States;X-APPLE-RADIUS=500;X-TITLE=3801 E Mercer Way:geo:-122.206204,47.576754
END:VEVENT
BEGIN:VEVENT
DTSTART;TZID=America/Los_Angeles:20260827T094500
DTEND;TZID=America/Los_Angeles:20260827T104500
DTSTAMP:20260423T121813
CREATED:20251216T174544Z
LAST-MODIFIED:20260423T180341Z
UID:10022766-1787823900-1787827500@sjcc.org
SUMMARY:Fitness Class: Body Fit
DESCRIPTION:Open gym hours.
URL:https://sjcc.org/event/fitness-class-body-fit/2026-08-27/
LOCATION:Stroum Jewish Community Center\, 3801 E Mercer Way\, Mercer Island\, WA\, United States
CATEGORIES:Demographics: Adults,Demographics: Seniors (55+ better),Demographics: Young Adults,Exercise Studio,Fitness and Aquatics,Group Fitness Classes,Intermediate,Membership
ORGANIZER;CN="Stroum JCC":MAILTO:info@sjcc.org
GEO:47.576754;-122.206204
X-APPLE-STRUCTURED-LOCATION;VALUE=URI;X-ADDRESS=Stroum Jewish Community Center 3801 E Mercer Way Mercer Island WA United States;X-APPLE-RADIUS=500;X-TITLE=3801 E Mercer Way:geo:-122.206204,47.576754
END:VEVENT
BEGIN:VEVENT
DTSTART;TZID=America/Los_Angeles:20260827T110000
DTEND;TZID=America/Los_Angeles:20260827T114000
DTSTAMP:20260423T121813
CREATED:20260326T183514Z
LAST-MODIFIED:20260423T180107Z
UID:10022625-1787828400-1787830800@sjcc.org
SUMMARY:Fitness Class: Balance + Stability
DESCRIPTION:Open gym hours.
URL:https://sjcc.org/event/fitness-class-balance-stability/2026-08-27/
LOCATION:Stroum Jewish Community Center\, 3801 E Mercer Way\, Mercer Island\, WA\, United States
CATEGORIES:Beginner,Demographics: Adults,Demographics: Seniors (55+ better),Demographics: Young Adults,Exercise Studio,Fitness and Aquatics,Group Fitness Classes
ORGANIZER;CN="Stroum JCC":MAILTO:info@sjcc.org
GEO:47.576754;-122.206204
X-APPLE-STRUCTURED-LOCATION;VALUE=URI;X-ADDRESS=Stroum Jewish Community Center 3801 E Mercer Way Mercer Island WA United States;X-APPLE-RADIUS=500;X-TITLE=3801 E Mercer Way:geo:-122.206204,47.576754
END:VEVENT
BEGIN:VEVENT
DTSTART;TZID=America/Los_Angeles:20260828T110000
DTEND;TZID=America/Los_Angeles:20260828T120000
DTSTAMP:20260423T121813
CREATED:20260209T173452Z
LAST-MODIFIED:20260423T180202Z
UID:10022702-1787914800-1787918400@sjcc.org
SUMMARY:Fitness Class: Rock Steady Boxing Level 1/2
DESCRIPTION:Open gym hours.
URL:https://sjcc.org/event/fitness-class-rock-steady-boxing-level-1-2/2026-08-28/
LOCATION:Stroum Jewish Community Center\, 3801 E Mercer Way\, Mercer Island\, WA\, United States
CATEGORIES:Beginner,Demographics: Adults,Demographics: Seniors (55+ better),Demographics: Young Adults,Exercise Studio,Fitness and Aquatics,Group Fitness Classes
ORGANIZER;CN="Stroum JCC":MAILTO:info@sjcc.org
GEO:47.576754;-122.206204
X-APPLE-STRUCTURED-LOCATION;VALUE=URI;X-ADDRESS=Stroum Jewish Community Center 3801 E Mercer Way Mercer Island WA United States;X-APPLE-RADIUS=500;X-TITLE=3801 E Mercer Way:geo:-122.206204,47.576754
END:VEVENT
BEGIN:VEVENT
DTSTART;TZID=America/Los_Angeles:20260831T110000
DTEND;TZID=America/Los_Angeles:20260831T120000
DTSTAMP:20260423T121813
CREATED:20260209T173452Z
LAST-MODIFIED:20260423T180202Z
UID:10022703-1788174000-1788177600@sjcc.org
SUMMARY:Fitness Class: Rock Steady Boxing Level 1/2
DESCRIPTION:Open gym hours.
URL:https://sjcc.org/event/fitness-class-rock-steady-boxing-level-1-2/2026-08-31/
LOCATION:Stroum Jewish Community Center\, 3801 E Mercer Way\, Mercer Island\, WA\, United States
CATEGORIES:Beginner,Demographics: Adults,Demographics: Seniors (55+ better),Demographics: Young Adults,Exercise Studio,Fitness and Aquatics,Group Fitness Classes
ORGANIZER;CN="Stroum JCC":MAILTO:info@sjcc.org
GEO:47.576754;-122.206204
X-APPLE-STRUCTURED-LOCATION;VALUE=URI;X-ADDRESS=Stroum Jewish Community Center 3801 E Mercer Way Mercer Island WA United States;X-APPLE-RADIUS=500;X-TITLE=3801 E Mercer Way:geo:-122.206204,47.576754
END:VEVENT
BEGIN:VEVENT
DTSTART;TZID=America/Los_Angeles:20261206T133000
DTEND;TZID=America/Los_Angeles:20261206T150000
DTSTAMP:20260423T121813
CREATED:20260415T204838Z
LAST-MODIFIED:20260415T220802Z
UID:10022476-1796563800-1796569200@sjcc.org
SUMMARY:Shine Bright: SJCC Family Hanukkah Event
DESCRIPTION:Open gym hours.
URL:https://sjcc.org/event/shine-bright-sjcc-family-hanukkah-event/
LOCATION:Stroum Jewish Community Center\, 3801 E Mercer Way\, Mercer Island\, WA\, United States
CATEGORIES:Arts + Ideas
ORGANIZER;CN="Stroum JCC":MAILTO:info@sjcc.org
GEO:47.576754;-122.206204
X-APPLE-STRUCTURED-LOCATION;VALUE=URI;X-ADDRESS=Stroum Jewish Community Center 3801 E Mercer Way Mercer Island WA United States;X-APPLE-RADIUS=500;X-TITLE=3801 E Mercer Way:geo:-122.206204,47.576754
END:VEVENT
BEGIN:VEVENT
DTSTART;TZID=America/Los_Angeles:20270321T100000
DTEND;TZID=America/Los_Angeles:20270321T150000
DTSTAMP:20260423T121813
CREATED:20260324T213830Z
LAST-MODIFIED:20260324T213831Z
UID:10022300-1805623200-1805641200@sjcc.org
SUMMARY:SJCC Community Purim Festival
DESCRIPTION:Open gym hours.
URL:https://sjcc.org/event/sjcc-community-purim-festival/
LOCATION:Stroum Jewish Community Center\, 3801 E Mercer Way\, Mercer Island\, WA\, United States
CATEGORIES:Adults + Seniors,Demographics: Adults,Demographics: Early Childhood (Birth to 5 yrs),Demographics: Families,Demographics: Young Adults,Family Programs,J Community,Jewish Life,Kid Programs,Kids: Grades K to 5th
ORGANIZER;CN="Stroum JCC":MAILTO:info@sjcc.org
GEO:47.576754;-122.206204
X-APPLE-STRUCTURED-LOCATION;VALUE=URI;X-ADDRESS=Stroum Jewish Community Center 3801 E Mercer Way Mercer Island WA United States;X-APPLE-RADIUS=500;X-TITLE=3801 E Mercer Way:geo:-122.206204,47.576754
END:VEVENT
BEGIN:VEVENT
DTSTART;TZID=America/Los_Angeles:20270520T120000
DTEND;TZID=America/Los_Angeles:20270520T130000
DTSTAMP:20260423T121813
CREATED:20260318T200746Z
LAST-MODIFIED:20260318T200746Z
UID:10022216-1810814400-1810818000@sjcc.org
SUMMARY:2027 Circle of Friends Luncheon + Fundraiser
DESCRIPTION:Open gym hours.
URL:https://sjcc.org/event/2027-circle-of-friends-luncheon-fundraiser/
LOCATION:Stroum Jewish Community Center\, 3801 E Mercer Way\, Mercer Island\, WA\, United States
CATEGORIES:Demographics,Demographics: Adults,Demographics: Families,Demographics: Seniors (55+ better),Demographics: Young Adults,Development,Jewish Life
ORGANIZER;CN="Stroum JCC":MAILTO:info@sjcc.org
GEO:47.576754;-122.206204
X-APPLE-STRUCTURED-LOCATION;VALUE=URI;X-ADDRESS=Stroum Jewish Community Center 3801 E Mercer Way Mercer Island WA United States;X-APPLE-RADIUS=500;X-TITLE=3801 E Mercer Way:geo:-122.206204,47.576754
END:VEVENT
END:VCALENDAR