BEGIN:VCALENDAR
VERSION:2.0
PRODID:-//Stroum Jewish Community Center of Greater Seattle - ECPv6.15.20//NONSGML v1.0//EN
CALSCALE:GREGORIAN
METHOD:PUBLISH
X-ORIGINAL-URL:https://sjcc.org
X-WR-CALDESC:Events for Stroum Jewish Community Center of Greater Seattle
REFRESH-INTERVAL;VALUE=DURATION:PT1H
X-Robots-Tag:noindex
X-PUBLISHED-TTL:PT1H
BEGIN:VTIMEZONE
TZID:America/Los_Angeles
BEGIN:DAYLIGHT
TZOFFSETFROM:-0800
TZOFFSETTO:-0700
TZNAME:PDT
DTSTART:20240310T100000
END:DAYLIGHT
BEGIN:STANDARD
TZOFFSETFROM:-0700
TZOFFSETTO:-0800
TZNAME:PST
DTSTART:20241103T090000
END:STANDARD
BEGIN:DAYLIGHT
TZOFFSETFROM:-0800
TZOFFSETTO:-0700
TZNAME:PDT
DTSTART:20250309T100000
END:DAYLIGHT
BEGIN:STANDARD
TZOFFSETFROM:-0700
TZOFFSETTO:-0800
TZNAME:PST
DTSTART:20251102T090000
END:STANDARD
BEGIN:DAYLIGHT
TZOFFSETFROM:-0800
TZOFFSETTO:-0700
TZNAME:PDT
DTSTART:20260308T100000
END:DAYLIGHT
BEGIN:STANDARD
TZOFFSETFROM:-0700
TZOFFSETTO:-0800
TZNAME:PST
DTSTART:20261101T090000
END:STANDARD
BEGIN:DAYLIGHT
TZOFFSETFROM:-0800
TZOFFSETTO:-0700
TZNAME:PDT
DTSTART:20270314T100000
END:DAYLIGHT
BEGIN:STANDARD
TZOFFSETFROM:-0700
TZOFFSETTO:-0800
TZNAME:PST
DTSTART:20271107T090000
END:STANDARD
END:VTIMEZONE
BEGIN:VEVENT
DTSTART;TZID=America/Los_Angeles:20251229T090000
DTEND;TZID=America/Los_Angeles:20251229T160000
DTSTAMP:20260421T160943
CREATED:20251104T175449Z
LAST-MODIFIED:20251223T204858Z
UID:10018718-1766998800-1767024000@sjcc.org
SUMMARY:School's Out Winter Break Camp
DESCRIPTION:For parents who want extra info on camp\, join us for J Camp Parent Orientation night.
URL:https://sjcc.org/event/schools-out-winter-break-camp/2025-12-29/
LOCATION:Stroum Jewish Community Center\, 3801 E Mercer Way\, Mercer Island\, WA\, United States
CATEGORIES:Camps + After School,Demographics: Early Childhood (Birth to 5 yrs),Demographics: Families,Kid Programs,Kids: Grades K to 5th,School's Out J Camp
ATTACH;FMTTYPE=image/jpeg:https://sjcc.org/wp-content/uploads/2025/11/251222-schools-out-winter-SLIDE-1920.jpg
ORGANIZER;CN="Stroum JCC":MAILTO:info@sjcc.org
GEO:47.576754;-122.206204
X-APPLE-STRUCTURED-LOCATION;VALUE=URI;X-ADDRESS=Stroum Jewish Community Center 3801 E Mercer Way Mercer Island WA United States;X-APPLE-RADIUS=500;X-TITLE=3801 E Mercer Way:geo:-122.206204,47.576754
END:VEVENT
BEGIN:VEVENT
DTSTART;TZID=America/Los_Angeles:20251230T090000
DTEND;TZID=America/Los_Angeles:20251230T160000
DTSTAMP:20260421T160943
CREATED:20251104T175449Z
LAST-MODIFIED:20251223T204858Z
UID:10018719-1767085200-1767110400@sjcc.org
SUMMARY:School's Out Winter Break Camp
DESCRIPTION:For parents who want extra info on camp\, join us for J Camp Parent Orientation night.
URL:https://sjcc.org/event/schools-out-winter-break-camp/2025-12-30/
LOCATION:Stroum Jewish Community Center\, 3801 E Mercer Way\, Mercer Island\, WA\, United States
CATEGORIES:Camps + After School,Demographics: Early Childhood (Birth to 5 yrs),Demographics: Families,Kid Programs,Kids: Grades K to 5th,School's Out J Camp
ATTACH;FMTTYPE=image/jpeg:https://sjcc.org/wp-content/uploads/2025/11/251222-schools-out-winter-SLIDE-1920.jpg
ORGANIZER;CN="Stroum JCC":MAILTO:info@sjcc.org
GEO:47.576754;-122.206204
X-APPLE-STRUCTURED-LOCATION;VALUE=URI;X-ADDRESS=Stroum Jewish Community Center 3801 E Mercer Way Mercer Island WA United States;X-APPLE-RADIUS=500;X-TITLE=3801 E Mercer Way:geo:-122.206204,47.576754
END:VEVENT
BEGIN:VEVENT
DTSTART;TZID=America/Los_Angeles:20251231T090000
DTEND;TZID=America/Los_Angeles:20251231T160000
DTSTAMP:20260421T160943
CREATED:20251104T175449Z
LAST-MODIFIED:20251223T204858Z
UID:10018720-1767171600-1767196800@sjcc.org
SUMMARY:School's Out Winter Break Camp
DESCRIPTION:For parents who want extra info on camp\, join us for J Camp Parent Orientation night.
URL:https://sjcc.org/event/schools-out-winter-break-camp/2025-12-31/
LOCATION:Stroum Jewish Community Center\, 3801 E Mercer Way\, Mercer Island\, WA\, United States
CATEGORIES:Camps + After School,Demographics: Early Childhood (Birth to 5 yrs),Demographics: Families,Kid Programs,Kids: Grades K to 5th,School's Out J Camp
ATTACH;FMTTYPE=image/jpeg:https://sjcc.org/wp-content/uploads/2025/11/251222-schools-out-winter-SLIDE-1920.jpg
ORGANIZER;CN="Stroum JCC":MAILTO:info@sjcc.org
GEO:47.576754;-122.206204
X-APPLE-STRUCTURED-LOCATION;VALUE=URI;X-ADDRESS=Stroum Jewish Community Center 3801 E Mercer Way Mercer Island WA United States;X-APPLE-RADIUS=500;X-TITLE=3801 E Mercer Way:geo:-122.206204,47.576754
END:VEVENT
BEGIN:VEVENT
DTSTART;TZID=America/Los_Angeles:20260102T090000
DTEND;TZID=America/Los_Angeles:20260102T160000
DTSTAMP:20260421T160943
CREATED:20251104T175449Z
LAST-MODIFIED:20251223T204858Z
UID:10018721-1767344400-1767369600@sjcc.org
SUMMARY:School's Out Winter Break Camp
DESCRIPTION:For parents who want extra info on camp\, join us for J Camp Parent Orientation night.
URL:https://sjcc.org/event/schools-out-winter-break-camp/2026-01-02/
LOCATION:Stroum Jewish Community Center\, 3801 E Mercer Way\, Mercer Island\, WA\, United States
CATEGORIES:Camps + After School,Demographics: Early Childhood (Birth to 5 yrs),Demographics: Families,Kid Programs,Kids: Grades K to 5th,School's Out J Camp
ATTACH;FMTTYPE=image/jpeg:https://sjcc.org/wp-content/uploads/2025/11/251222-schools-out-winter-SLIDE-1920.jpg
ORGANIZER;CN="Stroum JCC":MAILTO:info@sjcc.org
GEO:47.576754;-122.206204
X-APPLE-STRUCTURED-LOCATION;VALUE=URI;X-ADDRESS=Stroum Jewish Community Center 3801 E Mercer Way Mercer Island WA United States;X-APPLE-RADIUS=500;X-TITLE=3801 E Mercer Way:geo:-122.206204,47.576754
END:VEVENT
END:VCALENDAR