BEGIN:VCALENDAR
VERSION:2.0
PRODID:-//Stroum Jewish Community Center of Greater Seattle - ECPv6.15.20//NONSGML v1.0//EN
CALSCALE:GREGORIAN
METHOD:PUBLISH
X-ORIGINAL-URL:https://sjcc.org
X-WR-CALDESC:Events for Stroum Jewish Community Center of Greater Seattle
REFRESH-INTERVAL;VALUE=DURATION:PT1H
X-Robots-Tag:noindex
X-PUBLISHED-TTL:PT1H
BEGIN:VTIMEZONE
TZID:America/Los_Angeles
BEGIN:DAYLIGHT
TZOFFSETFROM:-0800
TZOFFSETTO:-0700
TZNAME:PDT
DTSTART:20250309T100000
END:DAYLIGHT
BEGIN:STANDARD
TZOFFSETFROM:-0700
TZOFFSETTO:-0800
TZNAME:PST
DTSTART:20251102T090000
END:STANDARD
BEGIN:DAYLIGHT
TZOFFSETFROM:-0800
TZOFFSETTO:-0700
TZNAME:PDT
DTSTART:20260308T100000
END:DAYLIGHT
BEGIN:STANDARD
TZOFFSETFROM:-0700
TZOFFSETTO:-0800
TZNAME:PST
DTSTART:20261101T090000
END:STANDARD
BEGIN:DAYLIGHT
TZOFFSETFROM:-0800
TZOFFSETTO:-0700
TZNAME:PDT
DTSTART:20270314T100000
END:DAYLIGHT
BEGIN:STANDARD
TZOFFSETFROM:-0700
TZOFFSETTO:-0800
TZNAME:PST
DTSTART:20271107T090000
END:STANDARD
END:VTIMEZONE
BEGIN:VEVENT
DTSTART;TZID=America/Los_Angeles:20260207T170000
DTEND;TZID=America/Los_Angeles:20260207T210000
DTSTAMP:20260424T024845
CREATED:20251217T230038Z
LAST-MODIFIED:20260204T204328Z
UID:10020807-1770483600-1770498000@sjcc.org
SUMMARY:North Seattle Parents Night Out (Cancelled)
DESCRIPTION:For parents who want extra info on camp\, join us for J Camp Parent Orientation night.
URL:https://sjcc.org/event/north-seattle-parents-night-out/
LOCATION:Seattle Jewish Community School (SJCS)\, 7217 Woodlawn Ave NE\, Seattle\, WA\, 98115\, United States
CATEGORIES:After School Class,Camps + After School,Demographics,J Community,Kid Programs,Kids: Grades 6th to 8th,Kids: Grades K to 5th
ATTACH;FMTTYPE=image/jpeg:https://sjcc.org/wp-content/uploads/2025/12/260207-pno-north-seattle-EVENT-1200.jpg
ORGANIZER;CN="Stroum JCC":MAILTO:info@sjcc.org
END:VEVENT
BEGIN:VEVENT
DTSTART;TZID=America/Los_Angeles:20260214T170000
DTEND;TZID=America/Los_Angeles:20260214T210000
DTSTAMP:20260424T024845
CREATED:20251118T184233Z
LAST-MODIFIED:20251118T184233Z
UID:10018816-1771088400-1771102800@sjcc.org
SUMMARY:February Parents Night Out
DESCRIPTION:For parents who want extra info on camp\, join us for J Camp Parent Orientation night.
URL:https://sjcc.org/event/february-parents-night-out/
LOCATION:Stroum Jewish Community Center\, 3801 E Mercer Way\, Mercer Island\, WA\, United States
CATEGORIES:After School Class,Camps + After School
ATTACH;FMTTYPE=image/jpeg:https://sjcc.org/wp-content/uploads/2025/11/260214-parents-night-out-EVENT-1200.jpg
ORGANIZER;CN="Stroum JCC":MAILTO:info@sjcc.org
GEO:47.576754;-122.206204
X-APPLE-STRUCTURED-LOCATION;VALUE=URI;X-ADDRESS=Stroum Jewish Community Center 3801 E Mercer Way Mercer Island WA United States;X-APPLE-RADIUS=500;X-TITLE=3801 E Mercer Way:geo:-122.206204,47.576754
END:VEVENT
BEGIN:VEVENT
DTSTART;TZID=America/Los_Angeles:20260216T090000
DTEND;TZID=America/Los_Angeles:20260216T160000
DTSTAMP:20260424T024845
CREATED:20260120T215057Z
LAST-MODIFIED:20260130T171443Z
UID:10020905-1771232400-1771257600@sjcc.org
SUMMARY:School's Out Midwinter Break Camp
DESCRIPTION:For parents who want extra info on camp\, join us for J Camp Parent Orientation night.
URL:https://sjcc.org/event/schools-out-midwinter-break-camp/2026-02-16/
LOCATION:Stroum Jewish Community Center\, 3801 E Mercer Way\, Mercer Island\, WA\, United States
CATEGORIES:Camps + After School,Demographics: Early Childhood (Birth to 5 yrs),Demographics: Families,Kid Programs,Kids: Grades K to 5th,School's Out J Camp
ATTACH;FMTTYPE=image/jpeg:https://sjcc.org/wp-content/uploads/2026/01/260216-so-midwinter-break-HEADER-1200.jpg
ORGANIZER;CN="Stroum JCC":MAILTO:info@sjcc.org
GEO:47.576754;-122.206204
X-APPLE-STRUCTURED-LOCATION;VALUE=URI;X-ADDRESS=Stroum Jewish Community Center 3801 E Mercer Way Mercer Island WA United States;X-APPLE-RADIUS=500;X-TITLE=3801 E Mercer Way:geo:-122.206204,47.576754
END:VEVENT
BEGIN:VEVENT
DTSTART;TZID=America/Los_Angeles:20260217T090000
DTEND;TZID=America/Los_Angeles:20260217T160000
DTSTAMP:20260424T024845
CREATED:20260120T215057Z
LAST-MODIFIED:20260130T171443Z
UID:10020906-1771318800-1771344000@sjcc.org
SUMMARY:School's Out Midwinter Break Camp
DESCRIPTION:For parents who want extra info on camp\, join us for J Camp Parent Orientation night.
URL:https://sjcc.org/event/schools-out-midwinter-break-camp/2026-02-17/
LOCATION:Stroum Jewish Community Center\, 3801 E Mercer Way\, Mercer Island\, WA\, United States
CATEGORIES:Camps + After School,Demographics: Early Childhood (Birth to 5 yrs),Demographics: Families,Kid Programs,Kids: Grades K to 5th,School's Out J Camp
ATTACH;FMTTYPE=image/jpeg:https://sjcc.org/wp-content/uploads/2026/01/260216-so-midwinter-break-HEADER-1200.jpg
ORGANIZER;CN="Stroum JCC":MAILTO:info@sjcc.org
GEO:47.576754;-122.206204
X-APPLE-STRUCTURED-LOCATION;VALUE=URI;X-ADDRESS=Stroum Jewish Community Center 3801 E Mercer Way Mercer Island WA United States;X-APPLE-RADIUS=500;X-TITLE=3801 E Mercer Way:geo:-122.206204,47.576754
END:VEVENT
BEGIN:VEVENT
DTSTART;TZID=America/Los_Angeles:20260218T090000
DTEND;TZID=America/Los_Angeles:20260218T160000
DTSTAMP:20260424T024845
CREATED:20260120T215057Z
LAST-MODIFIED:20260130T171443Z
UID:10020907-1771405200-1771430400@sjcc.org
SUMMARY:School's Out Midwinter Break Camp
DESCRIPTION:For parents who want extra info on camp\, join us for J Camp Parent Orientation night.
URL:https://sjcc.org/event/schools-out-midwinter-break-camp/2026-02-18/
LOCATION:Stroum Jewish Community Center\, 3801 E Mercer Way\, Mercer Island\, WA\, United States
CATEGORIES:Camps + After School,Demographics: Early Childhood (Birth to 5 yrs),Demographics: Families,Kid Programs,Kids: Grades K to 5th,School's Out J Camp
ATTACH;FMTTYPE=image/jpeg:https://sjcc.org/wp-content/uploads/2026/01/260216-so-midwinter-break-HEADER-1200.jpg
ORGANIZER;CN="Stroum JCC":MAILTO:info@sjcc.org
GEO:47.576754;-122.206204
X-APPLE-STRUCTURED-LOCATION;VALUE=URI;X-ADDRESS=Stroum Jewish Community Center 3801 E Mercer Way Mercer Island WA United States;X-APPLE-RADIUS=500;X-TITLE=3801 E Mercer Way:geo:-122.206204,47.576754
END:VEVENT
BEGIN:VEVENT
DTSTART;TZID=America/Los_Angeles:20260219T090000
DTEND;TZID=America/Los_Angeles:20260219T160000
DTSTAMP:20260424T024845
CREATED:20260120T215057Z
LAST-MODIFIED:20260130T171443Z
UID:10020908-1771491600-1771516800@sjcc.org
SUMMARY:School's Out Midwinter Break Camp
DESCRIPTION:For parents who want extra info on camp\, join us for J Camp Parent Orientation night.
URL:https://sjcc.org/event/schools-out-midwinter-break-camp/2026-02-19/
LOCATION:Stroum Jewish Community Center\, 3801 E Mercer Way\, Mercer Island\, WA\, United States
CATEGORIES:Camps + After School,Demographics: Early Childhood (Birth to 5 yrs),Demographics: Families,Kid Programs,Kids: Grades K to 5th,School's Out J Camp
ATTACH;FMTTYPE=image/jpeg:https://sjcc.org/wp-content/uploads/2026/01/260216-so-midwinter-break-HEADER-1200.jpg
ORGANIZER;CN="Stroum JCC":MAILTO:info@sjcc.org
GEO:47.576754;-122.206204
X-APPLE-STRUCTURED-LOCATION;VALUE=URI;X-ADDRESS=Stroum Jewish Community Center 3801 E Mercer Way Mercer Island WA United States;X-APPLE-RADIUS=500;X-TITLE=3801 E Mercer Way:geo:-122.206204,47.576754
END:VEVENT
BEGIN:VEVENT
DTSTART;TZID=America/Los_Angeles:20260220T090000
DTEND;TZID=America/Los_Angeles:20260220T160000
DTSTAMP:20260424T024845
CREATED:20260120T215057Z
LAST-MODIFIED:20260130T171443Z
UID:10020909-1771578000-1771603200@sjcc.org
SUMMARY:School's Out Midwinter Break Camp
DESCRIPTION:For parents who want extra info on camp\, join us for J Camp Parent Orientation night.
URL:https://sjcc.org/event/schools-out-midwinter-break-camp/2026-02-20/
LOCATION:Stroum Jewish Community Center\, 3801 E Mercer Way\, Mercer Island\, WA\, United States
CATEGORIES:Camps + After School,Demographics: Early Childhood (Birth to 5 yrs),Demographics: Families,Kid Programs,Kids: Grades K to 5th,School's Out J Camp
ATTACH;FMTTYPE=image/jpeg:https://sjcc.org/wp-content/uploads/2026/01/260216-so-midwinter-break-HEADER-1200.jpg
ORGANIZER;CN="Stroum JCC":MAILTO:info@sjcc.org
GEO:47.576754;-122.206204
X-APPLE-STRUCTURED-LOCATION;VALUE=URI;X-ADDRESS=Stroum Jewish Community Center 3801 E Mercer Way Mercer Island WA United States;X-APPLE-RADIUS=500;X-TITLE=3801 E Mercer Way:geo:-122.206204,47.576754
END:VEVENT
END:VCALENDAR