BEGIN:VCALENDAR
VERSION:2.0
PRODID:-//Stroum Jewish Community Center of Greater Seattle - ECPv6.15.20//NONSGML v1.0//EN
CALSCALE:GREGORIAN
METHOD:PUBLISH
X-ORIGINAL-URL:https://sjcc.org
X-WR-CALDESC:Events for Stroum Jewish Community Center of Greater Seattle
REFRESH-INTERVAL;VALUE=DURATION:PT1H
X-Robots-Tag:noindex
X-PUBLISHED-TTL:PT1H
BEGIN:VTIMEZONE
TZID:America/Los_Angeles
BEGIN:DAYLIGHT
TZOFFSETFROM:-0800
TZOFFSETTO:-0700
TZNAME:PDT
DTSTART:20250309T100000
END:DAYLIGHT
BEGIN:STANDARD
TZOFFSETFROM:-0700
TZOFFSETTO:-0800
TZNAME:PST
DTSTART:20251102T090000
END:STANDARD
BEGIN:DAYLIGHT
TZOFFSETFROM:-0800
TZOFFSETTO:-0700
TZNAME:PDT
DTSTART:20260308T100000
END:DAYLIGHT
BEGIN:STANDARD
TZOFFSETFROM:-0700
TZOFFSETTO:-0800
TZNAME:PST
DTSTART:20261101T090000
END:STANDARD
BEGIN:DAYLIGHT
TZOFFSETFROM:-0800
TZOFFSETTO:-0700
TZNAME:PDT
DTSTART:20270314T100000
END:DAYLIGHT
BEGIN:STANDARD
TZOFFSETFROM:-0700
TZOFFSETTO:-0800
TZNAME:PST
DTSTART:20271107T090000
END:STANDARD
END:VTIMEZONE
BEGIN:VEVENT
DTSTART;TZID=America/Los_Angeles:20260102T090000
DTEND;TZID=America/Los_Angeles:20260102T160000
DTSTAMP:20260421T160726
CREATED:20251104T175449Z
LAST-MODIFIED:20251223T204858Z
UID:10018721-1767344400-1767369600@sjcc.org
SUMMARY:School's Out Winter Break Camp
DESCRIPTION:For parents who want extra info on camp\, join us for J Camp Parent Orientation night.
URL:https://sjcc.org/event/schools-out-winter-break-camp/2026-01-02/
LOCATION:Stroum Jewish Community Center\, 3801 E Mercer Way\, Mercer Island\, WA\, United States
CATEGORIES:Camps + After School,Demographics: Early Childhood (Birth to 5 yrs),Demographics: Families,Kid Programs,Kids: Grades K to 5th,School's Out J Camp
ATTACH;FMTTYPE=image/jpeg:https://sjcc.org/wp-content/uploads/2025/11/251222-schools-out-winter-SLIDE-1920.jpg
ORGANIZER;CN="Stroum JCC":MAILTO:info@sjcc.org
GEO:47.576754;-122.206204
X-APPLE-STRUCTURED-LOCATION;VALUE=URI;X-ADDRESS=Stroum Jewish Community Center 3801 E Mercer Way Mercer Island WA United States;X-APPLE-RADIUS=500;X-TITLE=3801 E Mercer Way:geo:-122.206204,47.576754
END:VEVENT
BEGIN:VEVENT
DTSTART;TZID=America/Los_Angeles:20260105T090000
DTEND;TZID=America/Los_Angeles:20260105T160000
DTSTAMP:20260421T160726
CREATED:20251104T175449Z
LAST-MODIFIED:20251223T204858Z
UID:10018722-1767603600-1767628800@sjcc.org
SUMMARY:School's Out Winter Break Camp
DESCRIPTION:For parents who want extra info on camp\, join us for J Camp Parent Orientation night.
URL:https://sjcc.org/event/schools-out-winter-break-camp/2026-01-05/
LOCATION:Stroum Jewish Community Center\, 3801 E Mercer Way\, Mercer Island\, WA\, United States
CATEGORIES:Camps + After School,Demographics: Early Childhood (Birth to 5 yrs),Demographics: Families,Kid Programs,Kids: Grades K to 5th,School's Out J Camp
ATTACH;FMTTYPE=image/jpeg:https://sjcc.org/wp-content/uploads/2025/11/251222-schools-out-winter-SLIDE-1920.jpg
ORGANIZER;CN="Stroum JCC":MAILTO:info@sjcc.org
GEO:47.576754;-122.206204
X-APPLE-STRUCTURED-LOCATION;VALUE=URI;X-ADDRESS=Stroum Jewish Community Center 3801 E Mercer Way Mercer Island WA United States;X-APPLE-RADIUS=500;X-TITLE=3801 E Mercer Way:geo:-122.206204,47.576754
END:VEVENT
BEGIN:VEVENT
DTSTART;TZID=America/Los_Angeles:20260110T170000
DTEND;TZID=America/Los_Angeles:20260110T210000
DTSTAMP:20260421T160726
CREATED:20251118T183926Z
LAST-MODIFIED:20251118T183926Z
UID:10018815-1768064400-1768078800@sjcc.org
SUMMARY:January Parents Night Out
DESCRIPTION:For parents who want extra info on camp\, join us for J Camp Parent Orientation night.
URL:https://sjcc.org/event/january-parents-night-out/
LOCATION:Stroum Jewish Community Center\, 3801 E Mercer Way\, Mercer Island\, WA\, United States
CATEGORIES:After School Class,Camps + After School
ATTACH;FMTTYPE=image/jpeg:https://sjcc.org/wp-content/uploads/2025/11/260110-parents-night-out-EVENT-1200.jpg
ORGANIZER;CN="Stroum JCC":MAILTO:info@sjcc.org
GEO:47.576754;-122.206204
X-APPLE-STRUCTURED-LOCATION;VALUE=URI;X-ADDRESS=Stroum Jewish Community Center 3801 E Mercer Way Mercer Island WA United States;X-APPLE-RADIUS=500;X-TITLE=3801 E Mercer Way:geo:-122.206204,47.576754
END:VEVENT
BEGIN:VEVENT
DTSTART;TZID=America/Los_Angeles:20260118T120000
DTEND;TZID=America/Los_Angeles:20260118T170000
DTSTAMP:20260421T160726
CREATED:20251111T231258Z
LAST-MODIFIED:20251117T220932Z
UID:10018733-1768737600-1768755600@sjcc.org
SUMMARY:Dinky Dunkers
DESCRIPTION:For parents who want extra info on camp\, join us for J Camp Parent Orientation night.
URL:https://sjcc.org/event/dinky-dunkers/
LOCATION:Stroum Jewish Community Center\, 3801 E Mercer Way\, Mercer Island\, WA\, United States
CATEGORIES:Camps + After School,Demographics: Adults,Family Programs,Fitness and Aquatics,J Community,J Kid Sports,J Kids Sports,Kid Programs,Kids: Grades K to 5th
ATTACH;FMTTYPE=image/jpeg:https://sjcc.org/wp-content/uploads/2025/11/260118-dinky-dunkers-EVENT-1200.jpg
ORGANIZER;CN="Stroum JCC":MAILTO:info@sjcc.org
GEO:47.576754;-122.206204
X-APPLE-STRUCTURED-LOCATION;VALUE=URI;X-ADDRESS=Stroum Jewish Community Center 3801 E Mercer Way Mercer Island WA United States;X-APPLE-RADIUS=500;X-TITLE=3801 E Mercer Way:geo:-122.206204,47.576754
END:VEVENT
BEGIN:VEVENT
DTSTART;TZID=America/Los_Angeles:20260119T090000
DTEND;TZID=America/Los_Angeles:20260119T150000
DTSTAMP:20260421T160726
CREATED:20251104T180546Z
LAST-MODIFIED:20251117T221011Z
UID:10018723-1768813200-1768834800@sjcc.org
SUMMARY:School's Out MLK Jr. Day Camp
DESCRIPTION:For parents who want extra info on camp\, join us for J Camp Parent Orientation night.
URL:https://sjcc.org/event/schools-out-mlk-jr-day-camp/
LOCATION:Stroum Jewish Community Center\, 3801 E Mercer Way\, Mercer Island\, WA\, United States
CATEGORIES:Camps + After School,Demographics: Early Childhood (Birth to 5 yrs),Demographics: Families,Kid Programs,Kids: Grades K to 5th,School's Out J Camp
ATTACH;FMTTYPE=image/jpeg:https://sjcc.org/wp-content/uploads/2025/11/260119-schools-out-mlk-EVENT-1200.jpg
ORGANIZER;CN="Stroum JCC":MAILTO:info@sjcc.org
GEO:47.576754;-122.206204
X-APPLE-STRUCTURED-LOCATION;VALUE=URI;X-ADDRESS=Stroum Jewish Community Center 3801 E Mercer Way Mercer Island WA United States;X-APPLE-RADIUS=500;X-TITLE=3801 E Mercer Way:geo:-122.206204,47.576754
END:VEVENT
BEGIN:VEVENT
DTSTART;TZID=America/Los_Angeles:20260126T090000
DTEND;TZID=America/Los_Angeles:20260126T160000
DTSTAMP:20260421T160726
CREATED:20260116T194850Z
LAST-MODIFIED:20260116T201138Z
UID:10020903-1769418000-1769443200@sjcc.org
SUMMARY:School's Out Winter Conference Camp
DESCRIPTION:For parents who want extra info on camp\, join us for J Camp Parent Orientation night.
URL:https://sjcc.org/event/schools-out-winter-conference-camp/
LOCATION:Stroum Jewish Community Center\, 3801 E Mercer Way\, Mercer Island\, WA\, United States
CATEGORIES:Camps + After School,Demographics: Early Childhood (Birth to 5 yrs),Demographics: Families,Kid Programs,Kids: Grades K to 5th,School's Out J Camp
ATTACH;FMTTYPE=image/jpeg:https://sjcc.org/wp-content/uploads/2026/01/260126-schools-out-EVENT-1200.jpg
ORGANIZER;CN="Stroum JCC":MAILTO:info@sjcc.org
GEO:47.576754;-122.206204
X-APPLE-STRUCTURED-LOCATION;VALUE=URI;X-ADDRESS=Stroum Jewish Community Center 3801 E Mercer Way Mercer Island WA United States;X-APPLE-RADIUS=500;X-TITLE=3801 E Mercer Way:geo:-122.206204,47.576754
END:VEVENT
END:VCALENDAR