BEGIN:VCALENDAR
VERSION:2.0
PRODID:-//Stroum Jewish Community Center of Greater Seattle - ECPv6.15.20//NONSGML v1.0//EN
CALSCALE:GREGORIAN
METHOD:PUBLISH
X-WR-CALNAME:Stroum Jewish Community Center of Greater Seattle
X-ORIGINAL-URL:https://sjcc.org
X-WR-CALDESC:Events for Stroum Jewish Community Center of Greater Seattle
REFRESH-INTERVAL;VALUE=DURATION:PT1H
X-Robots-Tag:noindex
X-PUBLISHED-TTL:PT1H
BEGIN:VTIMEZONE
TZID:America/Los_Angeles
BEGIN:DAYLIGHT
TZOFFSETFROM:-0800
TZOFFSETTO:-0700
TZNAME:PDT
DTSTART:20250309T100000
END:DAYLIGHT
BEGIN:STANDARD
TZOFFSETFROM:-0700
TZOFFSETTO:-0800
TZNAME:PST
DTSTART:20251102T090000
END:STANDARD
BEGIN:DAYLIGHT
TZOFFSETFROM:-0800
TZOFFSETTO:-0700
TZNAME:PDT
DTSTART:20260308T100000
END:DAYLIGHT
BEGIN:STANDARD
TZOFFSETFROM:-0700
TZOFFSETTO:-0800
TZNAME:PST
DTSTART:20261101T090000
END:STANDARD
BEGIN:DAYLIGHT
TZOFFSETFROM:-0800
TZOFFSETTO:-0700
TZNAME:PDT
DTSTART:20270314T100000
END:DAYLIGHT
BEGIN:STANDARD
TZOFFSETFROM:-0700
TZOFFSETTO:-0800
TZNAME:PST
DTSTART:20271107T090000
END:STANDARD
END:VTIMEZONE
BEGIN:VEVENT
DTSTART;VALUE=DATE:20260106
DTEND;VALUE=DATE:20260301
DTSTAMP:20260420T180345
CREATED:20250916T202147Z
LAST-MODIFIED:20251205T172027Z
UID:10018087-1767657600-1772323199@sjcc.org
SUMMARY:Exhibit: Karen Treiger “Standing on the Crack”
DESCRIPTION:Join us for a relaxed social workshop—grab a drink\, come with a friend\, and connect with others as you explore the stories and traditions behind your meaningful recipes.
URL:https://sjcc.org/event/exhibit-karen-treiger-standing-on-the-crack/
LOCATION:Stroum Jewish Community Center\, 3801 E Mercer Way\, Mercer Island\, WA\, United States
CATEGORIES:Adult Gatherings,Adults + Seniors,Art Exhibit,Arts + Ideas,Arts Featured Events,Author,Demographics,Demographics: Adults,Demographics: Seniors (55+ better),Demographics: Young Adults,J Community,Jewish Life,Talks,Young Adult Programs
ATTACH;FMTTYPE=image/jpeg:https://sjcc.org/wp-content/uploads/2025/09/260111-author-treiger-EVENT-1200-2.jpg
ORGANIZER;CN="Stroum JCC":MAILTO:info@sjcc.org
GEO:47.576754;-122.206204
X-APPLE-STRUCTURED-LOCATION;VALUE=URI;X-ADDRESS=Stroum Jewish Community Center 3801 E Mercer Way Mercer Island WA United States;X-APPLE-RADIUS=500;X-TITLE=3801 E Mercer Way:geo:-122.206204,47.576754
END:VEVENT
BEGIN:VEVENT
DTSTART;TZID=America/Los_Angeles:20260222T150000
DTEND;TZID=America/Los_Angeles:20260222T170000
DTSTAMP:20260420T180345
CREATED:20260113T212431Z
LAST-MODIFIED:20260117T002556Z
UID:10020895-1771772400-1771779600@sjcc.org
SUMMARY:Dinner at Our House
DESCRIPTION:Join us for a relaxed social workshop—grab a drink\, come with a friend\, and connect with others as you explore the stories and traditions behind your meaningful recipes.
URL:https://sjcc.org/event/dinner-at-our-house/
LOCATION:Stroum Jewish Community Center\, 3801 E Mercer Way\, Mercer Island\, WA\, United States
CATEGORIES:Adults + Seniors,Demographics: Adults,Demographics: Seniors (55+ better),Demographics: Young Adults,Family Programs,J Community,Jewish Life,Kids: Grades 6th to 8th,Mitzvah Corps,Teen Programs,Teens: Grades 9th to 12th,Young Adult Programs
ATTACH;FMTTYPE=image/jpeg:https://sjcc.org/wp-content/uploads/2026/01/2026-dinner-at-our-house-EVENT-1200.jpg
GEO:47.576754;-122.206204
X-APPLE-STRUCTURED-LOCATION;VALUE=URI;X-ADDRESS=Stroum Jewish Community Center 3801 E Mercer Way Mercer Island WA United States;X-APPLE-RADIUS=500;X-TITLE=3801 E Mercer Way:geo:-122.206204,47.576754
END:VEVENT
BEGIN:VEVENT
DTSTART;TZID=America/Los_Angeles:20260223T100000
DTEND;TZID=America/Los_Angeles:20260223T160000
DTSTAMP:20260420T180345
CREATED:20260115T222947Z
LAST-MODIFIED:20260121T184553Z
UID:10020902-1771840800-1771862400@sjcc.org
SUMMARY:American Red Cross Blood Drive
DESCRIPTION:Join us for a relaxed social workshop—grab a drink\, come with a friend\, and connect with others as you explore the stories and traditions behind your meaningful recipes.
URL:https://sjcc.org/event/american-red-cross-blood-drive/
LOCATION:Stroum Jewish Community Center\, 3801 E Mercer Way\, Mercer Island\, WA\, United States
CATEGORIES:Adult Gatherings,Adults + Seniors,Clinics + Workshops,Demographics,Demographics: Adults,Demographics: Young Adults,Fitness and Aquatics,J Community,Partner Event,Young Adult Programs
ATTACH;FMTTYPE=image/jpeg:https://sjcc.org/wp-content/uploads/2026/01/260223-blood-drive-EVENT-1200-1.jpg
ORGANIZER;CN="Stroum JCC":MAILTO:info@sjcc.org
GEO:47.576754;-122.206204
X-APPLE-STRUCTURED-LOCATION;VALUE=URI;X-ADDRESS=Stroum Jewish Community Center 3801 E Mercer Way Mercer Island WA United States;X-APPLE-RADIUS=500;X-TITLE=3801 E Mercer Way:geo:-122.206204,47.576754
END:VEVENT
BEGIN:VEVENT
DTSTART;TZID=America/Los_Angeles:20260223T170000
DTEND;TZID=America/Los_Angeles:20260223T190000
DTSTAMP:20260420T180345
CREATED:20260122T204647Z
LAST-MODIFIED:20260127T195107Z
UID:10020918-1771866000-1771873200@sjcc.org
SUMMARY:Adult Dodgeball
DESCRIPTION:Join us for a relaxed social workshop—grab a drink\, come with a friend\, and connect with others as you explore the stories and traditions behind your meaningful recipes.
URL:https://sjcc.org/event/adult-dodgeball/
LOCATION:Stroum Jewish Community Center\, 3801 E Mercer Way\, Mercer Island\, WA\, United States
CATEGORIES:Adult Games,Adults + Seniors,Clinics + Workshops,Demographics,Demographics: Adults,Demographics: Young Adults,Fitness and Aquatics,J Community,Membership,Young Adult Programs
ATTACH;FMTTYPE=image/jpeg:https://sjcc.org/wp-content/uploads/2026/01/260223-dodgeball-night-EVENT-1200.jpg
ORGANIZER;CN="Stroum JCC":MAILTO:info@sjcc.org
GEO:47.576754;-122.206204
X-APPLE-STRUCTURED-LOCATION;VALUE=URI;X-ADDRESS=Stroum Jewish Community Center 3801 E Mercer Way Mercer Island WA United States;X-APPLE-RADIUS=500;X-TITLE=3801 E Mercer Way:geo:-122.206204,47.576754
END:VEVENT
BEGIN:VEVENT
DTSTART;TZID=America/Los_Angeles:20260224T130000
DTEND;TZID=America/Los_Angeles:20260224T150000
DTSTAMP:20260420T180345
CREATED:20251230T173431Z
LAST-MODIFIED:20260117T003103Z
UID:10020831-1771938000-1771945200@sjcc.org
SUMMARY:Mosaic Series – Judaic Coasters
DESCRIPTION:Join us for a relaxed social workshop—grab a drink\, come with a friend\, and connect with others as you explore the stories and traditions behind your meaningful recipes.
URL:https://sjcc.org/event/mosaic-series-judaic-coasters/
LOCATION:Stroum Jewish Community Center\, 3801 E Mercer Way\, Mercer Island\, WA\, United States
CATEGORIES:Adult Classes,Adults + Seniors,Demographics,Demographics: Adults,Demographics: Seniors (55+ better),Demographics: Young Adults,J Community,Jewish Life,Young Adult Programs
ATTACH;FMTTYPE=image/jpeg:https://sjcc.org/wp-content/uploads/2025/12/260224-Mosaic-Series-Coasters-EVENT-1200.jpg
ORGANIZER;CN="Stroum JCC":MAILTO:info@sjcc.org
GEO:47.576754;-122.206204
X-APPLE-STRUCTURED-LOCATION;VALUE=URI;X-ADDRESS=Stroum Jewish Community Center 3801 E Mercer Way Mercer Island WA United States;X-APPLE-RADIUS=500;X-TITLE=3801 E Mercer Way:geo:-122.206204,47.576754
END:VEVENT
BEGIN:VEVENT
DTSTART;TZID=America/Los_Angeles:20260225T180000
DTEND;TZID=America/Los_Angeles:20260225T200000
DTSTAMP:20260420T180345
CREATED:20260122T182148Z
LAST-MODIFIED:20260127T195137Z
UID:10020917-1772042400-1772049600@sjcc.org
SUMMARY:Hamentashen Baking + Wine
DESCRIPTION:Join us for a relaxed social workshop—grab a drink\, come with a friend\, and connect with others as you explore the stories and traditions behind your meaningful recipes.
URL:https://sjcc.org/event/hamentashen-baking-wine/
LOCATION:Stroum Jewish Community Center\, 3801 E Mercer Way\, Mercer Island\, WA\, United States
CATEGORIES:Adult Classes,Adults + Seniors,Demographics,Demographics: Adults,Demographics: Seniors (55+ better),Demographics: Young Adults,Holiday Programs,J Community,Jewish Life,Young Adult Programs
ATTACH;FMTTYPE=image/jpeg:https://sjcc.org/wp-content/uploads/2026/01/260225-purim-hamantashen-wine-EVENT-1200.jpg
ORGANIZER;CN="Stroum JCC":MAILTO:info@sjcc.org
GEO:47.576754;-122.206204
X-APPLE-STRUCTURED-LOCATION;VALUE=URI;X-ADDRESS=Stroum Jewish Community Center 3801 E Mercer Way Mercer Island WA United States;X-APPLE-RADIUS=500;X-TITLE=3801 E Mercer Way:geo:-122.206204,47.576754
END:VEVENT
END:VCALENDAR