BEGIN:VCALENDAR
VERSION:2.0
PRODID:-//Stroum Jewish Community Center of Greater Seattle - ECPv6.15.20//NONSGML v1.0//EN
CALSCALE:GREGORIAN
METHOD:PUBLISH
X-ORIGINAL-URL:https://sjcc.org
X-WR-CALDESC:Events for Stroum Jewish Community Center of Greater Seattle
REFRESH-INTERVAL;VALUE=DURATION:PT1H
X-Robots-Tag:noindex
X-PUBLISHED-TTL:PT1H
BEGIN:VTIMEZONE
TZID:America/Los_Angeles
BEGIN:DAYLIGHT
TZOFFSETFROM:-0800
TZOFFSETTO:-0700
TZNAME:PDT
DTSTART:20240310T100000
END:DAYLIGHT
BEGIN:STANDARD
TZOFFSETFROM:-0700
TZOFFSETTO:-0800
TZNAME:PST
DTSTART:20241103T090000
END:STANDARD
BEGIN:DAYLIGHT
TZOFFSETFROM:-0800
TZOFFSETTO:-0700
TZNAME:PDT
DTSTART:20250309T100000
END:DAYLIGHT
BEGIN:STANDARD
TZOFFSETFROM:-0700
TZOFFSETTO:-0800
TZNAME:PST
DTSTART:20251102T090000
END:STANDARD
BEGIN:DAYLIGHT
TZOFFSETFROM:-0800
TZOFFSETTO:-0700
TZNAME:PDT
DTSTART:20260308T100000
END:DAYLIGHT
BEGIN:STANDARD
TZOFFSETFROM:-0700
TZOFFSETTO:-0800
TZNAME:PST
DTSTART:20261101T090000
END:STANDARD
END:VTIMEZONE
BEGIN:VEVENT
DTSTART;TZID=America/Los_Angeles:20251201T100000
DTEND;TZID=America/Los_Angeles:20251201T120000
DTSTAMP:20260421T144323
CREATED:20250502T171219Z
LAST-MODIFIED:20250506T205402Z
UID:10017030-1764583200-1764590400@sjcc.org
SUMMARY:Coffee + Connections
DESCRIPTION:Casual community chats + conversation with new friends
URL:https://sjcc.org/event/coffee-connections-6/
LOCATION:Stroum Jewish Community Center\, 3801 E Mercer Way\, Mercer Island\, WA\, United States
CATEGORIES:Adult Gatherings,Adults + Seniors,Demographics: Adults,Demographics: Families,Demographics: Seniors (55+ better),Demographics: Young Adults,Family Programs,J Community,Jewish Life,Membership,Tot Shabbat,Young Adult Programs
ATTACH;FMTTYPE=image/jpeg:https://sjcc.org/wp-content/uploads/2025/05/2025-coffee-connections-EVENT-1200.jpg
ORGANIZER;CN="Stroum JCC":MAILTO:info@sjcc.org
GEO:47.576754;-122.206204
X-APPLE-STRUCTURED-LOCATION;VALUE=URI;X-ADDRESS=Stroum Jewish Community Center 3801 E Mercer Way Mercer Island WA United States;X-APPLE-RADIUS=500;X-TITLE=3801 E Mercer Way:geo:-122.206204,47.576754
END:VEVENT
BEGIN:VEVENT
DTSTART;TZID=America/Los_Angeles:20251205T094500
DTEND;TZID=America/Los_Angeles:20251205T103000
DTSTAMP:20260421T144323
CREATED:20250827T213250Z
LAST-MODIFIED:20260113T193447Z
UID:10017897-1764927900-1764930600@sjcc.org
SUMMARY:Tot Shabbat
DESCRIPTION:Casual community chats + conversation with new friends
URL:https://sjcc.org/event/tot-shabbat-2-2/2025-12-05/
LOCATION:Stroum Jewish Community Center\, 3801 E Mercer Way\, Mercer Island\, WA\, United States
CATEGORIES:Demographics: Early Childhood (Birth to 5 yrs),Demographics: Families,Holiday Programs,J Community,Jewish Life,Kids: Grades K to 5th,Tot Shabbat
ATTACH;FMTTYPE=image/jpeg:https://sjcc.org/wp-content/uploads/2025/07/250710-tot-shabbat-EVENT-1200.jpg
ORGANIZER;CN="Stroum JCC":MAILTO:info@sjcc.org
GEO:47.576754;-122.206204
X-APPLE-STRUCTURED-LOCATION;VALUE=URI;X-ADDRESS=Stroum Jewish Community Center 3801 E Mercer Way Mercer Island WA United States;X-APPLE-RADIUS=500;X-TITLE=3801 E Mercer Way:geo:-122.206204,47.576754
END:VEVENT
BEGIN:VEVENT
DTSTART;TZID=America/Los_Angeles:20251212T094500
DTEND;TZID=America/Los_Angeles:20251212T103000
DTSTAMP:20260421T144323
CREATED:20250811T163853Z
LAST-MODIFIED:20251211T233230Z
UID:10017898-1765532700-1765535400@sjcc.org
SUMMARY:Hanukkah Tot Shabbat - Dreidels
DESCRIPTION:Casual community chats + conversation with new friends
URL:https://sjcc.org/event/tot-shabbat-4/
LOCATION:Stroum Jewish Community Center\, 3801 E Mercer Way\, Mercer Island\, WA\, United States
CATEGORIES:Demographics: Early Childhood (Birth to 5 yrs),Demographics: Families,Holiday Programs,J Community,Jewish Life,Kids: Grades K to 5th,Tot Shabbat
ATTACH;FMTTYPE=image/jpeg:https://sjcc.org/wp-content/uploads/2025/08/251212-hanukkah-tot-shabbat-EVENT-1200.jpg
ORGANIZER;CN="Stroum JCC":MAILTO:info@sjcc.org
GEO:47.576754;-122.206204
X-APPLE-STRUCTURED-LOCATION;VALUE=URI;X-ADDRESS=Stroum Jewish Community Center 3801 E Mercer Way Mercer Island WA United States;X-APPLE-RADIUS=500;X-TITLE=3801 E Mercer Way:geo:-122.206204,47.576754
END:VEVENT
BEGIN:VEVENT
DTSTART;TZID=America/Los_Angeles:20251212T100000
DTEND;TZID=America/Los_Angeles:20251212T104500
DTSTAMP:20260421T144323
CREATED:20250925T204121Z
LAST-MODIFIED:20250926T163904Z
UID:10018105-1765533600-1765536300@sjcc.org
SUMMARY:North Seattle Tot Shabbat
DESCRIPTION:Casual community chats + conversation with new friends
URL:https://sjcc.org/event/north-seattle-tot-shabbat-12-12/
LOCATION:Congregation Beth Shalom\, 6800 35th Ave NE\, Seattle\, 98115\, United States
CATEGORIES:Demographics,Demographics: Early Childhood (Birth to 5 yrs),Demographics: Families,Family Programs,Holiday Programs,J Community,Jewish Life,Kid Programs,Tot Shabbat
ATTACH;FMTTYPE=image/jpeg:https://sjcc.org/wp-content/uploads/2025/09/251212-north-seattle-tot-shabbat-EVENT-1200-baby-jam.jpg
ORGANIZER;CN="Stroum JCC":MAILTO:info@sjcc.org
END:VEVENT
BEGIN:VEVENT
DTSTART;TZID=America/Los_Angeles:20251219T094500
DTEND;TZID=America/Los_Angeles:20251219T103000
DTSTAMP:20260421T144324
CREATED:20250811T163926Z
LAST-MODIFIED:20251212T001305Z
UID:10017899-1766137500-1766140200@sjcc.org
SUMMARY:Hanukkah Tot Shabbat - Menorahs
DESCRIPTION:Casual community chats + conversation with new friends
URL:https://sjcc.org/event/tot-shabbat-menorah/
LOCATION:Stroum Jewish Community Center\, 3801 E Mercer Way\, Mercer Island\, WA\, United States
CATEGORIES:Demographics: Early Childhood (Birth to 5 yrs),Demographics: Families,Holiday Programs,J Community,Jewish Life,Kids: Grades K to 5th,Tot Shabbat
ATTACH;FMTTYPE=image/jpeg:https://sjcc.org/wp-content/uploads/2025/08/251212-hanukkah-tot-shabbat-EVENT-1200.jpg
ORGANIZER;CN="Stroum JCC":MAILTO:info@sjcc.org
GEO:47.576754;-122.206204
X-APPLE-STRUCTURED-LOCATION;VALUE=URI;X-ADDRESS=Stroum Jewish Community Center 3801 E Mercer Way Mercer Island WA United States;X-APPLE-RADIUS=500;X-TITLE=3801 E Mercer Way:geo:-122.206204,47.576754
END:VEVENT
BEGIN:VEVENT
DTSTART;TZID=America/Los_Angeles:20251219T173000
DTEND;TZID=America/Los_Angeles:20251219T193000
DTSTAMP:20260421T144324
CREATED:20251027T184738Z
LAST-MODIFIED:20251217T183011Z
UID:10018636-1766165400-1766172600@sjcc.org
SUMMARY:Family Hanukkah Celebration
DESCRIPTION:Casual community chats + conversation with new friends
URL:https://sjcc.org/event/family-hanukkah-celebration/
LOCATION:Stroum Jewish Community Center\, 3801 E Mercer Way\, Mercer Island\, WA\, United States
CATEGORIES:Adult Gatherings,Adults + Seniors,Demographics: Adults,Demographics: Early Childhood (Birth to 5 yrs),Demographics: Families,Demographics: Young Adults,Family Programs,Holiday Programs,J Community,Jewish Life,Kid Programs,Kids: Grades 6th to 8th,Kids: Grades K to 5th,Teen Programs,Teens: Grades 9th to 12th,Tot Shabbat,Young Adult Programs
ATTACH;FMTTYPE=image/jpeg:https://sjcc.org/wp-content/uploads/2025/12/251219-family-hanukkah-dinner-SLIDER-1920-v2.jpg
ORGANIZER;CN="Stroum JCC":MAILTO:info@sjcc.org
GEO:47.576754;-122.206204
X-APPLE-STRUCTURED-LOCATION;VALUE=URI;X-ADDRESS=Stroum Jewish Community Center 3801 E Mercer Way Mercer Island WA United States;X-APPLE-RADIUS=500;X-TITLE=3801 E Mercer Way:geo:-122.206204,47.576754
END:VEVENT
END:VCALENDAR