BEGIN:VCALENDAR
VERSION:2.0
PRODID:-//Stroum Jewish Community Center of Greater Seattle - ECPv6.15.20//NONSGML v1.0//EN
CALSCALE:GREGORIAN
METHOD:PUBLISH
X-WR-CALNAME:Stroum Jewish Community Center of Greater Seattle
X-ORIGINAL-URL:https://sjcc.org
X-WR-CALDESC:Events for Stroum Jewish Community Center of Greater Seattle
REFRESH-INTERVAL;VALUE=DURATION:PT1H
X-Robots-Tag:noindex
X-PUBLISHED-TTL:PT1H
BEGIN:VTIMEZONE
TZID:America/Los_Angeles
BEGIN:DAYLIGHT
TZOFFSETFROM:-0800
TZOFFSETTO:-0700
TZNAME:PDT
DTSTART:20250309T100000
END:DAYLIGHT
BEGIN:STANDARD
TZOFFSETFROM:-0700
TZOFFSETTO:-0800
TZNAME:PST
DTSTART:20251102T090000
END:STANDARD
BEGIN:DAYLIGHT
TZOFFSETFROM:-0800
TZOFFSETTO:-0700
TZNAME:PDT
DTSTART:20260308T100000
END:DAYLIGHT
BEGIN:STANDARD
TZOFFSETFROM:-0700
TZOFFSETTO:-0800
TZNAME:PST
DTSTART:20261101T090000
END:STANDARD
BEGIN:DAYLIGHT
TZOFFSETFROM:-0800
TZOFFSETTO:-0700
TZNAME:PDT
DTSTART:20270314T100000
END:DAYLIGHT
BEGIN:STANDARD
TZOFFSETFROM:-0700
TZOFFSETTO:-0800
TZNAME:PST
DTSTART:20271107T090000
END:STANDARD
END:VTIMEZONE
BEGIN:VEVENT
DTSTART;VALUE=DATE:20260106
DTEND;VALUE=DATE:20260301
DTSTAMP:20260419T082053
CREATED:20250916T202147Z
LAST-MODIFIED:20251205T172027Z
UID:10018087-1767657600-1772323199@sjcc.org
SUMMARY:Exhibit: Karen Treiger “Standing on the Crack”
DESCRIPTION:Join us for a relaxed social workshop—grab a drink\, come with a friend\, and connect with others as you explore the stories and traditions behind your meaningful recipes.
URL:https://sjcc.org/event/exhibit-karen-treiger-standing-on-the-crack/
LOCATION:Stroum Jewish Community Center\, 3801 E Mercer Way\, Mercer Island\, WA\, United States
CATEGORIES:Adult Gatherings,Adults + Seniors,Art Exhibit,Arts + Ideas,Arts Featured Events,Author,Demographics,Demographics: Adults,Demographics: Seniors (55+ better),Demographics: Young Adults,J Community,Jewish Life,Talks,Young Adult Programs
ATTACH;FMTTYPE=image/jpeg:https://sjcc.org/wp-content/uploads/2025/09/260111-author-treiger-EVENT-1200-2.jpg
ORGANIZER;CN="Stroum JCC":MAILTO:info@sjcc.org
GEO:47.576754;-122.206204
X-APPLE-STRUCTURED-LOCATION;VALUE=URI;X-ADDRESS=Stroum Jewish Community Center 3801 E Mercer Way Mercer Island WA United States;X-APPLE-RADIUS=500;X-TITLE=3801 E Mercer Way:geo:-122.206204,47.576754
END:VEVENT
BEGIN:VEVENT
DTSTART;TZID=America/Los_Angeles:20260215T130000
DTEND;TZID=America/Los_Angeles:20260215T150000
DTSTAMP:20260419T082053
CREATED:20260109T170935Z
LAST-MODIFIED:20260213T193056Z
UID:10020836-1771160400-1771167600@sjcc.org
SUMMARY:Bone Health + Strength for Women
DESCRIPTION:Join us for a relaxed social workshop—grab a drink\, come with a friend\, and connect with others as you explore the stories and traditions behind your meaningful recipes.
URL:https://sjcc.org/event/bone-health-strength-for-women/2026-02-15/
LOCATION:Stroum Jewish Community Center\, 3801 E Mercer Way\, Mercer Island\, WA\, United States
CATEGORIES:Adult Classes,Adults + Seniors,Beginner,Demographics,Demographics: Adults,Demographics: Seniors (55+ better),Fitness and Aquatics,Group Fitness Classes,Intermediate,J Community
ATTACH;FMTTYPE=image/jpeg:https://sjcc.org/wp-content/uploads/2026/01/260201-bone-strength-series-EVENT-1200-1.jpg
ORGANIZER;CN="Stroum JCC":MAILTO:info@sjcc.org
GEO:47.576754;-122.206204
X-APPLE-STRUCTURED-LOCATION;VALUE=URI;X-ADDRESS=Stroum Jewish Community Center 3801 E Mercer Way Mercer Island WA United States;X-APPLE-RADIUS=500;X-TITLE=3801 E Mercer Way:geo:-122.206204,47.576754
END:VEVENT
BEGIN:VEVENT
DTSTART;TZID=America/Los_Angeles:20260216T090000
DTEND;TZID=America/Los_Angeles:20260216T100000
DTSTAMP:20260419T082053
CREATED:20251216T174047Z
LAST-MODIFIED:20260123T002544Z
UID:10020013-1771232400-1771236000@sjcc.org
SUMMARY:Fitness Class: Aqua Fit
DESCRIPTION:Join us for a relaxed social workshop—grab a drink\, come with a friend\, and connect with others as you explore the stories and traditions behind your meaningful recipes.
URL:https://sjcc.org/event/fitness-class-aqua-fit/2026-02-16/
LOCATION:Stroum Jewish Community Center\, 3801 E Mercer Way\, Mercer Island\, WA\, United States
CATEGORIES:Adults + Seniors,Beginner,Demographics: Adults,Demographics: Seniors (55+ better),Fitness and Aquatics,Group Fitness Classes,Membership,Pool,Swimming
ORGANIZER;CN="Stroum JCC":MAILTO:info@sjcc.org
GEO:47.576754;-122.206204
X-APPLE-STRUCTURED-LOCATION;VALUE=URI;X-ADDRESS=Stroum Jewish Community Center 3801 E Mercer Way Mercer Island WA United States;X-APPLE-RADIUS=500;X-TITLE=3801 E Mercer Way:geo:-122.206204,47.576754
END:VEVENT
BEGIN:VEVENT
DTSTART;TZID=America/Los_Angeles:20260216T130000
DTEND;TZID=America/Los_Angeles:20260216T150000
DTSTAMP:20260419T082053
CREATED:20260122T174228Z
LAST-MODIFIED:20260210T211446Z
UID:10021364-1771246800-1771254000@sjcc.org
SUMMARY:Daytime Drop-In Mahjong
DESCRIPTION:Join us for a relaxed social workshop—grab a drink\, come with a friend\, and connect with others as you explore the stories and traditions behind your meaningful recipes.
URL:https://sjcc.org/event/daytime-drop-in-mahjong-feb/2026-02-16/
LOCATION:Stroum Jewish Community Center\, 3801 E Mercer Way\, Mercer Island\, WA\, United States
CATEGORIES:Adult Games,Adults + Seniors,Demographics,Demographics: Adults,Demographics: Seniors (55+ better),J Community
ATTACH;FMTTYPE=image/jpeg:https://sjcc.org/wp-content/uploads/2025/12/2026-mahjong-generic-EVENT-1200.jpg
ORGANIZER;CN="Stroum JCC":MAILTO:info@sjcc.org
GEO:47.576754;-122.206204
X-APPLE-STRUCTURED-LOCATION;VALUE=URI;X-ADDRESS=Stroum Jewish Community Center 3801 E Mercer Way Mercer Island WA United States;X-APPLE-RADIUS=500;X-TITLE=3801 E Mercer Way:geo:-122.206204,47.576754
END:VEVENT
BEGIN:VEVENT
DTSTART;TZID=America/Los_Angeles:20260217T090000
DTEND;TZID=America/Los_Angeles:20260217T100000
DTSTAMP:20260419T082053
CREATED:20260123T003133Z
LAST-MODIFIED:20260123T003133Z
UID:10020952-1771318800-1771322400@sjcc.org
SUMMARY:Fitness Class: Aqua Fit Strong
DESCRIPTION:Join us for a relaxed social workshop—grab a drink\, come with a friend\, and connect with others as you explore the stories and traditions behind your meaningful recipes.
URL:https://sjcc.org/event/fitness-class-aqua-fit-strong/2026-02-17/
LOCATION:Stroum Jewish Community Center\, 3801 E Mercer Way\, Mercer Island\, WA\, United States
CATEGORIES:Adults + Seniors,Beginner,Demographics: Adults,Demographics: Seniors (55+ better),Fitness and Aquatics,Group Fitness Classes,Membership,Pool,Swimming
ORGANIZER;CN="Stroum JCC":MAILTO:info@sjcc.org
GEO:47.576754;-122.206204
X-APPLE-STRUCTURED-LOCATION;VALUE=URI;X-ADDRESS=Stroum Jewish Community Center 3801 E Mercer Way Mercer Island WA United States;X-APPLE-RADIUS=500;X-TITLE=3801 E Mercer Way:geo:-122.206204,47.576754
END:VEVENT
BEGIN:VEVENT
DTSTART;TZID=America/Los_Angeles:20260217T110000
DTEND;TZID=America/Los_Angeles:20260217T120000
DTSTAMP:20260419T082053
CREATED:20251216T173527Z
LAST-MODIFIED:20251216T175135Z
UID:10020620-1771326000-1771329600@sjcc.org
SUMMARY:Fitness Class: Senior Strong
DESCRIPTION:Join us for a relaxed social workshop—grab a drink\, come with a friend\, and connect with others as you explore the stories and traditions behind your meaningful recipes.
URL:https://sjcc.org/event/fitness-class-senior-strong-2/2026-02-17/
LOCATION:Stroum Jewish Community Center\, 3801 E Mercer Way\, Mercer Island\, WA\, United States
CATEGORIES:Adults + Seniors,Beginner,Demographics: Adults,Demographics: Seniors (55+ better),Demographics: Young Adults,Exercise Studio,Fitness and Aquatics,Group Fitness Classes,Membership,Senior Fitness
ORGANIZER;CN="Stroum JCC":MAILTO:info@sjcc.org
GEO:47.576754;-122.206204
X-APPLE-STRUCTURED-LOCATION;VALUE=URI;X-ADDRESS=Stroum Jewish Community Center 3801 E Mercer Way Mercer Island WA United States;X-APPLE-RADIUS=500;X-TITLE=3801 E Mercer Way:geo:-122.206204,47.576754
END:VEVENT
BEGIN:VEVENT
DTSTART;TZID=America/Los_Angeles:20260217T183000
DTEND;TZID=America/Los_Angeles:20260217T200000
DTSTAMP:20260419T082053
CREATED:20251230T000623Z
LAST-MODIFIED:20251230T001813Z
UID:10020829-1771353000-1771358400@sjcc.org
SUMMARY:SJCC Book Club
DESCRIPTION:Join us for a relaxed social workshop—grab a drink\, come with a friend\, and connect with others as you explore the stories and traditions behind your meaningful recipes.
URL:https://sjcc.org/event/sjcc-book-club/
LOCATION:Stroum Jewish Community Center\, 3801 E Mercer Way\, Mercer Island\, WA\, United States
CATEGORIES:Adult Gatherings,Adults + Seniors,Demographics,Demographics: Adults,Demographics: Seniors (55+ better),Demographics: Young Adults,J Community,Jewish Life,Young Adult Programs
ATTACH;FMTTYPE=image/jpeg:https://sjcc.org/wp-content/uploads/2025/12/250217-book-club-hostage-EVENT-1200.jpg
ORGANIZER;CN="Stroum JCC":MAILTO:info@sjcc.org
GEO:47.576754;-122.206204
X-APPLE-STRUCTURED-LOCATION;VALUE=URI;X-ADDRESS=Stroum Jewish Community Center 3801 E Mercer Way Mercer Island WA United States;X-APPLE-RADIUS=500;X-TITLE=3801 E Mercer Way:geo:-122.206204,47.576754
END:VEVENT
BEGIN:VEVENT
DTSTART;TZID=America/Los_Angeles:20260218T090000
DTEND;TZID=America/Los_Angeles:20260218T100000
DTSTAMP:20260419T082053
CREATED:20251216T174047Z
LAST-MODIFIED:20260123T002544Z
UID:10020015-1771405200-1771408800@sjcc.org
SUMMARY:Fitness Class: Aqua Fit
DESCRIPTION:Join us for a relaxed social workshop—grab a drink\, come with a friend\, and connect with others as you explore the stories and traditions behind your meaningful recipes.
URL:https://sjcc.org/event/fitness-class-aqua-fit/2026-02-18/
LOCATION:Stroum Jewish Community Center\, 3801 E Mercer Way\, Mercer Island\, WA\, United States
CATEGORIES:Adults + Seniors,Beginner,Demographics: Adults,Demographics: Seniors (55+ better),Fitness and Aquatics,Group Fitness Classes,Membership,Pool,Swimming
ORGANIZER;CN="Stroum JCC":MAILTO:info@sjcc.org
GEO:47.576754;-122.206204
X-APPLE-STRUCTURED-LOCATION;VALUE=URI;X-ADDRESS=Stroum Jewish Community Center 3801 E Mercer Way Mercer Island WA United States;X-APPLE-RADIUS=500;X-TITLE=3801 E Mercer Way:geo:-122.206204,47.576754
END:VEVENT
BEGIN:VEVENT
DTSTART;TZID=America/Los_Angeles:20260218T110000
DTEND;TZID=America/Los_Angeles:20260218T120000
DTSTAMP:20260419T082053
CREATED:20251216T172546Z
LAST-MODIFIED:20251216T175435Z
UID:10020769-1771412400-1771416000@sjcc.org
SUMMARY:Fitness Class: Chair Yoga
DESCRIPTION:Join us for a relaxed social workshop—grab a drink\, come with a friend\, and connect with others as you explore the stories and traditions behind your meaningful recipes.
URL:https://sjcc.org/event/fitness-class-chair-yoga-2/2026-02-18/
LOCATION:Stroum Jewish Community Center\, 3801 E Mercer Way\, Mercer Island\, WA\, United States
CATEGORIES:Adults + Seniors,Demographics: Adults,Demographics: Seniors (55+ better),Exercise Studio,Fitness and Aquatics,Group Fitness Classes,Intermediate,Membership
ORGANIZER;CN="Stroum JCC":MAILTO:info@sjcc.org
GEO:47.576754;-122.206204
X-APPLE-STRUCTURED-LOCATION;VALUE=URI;X-ADDRESS=Stroum Jewish Community Center 3801 E Mercer Way Mercer Island WA United States;X-APPLE-RADIUS=500;X-TITLE=3801 E Mercer Way:geo:-122.206204,47.576754
END:VEVENT
BEGIN:VEVENT
DTSTART;TZID=America/Los_Angeles:20260219T090000
DTEND;TZID=America/Los_Angeles:20260219T100000
DTSTAMP:20260419T082053
CREATED:20260123T004410Z
LAST-MODIFIED:20260323T201216Z
UID:10021094-1771491600-1771495200@sjcc.org
SUMMARY:Fitness Class: Aqua Fit HIIT
DESCRIPTION:Join us for a relaxed social workshop—grab a drink\, come with a friend\, and connect with others as you explore the stories and traditions behind your meaningful recipes.
URL:https://sjcc.org/event/fitness-class-aqua-fit-hiit/2026-02-19/
LOCATION:Stroum Jewish Community Center\, 3801 E Mercer Way\, Mercer Island\, WA\, United States
CATEGORIES:Adults + Seniors,Beginner,Demographics: Adults,Demographics: Seniors (55+ better),Fitness and Aquatics,Group Fitness Classes,Membership,Pool,Swimming
ORGANIZER;CN="Stroum JCC":MAILTO:info@sjcc.org
GEO:47.576754;-122.206204
X-APPLE-STRUCTURED-LOCATION;VALUE=URI;X-ADDRESS=Stroum Jewish Community Center 3801 E Mercer Way Mercer Island WA United States;X-APPLE-RADIUS=500;X-TITLE=3801 E Mercer Way:geo:-122.206204,47.576754
END:VEVENT
BEGIN:VEVENT
DTSTART;TZID=America/Los_Angeles:20260219T130000
DTEND;TZID=America/Los_Angeles:20260219T140000
DTSTAMP:20260419T082053
CREATED:20260115T222534Z
LAST-MODIFIED:20260116T222105Z
UID:10020901-1771506000-1771509600@sjcc.org
SUMMARY:EO: Local Author + Exhibit: Karen Treiger “Standing on the Crack”
DESCRIPTION:Join us for a relaxed social workshop—grab a drink\, come with a friend\, and connect with others as you explore the stories and traditions behind your meaningful recipes.
URL:https://sjcc.org/event/eo-local-author-exhibit-karen-treiger-standing-on-the-crack/
LOCATION:Stroum Jewish Community Center\, 3801 E Mercer Way\, Mercer Island\, WA\, United States
CATEGORIES:Adult Gatherings,Adults + Seniors,Demographics,Demographics: Adults,Demographics: Seniors (55+ better),Endless Opportunities,J Community,Jewish Life
ATTACH;FMTTYPE=image/jpeg:https://sjcc.org/wp-content/uploads/2026/01/260219-eo-treiger-EVENT-1200.jpg
ORGANIZER;CN="Stroum JCC":MAILTO:info@sjcc.org
GEO:47.576754;-122.206204
X-APPLE-STRUCTURED-LOCATION;VALUE=URI;X-ADDRESS=Stroum Jewish Community Center 3801 E Mercer Way Mercer Island WA United States;X-APPLE-RADIUS=500;X-TITLE=3801 E Mercer Way:geo:-122.206204,47.576754
END:VEVENT
BEGIN:VEVENT
DTSTART;TZID=America/Los_Angeles:20260219T183000
DTEND;TZID=America/Los_Angeles:20260219T203000
DTSTAMP:20260419T082053
CREATED:20260112T203308Z
LAST-MODIFIED:20260112T203308Z
UID:10020893-1771525800-1771533000@sjcc.org
SUMMARY:Sewcial Hour: Embroidery Workshop
DESCRIPTION:Join us for a relaxed social workshop—grab a drink\, come with a friend\, and connect with others as you explore the stories and traditions behind your meaningful recipes.
URL:https://sjcc.org/event/sewcial-hour-embroidery-workshop-feb/
LOCATION:Stroum Jewish Community Center\, 3801 E Mercer Way\, Mercer Island\, WA\, United States
CATEGORIES:Adult Classes,Adults + Seniors,Demographics,Demographics: Adults,Demographics: Seniors (55+ better),Demographics: Young Adults,J Community,Young Adult Programs
ATTACH;FMTTYPE=image/jpeg:https://sjcc.org/wp-content/uploads/2026/01/260219-embroidery-workshop-EVENT-1200.jpg
ORGANIZER;CN="Stroum JCC":MAILTO:info@sjcc.org
GEO:47.576754;-122.206204
X-APPLE-STRUCTURED-LOCATION;VALUE=URI;X-ADDRESS=Stroum Jewish Community Center 3801 E Mercer Way Mercer Island WA United States;X-APPLE-RADIUS=500;X-TITLE=3801 E Mercer Way:geo:-122.206204,47.576754
END:VEVENT
BEGIN:VEVENT
DTSTART;TZID=America/Los_Angeles:20260220T090000
DTEND;TZID=America/Los_Angeles:20260220T100000
DTSTAMP:20260419T082053
CREATED:20251216T174047Z
LAST-MODIFIED:20260123T002544Z
UID:10020017-1771578000-1771581600@sjcc.org
SUMMARY:Fitness Class: Aqua Fit
DESCRIPTION:Join us for a relaxed social workshop—grab a drink\, come with a friend\, and connect with others as you explore the stories and traditions behind your meaningful recipes.
URL:https://sjcc.org/event/fitness-class-aqua-fit/2026-02-20/
LOCATION:Stroum Jewish Community Center\, 3801 E Mercer Way\, Mercer Island\, WA\, United States
CATEGORIES:Adults + Seniors,Beginner,Demographics: Adults,Demographics: Seniors (55+ better),Fitness and Aquatics,Group Fitness Classes,Membership,Pool,Swimming
ORGANIZER;CN="Stroum JCC":MAILTO:info@sjcc.org
GEO:47.576754;-122.206204
X-APPLE-STRUCTURED-LOCATION;VALUE=URI;X-ADDRESS=Stroum Jewish Community Center 3801 E Mercer Way Mercer Island WA United States;X-APPLE-RADIUS=500;X-TITLE=3801 E Mercer Way:geo:-122.206204,47.576754
END:VEVENT
END:VCALENDAR