BEGIN:VCALENDAR
VERSION:2.0
PRODID:-//Stroum Jewish Community Center of Greater Seattle - ECPv6.15.20//NONSGML v1.0//EN
CALSCALE:GREGORIAN
METHOD:PUBLISH
X-WR-CALNAME:Stroum Jewish Community Center of Greater Seattle
X-ORIGINAL-URL:https://sjcc.org
X-WR-CALDESC:Events for Stroum Jewish Community Center of Greater Seattle
REFRESH-INTERVAL;VALUE=DURATION:PT1H
X-Robots-Tag:noindex
X-PUBLISHED-TTL:PT1H
BEGIN:VTIMEZONE
TZID:America/Los_Angeles
BEGIN:DAYLIGHT
TZOFFSETFROM:-0800
TZOFFSETTO:-0700
TZNAME:PDT
DTSTART:20250309T100000
END:DAYLIGHT
BEGIN:STANDARD
TZOFFSETFROM:-0700
TZOFFSETTO:-0800
TZNAME:PST
DTSTART:20251102T090000
END:STANDARD
BEGIN:DAYLIGHT
TZOFFSETFROM:-0800
TZOFFSETTO:-0700
TZNAME:PDT
DTSTART:20260308T100000
END:DAYLIGHT
BEGIN:STANDARD
TZOFFSETFROM:-0700
TZOFFSETTO:-0800
TZNAME:PST
DTSTART:20261101T090000
END:STANDARD
BEGIN:DAYLIGHT
TZOFFSETFROM:-0800
TZOFFSETTO:-0700
TZNAME:PDT
DTSTART:20270314T100000
END:DAYLIGHT
BEGIN:STANDARD
TZOFFSETFROM:-0700
TZOFFSETTO:-0800
TZNAME:PST
DTSTART:20271107T090000
END:STANDARD
END:VTIMEZONE
BEGIN:VEVENT
DTSTART;TZID=America/Los_Angeles:20260609T090000
DTEND;TZID=America/Los_Angeles:20260609T100000
DTSTAMP:20260424T183234
CREATED:20260123T003133Z
LAST-MODIFIED:20260423T180303Z
UID:10022716-1780995600-1780999200@sjcc.org
SUMMARY:Fitness Class: Aqua Fit Strong
DESCRIPTION:Wednesday pool hours.
URL:https://sjcc.org/event/fitness-class-aqua-fit-strong/2026-06-09/
LOCATION:Stroum Jewish Community Center\, 3801 E Mercer Way\, Mercer Island\, WA\, United States
CATEGORIES:Adults + Seniors,Beginner,Demographics: Adults,Demographics: Seniors (55+ better),Fitness and Aquatics,Group Fitness Classes,Membership,Pool,Swimming
ORGANIZER;CN="Stroum JCC":MAILTO:info@sjcc.org
GEO:47.576754;-122.206204
X-APPLE-STRUCTURED-LOCATION;VALUE=URI;X-ADDRESS=Stroum Jewish Community Center 3801 E Mercer Way Mercer Island WA United States;X-APPLE-RADIUS=500;X-TITLE=3801 E Mercer Way:geo:-122.206204,47.576754
END:VEVENT
BEGIN:VEVENT
DTSTART;TZID=America/Los_Angeles:20260610T060000
DTEND;TZID=America/Los_Angeles:20260610T204500
DTSTAMP:20260424T183234
CREATED:20260326T210114Z
LAST-MODIFIED:20260326T210114Z
UID:10022383-1781071200-1781124300@sjcc.org
SUMMARY:Wednesday Pool Hours
DESCRIPTION:Wednesday pool hours.
URL:https://sjcc.org/event/wednesday-pool-hours-2/2026-06-10/
LOCATION:Stroum Jewish Community Center\, 3801 E Mercer Way\, Mercer Island\, WA\, United States
CATEGORIES:Fitness and Aquatics,Pool,Swimming
ORGANIZER;CN="Stroum JCC":MAILTO:info@sjcc.org
GEO:47.576754;-122.206204
X-APPLE-STRUCTURED-LOCATION;VALUE=URI;X-ADDRESS=Stroum Jewish Community Center 3801 E Mercer Way Mercer Island WA United States;X-APPLE-RADIUS=500;X-TITLE=3801 E Mercer Way:geo:-122.206204,47.576754
END:VEVENT
BEGIN:VEVENT
DTSTART;TZID=America/Los_Angeles:20260610T090000
DTEND;TZID=America/Los_Angeles:20260610T100000
DTSTAMP:20260424T183234
CREATED:20251216T174047Z
LAST-MODIFIED:20260423T212230Z
UID:10022850-1781082000-1781085600@sjcc.org
SUMMARY:Fitness Class: Aqua Fit
DESCRIPTION:Wednesday pool hours.
URL:https://sjcc.org/event/fitness-class-aqua-fit/2026-06-10/
LOCATION:Stroum Jewish Community Center\, 3801 E Mercer Way\, Mercer Island\, WA\, United States
CATEGORIES:Adults + Seniors,Beginner,Demographics: Adults,Demographics: Seniors (55+ better),Fitness and Aquatics,Group Fitness Classes,Membership,Pool,Swimming
ORGANIZER;CN="Stroum JCC":MAILTO:info@sjcc.org
GEO:47.576754;-122.206204
X-APPLE-STRUCTURED-LOCATION;VALUE=URI;X-ADDRESS=Stroum Jewish Community Center 3801 E Mercer Way Mercer Island WA United States;X-APPLE-RADIUS=500;X-TITLE=3801 E Mercer Way:geo:-122.206204,47.576754
END:VEVENT
BEGIN:VEVENT
DTSTART;TZID=America/Los_Angeles:20260611T060000
DTEND;TZID=America/Los_Angeles:20260611T204500
DTSTAMP:20260424T183234
CREATED:20260326T205723Z
LAST-MODIFIED:20260326T210048Z
UID:10022374-1781157600-1781210700@sjcc.org
SUMMARY:Thursday Pool Hours
DESCRIPTION:Wednesday pool hours.
URL:https://sjcc.org/event/thursday-pool-hours-2/2026-06-11/
LOCATION:Stroum Jewish Community Center\, 3801 E Mercer Way\, Mercer Island\, WA\, United States
CATEGORIES:Fitness and Aquatics,Pool,Swimming
ORGANIZER;CN="Stroum JCC":MAILTO:info@sjcc.org
GEO:47.576754;-122.206204
X-APPLE-STRUCTURED-LOCATION;VALUE=URI;X-ADDRESS=Stroum Jewish Community Center 3801 E Mercer Way Mercer Island WA United States;X-APPLE-RADIUS=500;X-TITLE=3801 E Mercer Way:geo:-122.206204,47.576754
END:VEVENT
BEGIN:VEVENT
DTSTART;TZID=America/Los_Angeles:20260611T090000
DTEND;TZID=America/Los_Angeles:20260611T100000
DTSTAMP:20260424T183234
CREATED:20260123T004410Z
LAST-MODIFIED:20260423T180246Z
UID:10022704-1781168400-1781172000@sjcc.org
SUMMARY:Fitness Class: Aqua Fit HIIT
DESCRIPTION:Wednesday pool hours.
URL:https://sjcc.org/event/fitness-class-aqua-fit-hiit/2026-06-11/
LOCATION:Stroum Jewish Community Center\, 3801 E Mercer Way\, Mercer Island\, WA\, United States
CATEGORIES:Adults + Seniors,Beginner,Demographics: Adults,Demographics: Seniors (55+ better),Fitness and Aquatics,Group Fitness Classes,Membership,Pool,Swimming
ORGANIZER;CN="Stroum JCC":MAILTO:info@sjcc.org
GEO:47.576754;-122.206204
X-APPLE-STRUCTURED-LOCATION;VALUE=URI;X-ADDRESS=Stroum Jewish Community Center 3801 E Mercer Way Mercer Island WA United States;X-APPLE-RADIUS=500;X-TITLE=3801 E Mercer Way:geo:-122.206204,47.576754
END:VEVENT
BEGIN:VEVENT
DTSTART;TZID=America/Los_Angeles:20260612T060000
DTEND;TZID=America/Los_Angeles:20260612T184500
DTSTAMP:20260424T183234
CREATED:20260326T204243Z
LAST-MODIFIED:20260326T211023Z
UID:10022441-1781244000-1781289900@sjcc.org
SUMMARY:Friday Pool Hours
DESCRIPTION:Wednesday pool hours.
URL:https://sjcc.org/event/friday-pool-hours-2/2026-06-12/
LOCATION:Stroum Jewish Community Center\, 3801 E Mercer Way\, Mercer Island\, WA\, United States
CATEGORIES:Fitness and Aquatics,Pool,Swimming
ORGANIZER;CN="Stroum JCC":MAILTO:info@sjcc.org
GEO:47.576754;-122.206204
X-APPLE-STRUCTURED-LOCATION;VALUE=URI;X-ADDRESS=Stroum Jewish Community Center 3801 E Mercer Way Mercer Island WA United States;X-APPLE-RADIUS=500;X-TITLE=3801 E Mercer Way:geo:-122.206204,47.576754
END:VEVENT
BEGIN:VEVENT
DTSTART;TZID=America/Los_Angeles:20260612T090000
DTEND;TZID=America/Los_Angeles:20260612T100000
DTSTAMP:20260424T183234
CREATED:20251216T174047Z
LAST-MODIFIED:20260423T212230Z
UID:10022851-1781254800-1781258400@sjcc.org
SUMMARY:Fitness Class: Aqua Fit
DESCRIPTION:Wednesday pool hours.
URL:https://sjcc.org/event/fitness-class-aqua-fit/2026-06-12/
LOCATION:Stroum Jewish Community Center\, 3801 E Mercer Way\, Mercer Island\, WA\, United States
CATEGORIES:Adults + Seniors,Beginner,Demographics: Adults,Demographics: Seniors (55+ better),Fitness and Aquatics,Group Fitness Classes,Membership,Pool,Swimming
ORGANIZER;CN="Stroum JCC":MAILTO:info@sjcc.org
GEO:47.576754;-122.206204
X-APPLE-STRUCTURED-LOCATION;VALUE=URI;X-ADDRESS=Stroum Jewish Community Center 3801 E Mercer Way Mercer Island WA United States;X-APPLE-RADIUS=500;X-TITLE=3801 E Mercer Way:geo:-122.206204,47.576754
END:VEVENT
BEGIN:VEVENT
DTSTART;TZID=America/Los_Angeles:20260613T080000
DTEND;TZID=America/Los_Angeles:20260613T164500
DTSTAMP:20260424T183234
CREATED:20260326T210805Z
LAST-MODIFIED:20260326T210805Z
UID:10022423-1781337600-1781369100@sjcc.org
SUMMARY:Saturday Pool Hours
DESCRIPTION:Wednesday pool hours.
URL:https://sjcc.org/event/saturday-pool-hours-2/2026-06-13/
LOCATION:Stroum Jewish Community Center\, 3801 E Mercer Way\, Mercer Island\, WA\, United States
CATEGORIES:Fitness and Aquatics,Pool,Swimming
ORGANIZER;CN="Stroum JCC":MAILTO:info@sjcc.org
GEO:47.576754;-122.206204
X-APPLE-STRUCTURED-LOCATION;VALUE=URI;X-ADDRESS=Stroum Jewish Community Center 3801 E Mercer Way Mercer Island WA United States;X-APPLE-RADIUS=500;X-TITLE=3801 E Mercer Way:geo:-122.206204,47.576754
END:VEVENT
BEGIN:VEVENT
DTSTART;TZID=America/Los_Angeles:20260614T080000
DTEND;TZID=America/Los_Angeles:20260614T164500
DTSTAMP:20260424T183234
CREATED:20260326T210848Z
LAST-MODIFIED:20260326T210848Z
UID:10022432-1781424000-1781455500@sjcc.org
SUMMARY:Sunday Pool Hours
DESCRIPTION:Wednesday pool hours.
URL:https://sjcc.org/event/sunday-pool-hours-2/2026-06-14/
LOCATION:Stroum Jewish Community Center\, 3801 E Mercer Way\, Mercer Island\, WA\, United States
CATEGORIES:Fitness and Aquatics,Pool,Swimming
ORGANIZER;CN="Stroum JCC":MAILTO:info@sjcc.org
GEO:47.576754;-122.206204
X-APPLE-STRUCTURED-LOCATION;VALUE=URI;X-ADDRESS=Stroum Jewish Community Center 3801 E Mercer Way Mercer Island WA United States;X-APPLE-RADIUS=500;X-TITLE=3801 E Mercer Way:geo:-122.206204,47.576754
END:VEVENT
BEGIN:VEVENT
DTSTART;TZID=America/Los_Angeles:20260615T090000
DTEND;TZID=America/Los_Angeles:20260615T100000
DTSTAMP:20260424T183234
CREATED:20251216T174047Z
LAST-MODIFIED:20260423T212230Z
UID:10022852-1781514000-1781517600@sjcc.org
SUMMARY:Fitness Class: Aqua Fit
DESCRIPTION:Wednesday pool hours.
URL:https://sjcc.org/event/fitness-class-aqua-fit/2026-06-15/
LOCATION:Stroum Jewish Community Center\, 3801 E Mercer Way\, Mercer Island\, WA\, United States
CATEGORIES:Adults + Seniors,Beginner,Demographics: Adults,Demographics: Seniors (55+ better),Fitness and Aquatics,Group Fitness Classes,Membership,Pool,Swimming
ORGANIZER;CN="Stroum JCC":MAILTO:info@sjcc.org
GEO:47.576754;-122.206204
X-APPLE-STRUCTURED-LOCATION;VALUE=URI;X-ADDRESS=Stroum Jewish Community Center 3801 E Mercer Way Mercer Island WA United States;X-APPLE-RADIUS=500;X-TITLE=3801 E Mercer Way:geo:-122.206204,47.576754
END:VEVENT
BEGIN:VEVENT
DTSTART;TZID=America/Los_Angeles:20260616T090000
DTEND;TZID=America/Los_Angeles:20260616T100000
DTSTAMP:20260424T183234
CREATED:20260123T003133Z
LAST-MODIFIED:20260423T180303Z
UID:10022717-1781600400-1781604000@sjcc.org
SUMMARY:Fitness Class: Aqua Fit Strong
DESCRIPTION:Wednesday pool hours.
URL:https://sjcc.org/event/fitness-class-aqua-fit-strong/2026-06-16/
LOCATION:Stroum Jewish Community Center\, 3801 E Mercer Way\, Mercer Island\, WA\, United States
CATEGORIES:Adults + Seniors,Beginner,Demographics: Adults,Demographics: Seniors (55+ better),Fitness and Aquatics,Group Fitness Classes,Membership,Pool,Swimming
ORGANIZER;CN="Stroum JCC":MAILTO:info@sjcc.org
GEO:47.576754;-122.206204
X-APPLE-STRUCTURED-LOCATION;VALUE=URI;X-ADDRESS=Stroum Jewish Community Center 3801 E Mercer Way Mercer Island WA United States;X-APPLE-RADIUS=500;X-TITLE=3801 E Mercer Way:geo:-122.206204,47.576754
END:VEVENT
BEGIN:VEVENT
DTSTART;TZID=America/Los_Angeles:20260617T090000
DTEND;TZID=America/Los_Angeles:20260617T100000
DTSTAMP:20260424T183234
CREATED:20251216T174047Z
LAST-MODIFIED:20260423T212230Z
UID:10022853-1781686800-1781690400@sjcc.org
SUMMARY:Fitness Class: Aqua Fit
DESCRIPTION:Wednesday pool hours.
URL:https://sjcc.org/event/fitness-class-aqua-fit/2026-06-17/
LOCATION:Stroum Jewish Community Center\, 3801 E Mercer Way\, Mercer Island\, WA\, United States
CATEGORIES:Adults + Seniors,Beginner,Demographics: Adults,Demographics: Seniors (55+ better),Fitness and Aquatics,Group Fitness Classes,Membership,Pool,Swimming
ORGANIZER;CN="Stroum JCC":MAILTO:info@sjcc.org
GEO:47.576754;-122.206204
X-APPLE-STRUCTURED-LOCATION;VALUE=URI;X-ADDRESS=Stroum Jewish Community Center 3801 E Mercer Way Mercer Island WA United States;X-APPLE-RADIUS=500;X-TITLE=3801 E Mercer Way:geo:-122.206204,47.576754
END:VEVENT
BEGIN:VEVENT
DTSTART;TZID=America/Los_Angeles:20260618T090000
DTEND;TZID=America/Los_Angeles:20260618T100000
DTSTAMP:20260424T183234
CREATED:20260123T004410Z
LAST-MODIFIED:20260423T180246Z
UID:10022705-1781773200-1781776800@sjcc.org
SUMMARY:Fitness Class: Aqua Fit HIIT
DESCRIPTION:Wednesday pool hours.
URL:https://sjcc.org/event/fitness-class-aqua-fit-hiit/2026-06-18/
LOCATION:Stroum Jewish Community Center\, 3801 E Mercer Way\, Mercer Island\, WA\, United States
CATEGORIES:Adults + Seniors,Beginner,Demographics: Adults,Demographics: Seniors (55+ better),Fitness and Aquatics,Group Fitness Classes,Membership,Pool,Swimming
ORGANIZER;CN="Stroum JCC":MAILTO:info@sjcc.org
GEO:47.576754;-122.206204
X-APPLE-STRUCTURED-LOCATION;VALUE=URI;X-ADDRESS=Stroum Jewish Community Center 3801 E Mercer Way Mercer Island WA United States;X-APPLE-RADIUS=500;X-TITLE=3801 E Mercer Way:geo:-122.206204,47.576754
END:VEVENT
BEGIN:VEVENT
DTSTART;TZID=America/Los_Angeles:20260619T090000
DTEND;TZID=America/Los_Angeles:20260619T100000
DTSTAMP:20260424T183234
CREATED:20251216T174047Z
LAST-MODIFIED:20260423T212230Z
UID:10022854-1781859600-1781863200@sjcc.org
SUMMARY:Fitness Class: Aqua Fit
DESCRIPTION:Wednesday pool hours.
URL:https://sjcc.org/event/fitness-class-aqua-fit/2026-06-19/
LOCATION:Stroum Jewish Community Center\, 3801 E Mercer Way\, Mercer Island\, WA\, United States
CATEGORIES:Adults + Seniors,Beginner,Demographics: Adults,Demographics: Seniors (55+ better),Fitness and Aquatics,Group Fitness Classes,Membership,Pool,Swimming
ORGANIZER;CN="Stroum JCC":MAILTO:info@sjcc.org
GEO:47.576754;-122.206204
X-APPLE-STRUCTURED-LOCATION;VALUE=URI;X-ADDRESS=Stroum Jewish Community Center 3801 E Mercer Way Mercer Island WA United States;X-APPLE-RADIUS=500;X-TITLE=3801 E Mercer Way:geo:-122.206204,47.576754
END:VEVENT
BEGIN:VEVENT
DTSTART;TZID=America/Los_Angeles:20260622T090000
DTEND;TZID=America/Los_Angeles:20260622T100000
DTSTAMP:20260424T183234
CREATED:20251216T174047Z
LAST-MODIFIED:20260423T212230Z
UID:10022855-1782118800-1782122400@sjcc.org
SUMMARY:Fitness Class: Aqua Fit
DESCRIPTION:Wednesday pool hours.
URL:https://sjcc.org/event/fitness-class-aqua-fit/2026-06-22/
LOCATION:Stroum Jewish Community Center\, 3801 E Mercer Way\, Mercer Island\, WA\, United States
CATEGORIES:Adults + Seniors,Beginner,Demographics: Adults,Demographics: Seniors (55+ better),Fitness and Aquatics,Group Fitness Classes,Membership,Pool,Swimming
ORGANIZER;CN="Stroum JCC":MAILTO:info@sjcc.org
GEO:47.576754;-122.206204
X-APPLE-STRUCTURED-LOCATION;VALUE=URI;X-ADDRESS=Stroum Jewish Community Center 3801 E Mercer Way Mercer Island WA United States;X-APPLE-RADIUS=500;X-TITLE=3801 E Mercer Way:geo:-122.206204,47.576754
END:VEVENT
BEGIN:VEVENT
DTSTART;TZID=America/Los_Angeles:20260623T090000
DTEND;TZID=America/Los_Angeles:20260623T100000
DTSTAMP:20260424T183234
CREATED:20260123T003133Z
LAST-MODIFIED:20260423T180303Z
UID:10022718-1782205200-1782208800@sjcc.org
SUMMARY:Fitness Class: Aqua Fit Strong
DESCRIPTION:Wednesday pool hours.
URL:https://sjcc.org/event/fitness-class-aqua-fit-strong/2026-06-23/
LOCATION:Stroum Jewish Community Center\, 3801 E Mercer Way\, Mercer Island\, WA\, United States
CATEGORIES:Adults + Seniors,Beginner,Demographics: Adults,Demographics: Seniors (55+ better),Fitness and Aquatics,Group Fitness Classes,Membership,Pool,Swimming
ORGANIZER;CN="Stroum JCC":MAILTO:info@sjcc.org
GEO:47.576754;-122.206204
X-APPLE-STRUCTURED-LOCATION;VALUE=URI;X-ADDRESS=Stroum Jewish Community Center 3801 E Mercer Way Mercer Island WA United States;X-APPLE-RADIUS=500;X-TITLE=3801 E Mercer Way:geo:-122.206204,47.576754
END:VEVENT
BEGIN:VEVENT
DTSTART;TZID=America/Los_Angeles:20260624T090000
DTEND;TZID=America/Los_Angeles:20260624T100000
DTSTAMP:20260424T183234
CREATED:20251216T174047Z
LAST-MODIFIED:20260423T212230Z
UID:10022856-1782291600-1782295200@sjcc.org
SUMMARY:Fitness Class: Aqua Fit
DESCRIPTION:Wednesday pool hours.
URL:https://sjcc.org/event/fitness-class-aqua-fit/2026-06-24/
LOCATION:Stroum Jewish Community Center\, 3801 E Mercer Way\, Mercer Island\, WA\, United States
CATEGORIES:Adults + Seniors,Beginner,Demographics: Adults,Demographics: Seniors (55+ better),Fitness and Aquatics,Group Fitness Classes,Membership,Pool,Swimming
ORGANIZER;CN="Stroum JCC":MAILTO:info@sjcc.org
GEO:47.576754;-122.206204
X-APPLE-STRUCTURED-LOCATION;VALUE=URI;X-ADDRESS=Stroum Jewish Community Center 3801 E Mercer Way Mercer Island WA United States;X-APPLE-RADIUS=500;X-TITLE=3801 E Mercer Way:geo:-122.206204,47.576754
END:VEVENT
BEGIN:VEVENT
DTSTART;TZID=America/Los_Angeles:20260625T090000
DTEND;TZID=America/Los_Angeles:20260625T100000
DTSTAMP:20260424T183234
CREATED:20260123T004410Z
LAST-MODIFIED:20260423T180246Z
UID:10022706-1782378000-1782381600@sjcc.org
SUMMARY:Fitness Class: Aqua Fit HIIT
DESCRIPTION:Wednesday pool hours.
URL:https://sjcc.org/event/fitness-class-aqua-fit-hiit/2026-06-25/
LOCATION:Stroum Jewish Community Center\, 3801 E Mercer Way\, Mercer Island\, WA\, United States
CATEGORIES:Adults + Seniors,Beginner,Demographics: Adults,Demographics: Seniors (55+ better),Fitness and Aquatics,Group Fitness Classes,Membership,Pool,Swimming
ORGANIZER;CN="Stroum JCC":MAILTO:info@sjcc.org
GEO:47.576754;-122.206204
X-APPLE-STRUCTURED-LOCATION;VALUE=URI;X-ADDRESS=Stroum Jewish Community Center 3801 E Mercer Way Mercer Island WA United States;X-APPLE-RADIUS=500;X-TITLE=3801 E Mercer Way:geo:-122.206204,47.576754
END:VEVENT
BEGIN:VEVENT
DTSTART;TZID=America/Los_Angeles:20260626T090000
DTEND;TZID=America/Los_Angeles:20260626T100000
DTSTAMP:20260424T183234
CREATED:20251216T174047Z
LAST-MODIFIED:20260423T212230Z
UID:10022857-1782464400-1782468000@sjcc.org
SUMMARY:Fitness Class: Aqua Fit
DESCRIPTION:Wednesday pool hours.
URL:https://sjcc.org/event/fitness-class-aqua-fit/2026-06-26/
LOCATION:Stroum Jewish Community Center\, 3801 E Mercer Way\, Mercer Island\, WA\, United States
CATEGORIES:Adults + Seniors,Beginner,Demographics: Adults,Demographics: Seniors (55+ better),Fitness and Aquatics,Group Fitness Classes,Membership,Pool,Swimming
ORGANIZER;CN="Stroum JCC":MAILTO:info@sjcc.org
GEO:47.576754;-122.206204
X-APPLE-STRUCTURED-LOCATION;VALUE=URI;X-ADDRESS=Stroum Jewish Community Center 3801 E Mercer Way Mercer Island WA United States;X-APPLE-RADIUS=500;X-TITLE=3801 E Mercer Way:geo:-122.206204,47.576754
END:VEVENT
BEGIN:VEVENT
DTSTART;TZID=America/Los_Angeles:20260629T090000
DTEND;TZID=America/Los_Angeles:20260629T100000
DTSTAMP:20260424T183234
CREATED:20251216T174047Z
LAST-MODIFIED:20260423T212230Z
UID:10022858-1782723600-1782727200@sjcc.org
SUMMARY:Fitness Class: Aqua Fit
DESCRIPTION:Wednesday pool hours.
URL:https://sjcc.org/event/fitness-class-aqua-fit/2026-06-29/
LOCATION:Stroum Jewish Community Center\, 3801 E Mercer Way\, Mercer Island\, WA\, United States
CATEGORIES:Adults + Seniors,Beginner,Demographics: Adults,Demographics: Seniors (55+ better),Fitness and Aquatics,Group Fitness Classes,Membership,Pool,Swimming
ORGANIZER;CN="Stroum JCC":MAILTO:info@sjcc.org
GEO:47.576754;-122.206204
X-APPLE-STRUCTURED-LOCATION;VALUE=URI;X-ADDRESS=Stroum Jewish Community Center 3801 E Mercer Way Mercer Island WA United States;X-APPLE-RADIUS=500;X-TITLE=3801 E Mercer Way:geo:-122.206204,47.576754
END:VEVENT
BEGIN:VEVENT
DTSTART;TZID=America/Los_Angeles:20260630T090000
DTEND;TZID=America/Los_Angeles:20260630T100000
DTSTAMP:20260424T183234
CREATED:20260123T003133Z
LAST-MODIFIED:20260423T180303Z
UID:10022719-1782810000-1782813600@sjcc.org
SUMMARY:Fitness Class: Aqua Fit Strong
DESCRIPTION:Wednesday pool hours.
URL:https://sjcc.org/event/fitness-class-aqua-fit-strong/2026-06-30/
LOCATION:Stroum Jewish Community Center\, 3801 E Mercer Way\, Mercer Island\, WA\, United States
CATEGORIES:Adults + Seniors,Beginner,Demographics: Adults,Demographics: Seniors (55+ better),Fitness and Aquatics,Group Fitness Classes,Membership,Pool,Swimming
ORGANIZER;CN="Stroum JCC":MAILTO:info@sjcc.org
GEO:47.576754;-122.206204
X-APPLE-STRUCTURED-LOCATION;VALUE=URI;X-ADDRESS=Stroum Jewish Community Center 3801 E Mercer Way Mercer Island WA United States;X-APPLE-RADIUS=500;X-TITLE=3801 E Mercer Way:geo:-122.206204,47.576754
END:VEVENT
BEGIN:VEVENT
DTSTART;TZID=America/Los_Angeles:20260701T090000
DTEND;TZID=America/Los_Angeles:20260701T100000
DTSTAMP:20260424T183234
CREATED:20251216T174047Z
LAST-MODIFIED:20260423T212230Z
UID:10022859-1782896400-1782900000@sjcc.org
SUMMARY:Fitness Class: Aqua Fit
DESCRIPTION:Wednesday pool hours.
URL:https://sjcc.org/event/fitness-class-aqua-fit/2026-07-01/
LOCATION:Stroum Jewish Community Center\, 3801 E Mercer Way\, Mercer Island\, WA\, United States
CATEGORIES:Adults + Seniors,Beginner,Demographics: Adults,Demographics: Seniors (55+ better),Fitness and Aquatics,Group Fitness Classes,Membership,Pool,Swimming
ORGANIZER;CN="Stroum JCC":MAILTO:info@sjcc.org
GEO:47.576754;-122.206204
X-APPLE-STRUCTURED-LOCATION;VALUE=URI;X-ADDRESS=Stroum Jewish Community Center 3801 E Mercer Way Mercer Island WA United States;X-APPLE-RADIUS=500;X-TITLE=3801 E Mercer Way:geo:-122.206204,47.576754
END:VEVENT
BEGIN:VEVENT
DTSTART;TZID=America/Los_Angeles:20260702T090000
DTEND;TZID=America/Los_Angeles:20260702T100000
DTSTAMP:20260424T183234
CREATED:20260123T004410Z
LAST-MODIFIED:20260423T180246Z
UID:10022707-1782982800-1782986400@sjcc.org
SUMMARY:Fitness Class: Aqua Fit HIIT
DESCRIPTION:Wednesday pool hours.
URL:https://sjcc.org/event/fitness-class-aqua-fit-hiit/2026-07-02/
LOCATION:Stroum Jewish Community Center\, 3801 E Mercer Way\, Mercer Island\, WA\, United States
CATEGORIES:Adults + Seniors,Beginner,Demographics: Adults,Demographics: Seniors (55+ better),Fitness and Aquatics,Group Fitness Classes,Membership,Pool,Swimming
ORGANIZER;CN="Stroum JCC":MAILTO:info@sjcc.org
GEO:47.576754;-122.206204
X-APPLE-STRUCTURED-LOCATION;VALUE=URI;X-ADDRESS=Stroum Jewish Community Center 3801 E Mercer Way Mercer Island WA United States;X-APPLE-RADIUS=500;X-TITLE=3801 E Mercer Way:geo:-122.206204,47.576754
END:VEVENT
BEGIN:VEVENT
DTSTART;TZID=America/Los_Angeles:20260703T090000
DTEND;TZID=America/Los_Angeles:20260703T100000
DTSTAMP:20260424T183234
CREATED:20251216T174047Z
LAST-MODIFIED:20260423T212230Z
UID:10022860-1783069200-1783072800@sjcc.org
SUMMARY:Fitness Class: Aqua Fit
DESCRIPTION:Wednesday pool hours.
URL:https://sjcc.org/event/fitness-class-aqua-fit/2026-07-03/
LOCATION:Stroum Jewish Community Center\, 3801 E Mercer Way\, Mercer Island\, WA\, United States
CATEGORIES:Adults + Seniors,Beginner,Demographics: Adults,Demographics: Seniors (55+ better),Fitness and Aquatics,Group Fitness Classes,Membership,Pool,Swimming
ORGANIZER;CN="Stroum JCC":MAILTO:info@sjcc.org
GEO:47.576754;-122.206204
X-APPLE-STRUCTURED-LOCATION;VALUE=URI;X-ADDRESS=Stroum Jewish Community Center 3801 E Mercer Way Mercer Island WA United States;X-APPLE-RADIUS=500;X-TITLE=3801 E Mercer Way:geo:-122.206204,47.576754
END:VEVENT
BEGIN:VEVENT
DTSTART;TZID=America/Los_Angeles:20260706T090000
DTEND;TZID=America/Los_Angeles:20260706T100000
DTSTAMP:20260424T183234
CREATED:20251216T174047Z
LAST-MODIFIED:20260423T212230Z
UID:10022861-1783328400-1783332000@sjcc.org
SUMMARY:Fitness Class: Aqua Fit
DESCRIPTION:Wednesday pool hours.
URL:https://sjcc.org/event/fitness-class-aqua-fit/2026-07-06/
LOCATION:Stroum Jewish Community Center\, 3801 E Mercer Way\, Mercer Island\, WA\, United States
CATEGORIES:Adults + Seniors,Beginner,Demographics: Adults,Demographics: Seniors (55+ better),Fitness and Aquatics,Group Fitness Classes,Membership,Pool,Swimming
ORGANIZER;CN="Stroum JCC":MAILTO:info@sjcc.org
GEO:47.576754;-122.206204
X-APPLE-STRUCTURED-LOCATION;VALUE=URI;X-ADDRESS=Stroum Jewish Community Center 3801 E Mercer Way Mercer Island WA United States;X-APPLE-RADIUS=500;X-TITLE=3801 E Mercer Way:geo:-122.206204,47.576754
END:VEVENT
BEGIN:VEVENT
DTSTART;TZID=America/Los_Angeles:20260707T090000
DTEND;TZID=America/Los_Angeles:20260707T100000
DTSTAMP:20260424T183234
CREATED:20260123T003133Z
LAST-MODIFIED:20260423T180303Z
UID:10022720-1783414800-1783418400@sjcc.org
SUMMARY:Fitness Class: Aqua Fit Strong
DESCRIPTION:Wednesday pool hours.
URL:https://sjcc.org/event/fitness-class-aqua-fit-strong/2026-07-07/
LOCATION:Stroum Jewish Community Center\, 3801 E Mercer Way\, Mercer Island\, WA\, United States
CATEGORIES:Adults + Seniors,Beginner,Demographics: Adults,Demographics: Seniors (55+ better),Fitness and Aquatics,Group Fitness Classes,Membership,Pool,Swimming
ORGANIZER;CN="Stroum JCC":MAILTO:info@sjcc.org
GEO:47.576754;-122.206204
X-APPLE-STRUCTURED-LOCATION;VALUE=URI;X-ADDRESS=Stroum Jewish Community Center 3801 E Mercer Way Mercer Island WA United States;X-APPLE-RADIUS=500;X-TITLE=3801 E Mercer Way:geo:-122.206204,47.576754
END:VEVENT
BEGIN:VEVENT
DTSTART;TZID=America/Los_Angeles:20260708T090000
DTEND;TZID=America/Los_Angeles:20260708T100000
DTSTAMP:20260424T183234
CREATED:20251216T174047Z
LAST-MODIFIED:20260423T212230Z
UID:10022862-1783501200-1783504800@sjcc.org
SUMMARY:Fitness Class: Aqua Fit
DESCRIPTION:Wednesday pool hours.
URL:https://sjcc.org/event/fitness-class-aqua-fit/2026-07-08/
LOCATION:Stroum Jewish Community Center\, 3801 E Mercer Way\, Mercer Island\, WA\, United States
CATEGORIES:Adults + Seniors,Beginner,Demographics: Adults,Demographics: Seniors (55+ better),Fitness and Aquatics,Group Fitness Classes,Membership,Pool,Swimming
ORGANIZER;CN="Stroum JCC":MAILTO:info@sjcc.org
GEO:47.576754;-122.206204
X-APPLE-STRUCTURED-LOCATION;VALUE=URI;X-ADDRESS=Stroum Jewish Community Center 3801 E Mercer Way Mercer Island WA United States;X-APPLE-RADIUS=500;X-TITLE=3801 E Mercer Way:geo:-122.206204,47.576754
END:VEVENT
BEGIN:VEVENT
DTSTART;TZID=America/Los_Angeles:20260709T090000
DTEND;TZID=America/Los_Angeles:20260709T100000
DTSTAMP:20260424T183234
CREATED:20260123T004410Z
LAST-MODIFIED:20260423T180246Z
UID:10022708-1783587600-1783591200@sjcc.org
SUMMARY:Fitness Class: Aqua Fit HIIT
DESCRIPTION:Wednesday pool hours.
URL:https://sjcc.org/event/fitness-class-aqua-fit-hiit/2026-07-09/
LOCATION:Stroum Jewish Community Center\, 3801 E Mercer Way\, Mercer Island\, WA\, United States
CATEGORIES:Adults + Seniors,Beginner,Demographics: Adults,Demographics: Seniors (55+ better),Fitness and Aquatics,Group Fitness Classes,Membership,Pool,Swimming
ORGANIZER;CN="Stroum JCC":MAILTO:info@sjcc.org
GEO:47.576754;-122.206204
X-APPLE-STRUCTURED-LOCATION;VALUE=URI;X-ADDRESS=Stroum Jewish Community Center 3801 E Mercer Way Mercer Island WA United States;X-APPLE-RADIUS=500;X-TITLE=3801 E Mercer Way:geo:-122.206204,47.576754
END:VEVENT
BEGIN:VEVENT
DTSTART;TZID=America/Los_Angeles:20260710T090000
DTEND;TZID=America/Los_Angeles:20260710T100000
DTSTAMP:20260424T183234
CREATED:20251216T174047Z
LAST-MODIFIED:20260423T212230Z
UID:10022863-1783674000-1783677600@sjcc.org
SUMMARY:Fitness Class: Aqua Fit
DESCRIPTION:Wednesday pool hours.
URL:https://sjcc.org/event/fitness-class-aqua-fit/2026-07-10/
LOCATION:Stroum Jewish Community Center\, 3801 E Mercer Way\, Mercer Island\, WA\, United States
CATEGORIES:Adults + Seniors,Beginner,Demographics: Adults,Demographics: Seniors (55+ better),Fitness and Aquatics,Group Fitness Classes,Membership,Pool,Swimming
ORGANIZER;CN="Stroum JCC":MAILTO:info@sjcc.org
GEO:47.576754;-122.206204
X-APPLE-STRUCTURED-LOCATION;VALUE=URI;X-ADDRESS=Stroum Jewish Community Center 3801 E Mercer Way Mercer Island WA United States;X-APPLE-RADIUS=500;X-TITLE=3801 E Mercer Way:geo:-122.206204,47.576754
END:VEVENT
BEGIN:VEVENT
DTSTART;TZID=America/Los_Angeles:20260713T090000
DTEND;TZID=America/Los_Angeles:20260713T100000
DTSTAMP:20260424T183234
CREATED:20251216T174047Z
LAST-MODIFIED:20260423T212230Z
UID:10022864-1783933200-1783936800@sjcc.org
SUMMARY:Fitness Class: Aqua Fit
DESCRIPTION:Wednesday pool hours.
URL:https://sjcc.org/event/fitness-class-aqua-fit/2026-07-13/
LOCATION:Stroum Jewish Community Center\, 3801 E Mercer Way\, Mercer Island\, WA\, United States
CATEGORIES:Adults + Seniors,Beginner,Demographics: Adults,Demographics: Seniors (55+ better),Fitness and Aquatics,Group Fitness Classes,Membership,Pool,Swimming
ORGANIZER;CN="Stroum JCC":MAILTO:info@sjcc.org
GEO:47.576754;-122.206204
X-APPLE-STRUCTURED-LOCATION;VALUE=URI;X-ADDRESS=Stroum Jewish Community Center 3801 E Mercer Way Mercer Island WA United States;X-APPLE-RADIUS=500;X-TITLE=3801 E Mercer Way:geo:-122.206204,47.576754
END:VEVENT
END:VCALENDAR