BEGIN:VCALENDAR
VERSION:2.0
PRODID:-//Stroum Jewish Community Center of Greater Seattle - ECPv6.15.20//NONSGML v1.0//EN
CALSCALE:GREGORIAN
METHOD:PUBLISH
X-ORIGINAL-URL:https://sjcc.org
X-WR-CALDESC:Events for Stroum Jewish Community Center of Greater Seattle
REFRESH-INTERVAL;VALUE=DURATION:PT1H
X-Robots-Tag:noindex
X-PUBLISHED-TTL:PT1H
BEGIN:VTIMEZONE
TZID:America/Los_Angeles
BEGIN:DAYLIGHT
TZOFFSETFROM:-0800
TZOFFSETTO:-0700
TZNAME:PDT
DTSTART:20240310T100000
END:DAYLIGHT
BEGIN:STANDARD
TZOFFSETFROM:-0700
TZOFFSETTO:-0800
TZNAME:PST
DTSTART:20241103T090000
END:STANDARD
BEGIN:DAYLIGHT
TZOFFSETFROM:-0800
TZOFFSETTO:-0700
TZNAME:PDT
DTSTART:20250309T100000
END:DAYLIGHT
BEGIN:STANDARD
TZOFFSETFROM:-0700
TZOFFSETTO:-0800
TZNAME:PST
DTSTART:20251102T090000
END:STANDARD
BEGIN:DAYLIGHT
TZOFFSETFROM:-0800
TZOFFSETTO:-0700
TZNAME:PDT
DTSTART:20260308T100000
END:DAYLIGHT
BEGIN:STANDARD
TZOFFSETFROM:-0700
TZOFFSETTO:-0800
TZNAME:PST
DTSTART:20261101T090000
END:STANDARD
BEGIN:DAYLIGHT
TZOFFSETFROM:-0800
TZOFFSETTO:-0700
TZNAME:PDT
DTSTART:20270314T100000
END:DAYLIGHT
BEGIN:STANDARD
TZOFFSETFROM:-0700
TZOFFSETTO:-0800
TZNAME:PST
DTSTART:20271107T090000
END:STANDARD
END:VTIMEZONE
BEGIN:VEVENT
DTSTART;TZID=America/Los_Angeles:20251219T090000
DTEND;TZID=America/Los_Angeles:20251219T100000
DTSTAMP:20260423T190948
CREATED:20250208T002735Z
LAST-MODIFIED:20251001T164739Z
UID:10018307-1766134800-1766138400@sjcc.org
SUMMARY:Fitness Class: Aqua Fit
DESCRIPTION:Wednesday pool hours.
URL:https://sjcc.org/event/fitness-class-aqua-fit-2/2025-12-19/
LOCATION:Stroum Jewish Community Center\, 3801 E Mercer Way\, Mercer Island\, WA\, United States
CATEGORIES:Adults + Seniors,Beginner,Demographics: Adults,Demographics: Seniors (55+ better),Fitness and Aquatics,Group Fitness Classes,Membership,Pool,Swimming
ORGANIZER;CN="Stroum JCC":MAILTO:info@sjcc.org
GEO:47.576754;-122.206204
X-APPLE-STRUCTURED-LOCATION;VALUE=URI;X-ADDRESS=Stroum Jewish Community Center 3801 E Mercer Way Mercer Island WA United States;X-APPLE-RADIUS=500;X-TITLE=3801 E Mercer Way:geo:-122.206204,47.576754
END:VEVENT
BEGIN:VEVENT
DTSTART;TZID=America/Los_Angeles:20251222T090000
DTEND;TZID=America/Los_Angeles:20251222T100000
DTSTAMP:20260423T190948
CREATED:20250208T002735Z
LAST-MODIFIED:20251001T164739Z
UID:10018308-1766394000-1766397600@sjcc.org
SUMMARY:Fitness Class: Aqua Fit
DESCRIPTION:Wednesday pool hours.
URL:https://sjcc.org/event/fitness-class-aqua-fit-2/2025-12-22/
LOCATION:Stroum Jewish Community Center\, 3801 E Mercer Way\, Mercer Island\, WA\, United States
CATEGORIES:Adults + Seniors,Beginner,Demographics: Adults,Demographics: Seniors (55+ better),Fitness and Aquatics,Group Fitness Classes,Membership,Pool,Swimming
ORGANIZER;CN="Stroum JCC":MAILTO:info@sjcc.org
GEO:47.576754;-122.206204
X-APPLE-STRUCTURED-LOCATION;VALUE=URI;X-ADDRESS=Stroum Jewish Community Center 3801 E Mercer Way Mercer Island WA United States;X-APPLE-RADIUS=500;X-TITLE=3801 E Mercer Way:geo:-122.206204,47.576754
END:VEVENT
BEGIN:VEVENT
DTSTART;TZID=America/Los_Angeles:20251223T090000
DTEND;TZID=America/Los_Angeles:20251223T100000
DTSTAMP:20260423T190948
CREATED:20250208T002735Z
LAST-MODIFIED:20251001T164739Z
UID:10018309-1766480400-1766484000@sjcc.org
SUMMARY:Fitness Class: Aqua Fit
DESCRIPTION:Wednesday pool hours.
URL:https://sjcc.org/event/fitness-class-aqua-fit-2/2025-12-23/
LOCATION:Stroum Jewish Community Center\, 3801 E Mercer Way\, Mercer Island\, WA\, United States
CATEGORIES:Adults + Seniors,Beginner,Demographics: Adults,Demographics: Seniors (55+ better),Fitness and Aquatics,Group Fitness Classes,Membership,Pool,Swimming
ORGANIZER;CN="Stroum JCC":MAILTO:info@sjcc.org
GEO:47.576754;-122.206204
X-APPLE-STRUCTURED-LOCATION;VALUE=URI;X-ADDRESS=Stroum Jewish Community Center 3801 E Mercer Way Mercer Island WA United States;X-APPLE-RADIUS=500;X-TITLE=3801 E Mercer Way:geo:-122.206204,47.576754
END:VEVENT
BEGIN:VEVENT
DTSTART;TZID=America/Los_Angeles:20251224T090000
DTEND;TZID=America/Los_Angeles:20251224T100000
DTSTAMP:20260423T190948
CREATED:20250208T002735Z
LAST-MODIFIED:20251001T164739Z
UID:10018310-1766566800-1766570400@sjcc.org
SUMMARY:Fitness Class: Aqua Fit
DESCRIPTION:Wednesday pool hours.
URL:https://sjcc.org/event/fitness-class-aqua-fit-2/2025-12-24/
LOCATION:Stroum Jewish Community Center\, 3801 E Mercer Way\, Mercer Island\, WA\, United States
CATEGORIES:Adults + Seniors,Beginner,Demographics: Adults,Demographics: Seniors (55+ better),Fitness and Aquatics,Group Fitness Classes,Membership,Pool,Swimming
ORGANIZER;CN="Stroum JCC":MAILTO:info@sjcc.org
GEO:47.576754;-122.206204
X-APPLE-STRUCTURED-LOCATION;VALUE=URI;X-ADDRESS=Stroum Jewish Community Center 3801 E Mercer Way Mercer Island WA United States;X-APPLE-RADIUS=500;X-TITLE=3801 E Mercer Way:geo:-122.206204,47.576754
END:VEVENT
BEGIN:VEVENT
DTSTART;TZID=America/Los_Angeles:20251225T090000
DTEND;TZID=America/Los_Angeles:20251225T100000
DTSTAMP:20260423T190948
CREATED:20250208T002735Z
LAST-MODIFIED:20251001T164739Z
UID:10018311-1766653200-1766656800@sjcc.org
SUMMARY:Fitness Class: Aqua Fit
DESCRIPTION:Wednesday pool hours.
URL:https://sjcc.org/event/fitness-class-aqua-fit-2/2025-12-25/
LOCATION:Stroum Jewish Community Center\, 3801 E Mercer Way\, Mercer Island\, WA\, United States
CATEGORIES:Adults + Seniors,Beginner,Demographics: Adults,Demographics: Seniors (55+ better),Fitness and Aquatics,Group Fitness Classes,Membership,Pool,Swimming
ORGANIZER;CN="Stroum JCC":MAILTO:info@sjcc.org
GEO:47.576754;-122.206204
X-APPLE-STRUCTURED-LOCATION;VALUE=URI;X-ADDRESS=Stroum Jewish Community Center 3801 E Mercer Way Mercer Island WA United States;X-APPLE-RADIUS=500;X-TITLE=3801 E Mercer Way:geo:-122.206204,47.576754
END:VEVENT
BEGIN:VEVENT
DTSTART;TZID=America/Los_Angeles:20251226T090000
DTEND;TZID=America/Los_Angeles:20251226T100000
DTSTAMP:20260423T190948
CREATED:20250208T002735Z
LAST-MODIFIED:20251001T164739Z
UID:10018312-1766739600-1766743200@sjcc.org
SUMMARY:Fitness Class: Aqua Fit
DESCRIPTION:Wednesday pool hours.
URL:https://sjcc.org/event/fitness-class-aqua-fit-2/2025-12-26/
LOCATION:Stroum Jewish Community Center\, 3801 E Mercer Way\, Mercer Island\, WA\, United States
CATEGORIES:Adults + Seniors,Beginner,Demographics: Adults,Demographics: Seniors (55+ better),Fitness and Aquatics,Group Fitness Classes,Membership,Pool,Swimming
ORGANIZER;CN="Stroum JCC":MAILTO:info@sjcc.org
GEO:47.576754;-122.206204
X-APPLE-STRUCTURED-LOCATION;VALUE=URI;X-ADDRESS=Stroum Jewish Community Center 3801 E Mercer Way Mercer Island WA United States;X-APPLE-RADIUS=500;X-TITLE=3801 E Mercer Way:geo:-122.206204,47.576754
END:VEVENT
BEGIN:VEVENT
DTSTART;TZID=America/Los_Angeles:20251229T090000
DTEND;TZID=America/Los_Angeles:20251229T100000
DTSTAMP:20260423T190948
CREATED:20250208T002735Z
LAST-MODIFIED:20251001T164739Z
UID:10018313-1766998800-1767002400@sjcc.org
SUMMARY:Fitness Class: Aqua Fit
DESCRIPTION:Wednesday pool hours.
URL:https://sjcc.org/event/fitness-class-aqua-fit-2/2025-12-29/
LOCATION:Stroum Jewish Community Center\, 3801 E Mercer Way\, Mercer Island\, WA\, United States
CATEGORIES:Adults + Seniors,Beginner,Demographics: Adults,Demographics: Seniors (55+ better),Fitness and Aquatics,Group Fitness Classes,Membership,Pool,Swimming
ORGANIZER;CN="Stroum JCC":MAILTO:info@sjcc.org
GEO:47.576754;-122.206204
X-APPLE-STRUCTURED-LOCATION;VALUE=URI;X-ADDRESS=Stroum Jewish Community Center 3801 E Mercer Way Mercer Island WA United States;X-APPLE-RADIUS=500;X-TITLE=3801 E Mercer Way:geo:-122.206204,47.576754
END:VEVENT
BEGIN:VEVENT
DTSTART;TZID=America/Los_Angeles:20251230T090000
DTEND;TZID=America/Los_Angeles:20251230T100000
DTSTAMP:20260423T190948
CREATED:20250208T002735Z
LAST-MODIFIED:20251001T164739Z
UID:10018314-1767085200-1767088800@sjcc.org
SUMMARY:Fitness Class: Aqua Fit
DESCRIPTION:Wednesday pool hours.
URL:https://sjcc.org/event/fitness-class-aqua-fit-2/2025-12-30/
LOCATION:Stroum Jewish Community Center\, 3801 E Mercer Way\, Mercer Island\, WA\, United States
CATEGORIES:Adults + Seniors,Beginner,Demographics: Adults,Demographics: Seniors (55+ better),Fitness and Aquatics,Group Fitness Classes,Membership,Pool,Swimming
ORGANIZER;CN="Stroum JCC":MAILTO:info@sjcc.org
GEO:47.576754;-122.206204
X-APPLE-STRUCTURED-LOCATION;VALUE=URI;X-ADDRESS=Stroum Jewish Community Center 3801 E Mercer Way Mercer Island WA United States;X-APPLE-RADIUS=500;X-TITLE=3801 E Mercer Way:geo:-122.206204,47.576754
END:VEVENT
BEGIN:VEVENT
DTSTART;TZID=America/Los_Angeles:20251231T090000
DTEND;TZID=America/Los_Angeles:20251231T100000
DTSTAMP:20260423T190948
CREATED:20250208T002735Z
LAST-MODIFIED:20251001T164739Z
UID:10018315-1767171600-1767175200@sjcc.org
SUMMARY:Fitness Class: Aqua Fit
DESCRIPTION:Wednesday pool hours.
URL:https://sjcc.org/event/fitness-class-aqua-fit-2/2025-12-31/
LOCATION:Stroum Jewish Community Center\, 3801 E Mercer Way\, Mercer Island\, WA\, United States
CATEGORIES:Adults + Seniors,Beginner,Demographics: Adults,Demographics: Seniors (55+ better),Fitness and Aquatics,Group Fitness Classes,Membership,Pool,Swimming
ORGANIZER;CN="Stroum JCC":MAILTO:info@sjcc.org
GEO:47.576754;-122.206204
X-APPLE-STRUCTURED-LOCATION;VALUE=URI;X-ADDRESS=Stroum Jewish Community Center 3801 E Mercer Way Mercer Island WA United States;X-APPLE-RADIUS=500;X-TITLE=3801 E Mercer Way:geo:-122.206204,47.576754
END:VEVENT
BEGIN:VEVENT
DTSTART;TZID=America/Los_Angeles:20260101T090000
DTEND;TZID=America/Los_Angeles:20260101T100000
DTSTAMP:20260423T190948
CREATED:20251216T174047Z
LAST-MODIFIED:20260423T212230Z
UID:10019981-1767258000-1767261600@sjcc.org
SUMMARY:Fitness Class: Aqua Fit
DESCRIPTION:Wednesday pool hours.
URL:https://sjcc.org/event/fitness-class-aqua-fit/2026-01-01/
LOCATION:Stroum Jewish Community Center\, 3801 E Mercer Way\, Mercer Island\, WA\, United States
CATEGORIES:Adults + Seniors,Beginner,Demographics: Adults,Demographics: Seniors (55+ better),Fitness and Aquatics,Group Fitness Classes,Membership,Pool,Swimming
ORGANIZER;CN="Stroum JCC":MAILTO:info@sjcc.org
GEO:47.576754;-122.206204
X-APPLE-STRUCTURED-LOCATION;VALUE=URI;X-ADDRESS=Stroum Jewish Community Center 3801 E Mercer Way Mercer Island WA United States;X-APPLE-RADIUS=500;X-TITLE=3801 E Mercer Way:geo:-122.206204,47.576754
END:VEVENT
BEGIN:VEVENT
DTSTART;TZID=America/Los_Angeles:20260102T090000
DTEND;TZID=America/Los_Angeles:20260102T100000
DTSTAMP:20260423T190948
CREATED:20251216T174047Z
LAST-MODIFIED:20260423T212230Z
UID:10019982-1767344400-1767348000@sjcc.org
SUMMARY:Fitness Class: Aqua Fit
DESCRIPTION:Wednesday pool hours.
URL:https://sjcc.org/event/fitness-class-aqua-fit/2026-01-02/
LOCATION:Stroum Jewish Community Center\, 3801 E Mercer Way\, Mercer Island\, WA\, United States
CATEGORIES:Adults + Seniors,Beginner,Demographics: Adults,Demographics: Seniors (55+ better),Fitness and Aquatics,Group Fitness Classes,Membership,Pool,Swimming
ORGANIZER;CN="Stroum JCC":MAILTO:info@sjcc.org
GEO:47.576754;-122.206204
X-APPLE-STRUCTURED-LOCATION;VALUE=URI;X-ADDRESS=Stroum Jewish Community Center 3801 E Mercer Way Mercer Island WA United States;X-APPLE-RADIUS=500;X-TITLE=3801 E Mercer Way:geo:-122.206204,47.576754
END:VEVENT
BEGIN:VEVENT
DTSTART;TZID=America/Los_Angeles:20260105T090000
DTEND;TZID=America/Los_Angeles:20260105T100000
DTSTAMP:20260423T190949
CREATED:20251216T174047Z
LAST-MODIFIED:20260423T212230Z
UID:10019983-1767603600-1767607200@sjcc.org
SUMMARY:Fitness Class: Aqua Fit
DESCRIPTION:Wednesday pool hours.
URL:https://sjcc.org/event/fitness-class-aqua-fit/2026-01-05/
LOCATION:Stroum Jewish Community Center\, 3801 E Mercer Way\, Mercer Island\, WA\, United States
CATEGORIES:Adults + Seniors,Beginner,Demographics: Adults,Demographics: Seniors (55+ better),Fitness and Aquatics,Group Fitness Classes,Membership,Pool,Swimming
ORGANIZER;CN="Stroum JCC":MAILTO:info@sjcc.org
GEO:47.576754;-122.206204
X-APPLE-STRUCTURED-LOCATION;VALUE=URI;X-ADDRESS=Stroum Jewish Community Center 3801 E Mercer Way Mercer Island WA United States;X-APPLE-RADIUS=500;X-TITLE=3801 E Mercer Way:geo:-122.206204,47.576754
END:VEVENT
BEGIN:VEVENT
DTSTART;TZID=America/Los_Angeles:20260107T090000
DTEND;TZID=America/Los_Angeles:20260107T100000
DTSTAMP:20260423T190949
CREATED:20251216T174047Z
LAST-MODIFIED:20260423T212230Z
UID:10019985-1767776400-1767780000@sjcc.org
SUMMARY:Fitness Class: Aqua Fit
DESCRIPTION:Wednesday pool hours.
URL:https://sjcc.org/event/fitness-class-aqua-fit/2026-01-07/
LOCATION:Stroum Jewish Community Center\, 3801 E Mercer Way\, Mercer Island\, WA\, United States
CATEGORIES:Adults + Seniors,Beginner,Demographics: Adults,Demographics: Seniors (55+ better),Fitness and Aquatics,Group Fitness Classes,Membership,Pool,Swimming
ORGANIZER;CN="Stroum JCC":MAILTO:info@sjcc.org
GEO:47.576754;-122.206204
X-APPLE-STRUCTURED-LOCATION;VALUE=URI;X-ADDRESS=Stroum Jewish Community Center 3801 E Mercer Way Mercer Island WA United States;X-APPLE-RADIUS=500;X-TITLE=3801 E Mercer Way:geo:-122.206204,47.576754
END:VEVENT
BEGIN:VEVENT
DTSTART;TZID=America/Los_Angeles:20260109T090000
DTEND;TZID=America/Los_Angeles:20260109T100000
DTSTAMP:20260423T190949
CREATED:20251216T174047Z
LAST-MODIFIED:20260423T212230Z
UID:10019987-1767949200-1767952800@sjcc.org
SUMMARY:Fitness Class: Aqua Fit
DESCRIPTION:Wednesday pool hours.
URL:https://sjcc.org/event/fitness-class-aqua-fit/2026-01-09/
LOCATION:Stroum Jewish Community Center\, 3801 E Mercer Way\, Mercer Island\, WA\, United States
CATEGORIES:Adults + Seniors,Beginner,Demographics: Adults,Demographics: Seniors (55+ better),Fitness and Aquatics,Group Fitness Classes,Membership,Pool,Swimming
ORGANIZER;CN="Stroum JCC":MAILTO:info@sjcc.org
GEO:47.576754;-122.206204
X-APPLE-STRUCTURED-LOCATION;VALUE=URI;X-ADDRESS=Stroum Jewish Community Center 3801 E Mercer Way Mercer Island WA United States;X-APPLE-RADIUS=500;X-TITLE=3801 E Mercer Way:geo:-122.206204,47.576754
END:VEVENT
BEGIN:VEVENT
DTSTART;TZID=America/Los_Angeles:20260112T090000
DTEND;TZID=America/Los_Angeles:20260112T100000
DTSTAMP:20260423T190949
CREATED:20251216T174047Z
LAST-MODIFIED:20260423T212230Z
UID:10019988-1768208400-1768212000@sjcc.org
SUMMARY:Fitness Class: Aqua Fit
DESCRIPTION:Wednesday pool hours.
URL:https://sjcc.org/event/fitness-class-aqua-fit/2026-01-12/
LOCATION:Stroum Jewish Community Center\, 3801 E Mercer Way\, Mercer Island\, WA\, United States
CATEGORIES:Adults + Seniors,Beginner,Demographics: Adults,Demographics: Seniors (55+ better),Fitness and Aquatics,Group Fitness Classes,Membership,Pool,Swimming
ORGANIZER;CN="Stroum JCC":MAILTO:info@sjcc.org
GEO:47.576754;-122.206204
X-APPLE-STRUCTURED-LOCATION;VALUE=URI;X-ADDRESS=Stroum Jewish Community Center 3801 E Mercer Way Mercer Island WA United States;X-APPLE-RADIUS=500;X-TITLE=3801 E Mercer Way:geo:-122.206204,47.576754
END:VEVENT
BEGIN:VEVENT
DTSTART;TZID=America/Los_Angeles:20260114T090000
DTEND;TZID=America/Los_Angeles:20260114T100000
DTSTAMP:20260423T190949
CREATED:20251216T174047Z
LAST-MODIFIED:20260423T212230Z
UID:10019990-1768381200-1768384800@sjcc.org
SUMMARY:Fitness Class: Aqua Fit
DESCRIPTION:Wednesday pool hours.
URL:https://sjcc.org/event/fitness-class-aqua-fit/2026-01-14/
LOCATION:Stroum Jewish Community Center\, 3801 E Mercer Way\, Mercer Island\, WA\, United States
CATEGORIES:Adults + Seniors,Beginner,Demographics: Adults,Demographics: Seniors (55+ better),Fitness and Aquatics,Group Fitness Classes,Membership,Pool,Swimming
ORGANIZER;CN="Stroum JCC":MAILTO:info@sjcc.org
GEO:47.576754;-122.206204
X-APPLE-STRUCTURED-LOCATION;VALUE=URI;X-ADDRESS=Stroum Jewish Community Center 3801 E Mercer Way Mercer Island WA United States;X-APPLE-RADIUS=500;X-TITLE=3801 E Mercer Way:geo:-122.206204,47.576754
END:VEVENT
BEGIN:VEVENT
DTSTART;TZID=America/Los_Angeles:20260116T090000
DTEND;TZID=America/Los_Angeles:20260116T100000
DTSTAMP:20260423T190949
CREATED:20251216T174047Z
LAST-MODIFIED:20260423T212230Z
UID:10019992-1768554000-1768557600@sjcc.org
SUMMARY:Fitness Class: Aqua Fit
DESCRIPTION:Wednesday pool hours.
URL:https://sjcc.org/event/fitness-class-aqua-fit/2026-01-16/
LOCATION:Stroum Jewish Community Center\, 3801 E Mercer Way\, Mercer Island\, WA\, United States
CATEGORIES:Adults + Seniors,Beginner,Demographics: Adults,Demographics: Seniors (55+ better),Fitness and Aquatics,Group Fitness Classes,Membership,Pool,Swimming
ORGANIZER;CN="Stroum JCC":MAILTO:info@sjcc.org
GEO:47.576754;-122.206204
X-APPLE-STRUCTURED-LOCATION;VALUE=URI;X-ADDRESS=Stroum Jewish Community Center 3801 E Mercer Way Mercer Island WA United States;X-APPLE-RADIUS=500;X-TITLE=3801 E Mercer Way:geo:-122.206204,47.576754
END:VEVENT
BEGIN:VEVENT
DTSTART;TZID=America/Los_Angeles:20260119T090000
DTEND;TZID=America/Los_Angeles:20260119T100000
DTSTAMP:20260423T190949
CREATED:20251216T174047Z
LAST-MODIFIED:20260423T212230Z
UID:10019993-1768813200-1768816800@sjcc.org
SUMMARY:Fitness Class: Aqua Fit
DESCRIPTION:Wednesday pool hours.
URL:https://sjcc.org/event/fitness-class-aqua-fit/2026-01-19/
LOCATION:Stroum Jewish Community Center\, 3801 E Mercer Way\, Mercer Island\, WA\, United States
CATEGORIES:Adults + Seniors,Beginner,Demographics: Adults,Demographics: Seniors (55+ better),Fitness and Aquatics,Group Fitness Classes,Membership,Pool,Swimming
ORGANIZER;CN="Stroum JCC":MAILTO:info@sjcc.org
GEO:47.576754;-122.206204
X-APPLE-STRUCTURED-LOCATION;VALUE=URI;X-ADDRESS=Stroum Jewish Community Center 3801 E Mercer Way Mercer Island WA United States;X-APPLE-RADIUS=500;X-TITLE=3801 E Mercer Way:geo:-122.206204,47.576754
END:VEVENT
BEGIN:VEVENT
DTSTART;TZID=America/Los_Angeles:20260121T090000
DTEND;TZID=America/Los_Angeles:20260121T100000
DTSTAMP:20260423T190949
CREATED:20251216T174047Z
LAST-MODIFIED:20260423T212230Z
UID:10019995-1768986000-1768989600@sjcc.org
SUMMARY:Fitness Class: Aqua Fit
DESCRIPTION:Wednesday pool hours.
URL:https://sjcc.org/event/fitness-class-aqua-fit/2026-01-21/
LOCATION:Stroum Jewish Community Center\, 3801 E Mercer Way\, Mercer Island\, WA\, United States
CATEGORIES:Adults + Seniors,Beginner,Demographics: Adults,Demographics: Seniors (55+ better),Fitness and Aquatics,Group Fitness Classes,Membership,Pool,Swimming
ORGANIZER;CN="Stroum JCC":MAILTO:info@sjcc.org
GEO:47.576754;-122.206204
X-APPLE-STRUCTURED-LOCATION;VALUE=URI;X-ADDRESS=Stroum Jewish Community Center 3801 E Mercer Way Mercer Island WA United States;X-APPLE-RADIUS=500;X-TITLE=3801 E Mercer Way:geo:-122.206204,47.576754
END:VEVENT
BEGIN:VEVENT
DTSTART;TZID=America/Los_Angeles:20260123T090000
DTEND;TZID=America/Los_Angeles:20260123T100000
DTSTAMP:20260423T190949
CREATED:20251216T174047Z
LAST-MODIFIED:20260423T212230Z
UID:10019997-1769158800-1769162400@sjcc.org
SUMMARY:Fitness Class: Aqua Fit
DESCRIPTION:Wednesday pool hours.
URL:https://sjcc.org/event/fitness-class-aqua-fit/2026-01-23/
LOCATION:Stroum Jewish Community Center\, 3801 E Mercer Way\, Mercer Island\, WA\, United States
CATEGORIES:Adults + Seniors,Beginner,Demographics: Adults,Demographics: Seniors (55+ better),Fitness and Aquatics,Group Fitness Classes,Membership,Pool,Swimming
ORGANIZER;CN="Stroum JCC":MAILTO:info@sjcc.org
GEO:47.576754;-122.206204
X-APPLE-STRUCTURED-LOCATION;VALUE=URI;X-ADDRESS=Stroum Jewish Community Center 3801 E Mercer Way Mercer Island WA United States;X-APPLE-RADIUS=500;X-TITLE=3801 E Mercer Way:geo:-122.206204,47.576754
END:VEVENT
BEGIN:VEVENT
DTSTART;TZID=America/Los_Angeles:20260126T090000
DTEND;TZID=America/Los_Angeles:20260126T100000
DTSTAMP:20260423T190949
CREATED:20251216T174047Z
LAST-MODIFIED:20260423T212230Z
UID:10019998-1769418000-1769421600@sjcc.org
SUMMARY:Fitness Class: Aqua Fit
DESCRIPTION:Wednesday pool hours.
URL:https://sjcc.org/event/fitness-class-aqua-fit/2026-01-26/
LOCATION:Stroum Jewish Community Center\, 3801 E Mercer Way\, Mercer Island\, WA\, United States
CATEGORIES:Adults + Seniors,Beginner,Demographics: Adults,Demographics: Seniors (55+ better),Fitness and Aquatics,Group Fitness Classes,Membership,Pool,Swimming
ORGANIZER;CN="Stroum JCC":MAILTO:info@sjcc.org
GEO:47.576754;-122.206204
X-APPLE-STRUCTURED-LOCATION;VALUE=URI;X-ADDRESS=Stroum Jewish Community Center 3801 E Mercer Way Mercer Island WA United States;X-APPLE-RADIUS=500;X-TITLE=3801 E Mercer Way:geo:-122.206204,47.576754
END:VEVENT
BEGIN:VEVENT
DTSTART;TZID=America/Los_Angeles:20260128T090000
DTEND;TZID=America/Los_Angeles:20260128T100000
DTSTAMP:20260423T190949
CREATED:20251216T174047Z
LAST-MODIFIED:20260423T212230Z
UID:10020000-1769590800-1769594400@sjcc.org
SUMMARY:Fitness Class: Aqua Fit
DESCRIPTION:Wednesday pool hours.
URL:https://sjcc.org/event/fitness-class-aqua-fit/2026-01-28/
LOCATION:Stroum Jewish Community Center\, 3801 E Mercer Way\, Mercer Island\, WA\, United States
CATEGORIES:Adults + Seniors,Beginner,Demographics: Adults,Demographics: Seniors (55+ better),Fitness and Aquatics,Group Fitness Classes,Membership,Pool,Swimming
ORGANIZER;CN="Stroum JCC":MAILTO:info@sjcc.org
GEO:47.576754;-122.206204
X-APPLE-STRUCTURED-LOCATION;VALUE=URI;X-ADDRESS=Stroum Jewish Community Center 3801 E Mercer Way Mercer Island WA United States;X-APPLE-RADIUS=500;X-TITLE=3801 E Mercer Way:geo:-122.206204,47.576754
END:VEVENT
BEGIN:VEVENT
DTSTART;TZID=America/Los_Angeles:20260130T090000
DTEND;TZID=America/Los_Angeles:20260130T100000
DTSTAMP:20260423T190949
CREATED:20251216T174047Z
LAST-MODIFIED:20260423T212230Z
UID:10020002-1769763600-1769767200@sjcc.org
SUMMARY:Fitness Class: Aqua Fit
DESCRIPTION:Wednesday pool hours.
URL:https://sjcc.org/event/fitness-class-aqua-fit/2026-01-30/
LOCATION:Stroum Jewish Community Center\, 3801 E Mercer Way\, Mercer Island\, WA\, United States
CATEGORIES:Adults + Seniors,Beginner,Demographics: Adults,Demographics: Seniors (55+ better),Fitness and Aquatics,Group Fitness Classes,Membership,Pool,Swimming
ORGANIZER;CN="Stroum JCC":MAILTO:info@sjcc.org
GEO:47.576754;-122.206204
X-APPLE-STRUCTURED-LOCATION;VALUE=URI;X-ADDRESS=Stroum Jewish Community Center 3801 E Mercer Way Mercer Island WA United States;X-APPLE-RADIUS=500;X-TITLE=3801 E Mercer Way:geo:-122.206204,47.576754
END:VEVENT
BEGIN:VEVENT
DTSTART;TZID=America/Los_Angeles:20260202T090000
DTEND;TZID=America/Los_Angeles:20260202T100000
DTSTAMP:20260423T190949
CREATED:20251216T174047Z
LAST-MODIFIED:20260423T212230Z
UID:10020003-1770022800-1770026400@sjcc.org
SUMMARY:Fitness Class: Aqua Fit
DESCRIPTION:Wednesday pool hours.
URL:https://sjcc.org/event/fitness-class-aqua-fit/2026-02-02/
LOCATION:Stroum Jewish Community Center\, 3801 E Mercer Way\, Mercer Island\, WA\, United States
CATEGORIES:Adults + Seniors,Beginner,Demographics: Adults,Demographics: Seniors (55+ better),Fitness and Aquatics,Group Fitness Classes,Membership,Pool,Swimming
ORGANIZER;CN="Stroum JCC":MAILTO:info@sjcc.org
GEO:47.576754;-122.206204
X-APPLE-STRUCTURED-LOCATION;VALUE=URI;X-ADDRESS=Stroum Jewish Community Center 3801 E Mercer Way Mercer Island WA United States;X-APPLE-RADIUS=500;X-TITLE=3801 E Mercer Way:geo:-122.206204,47.576754
END:VEVENT
BEGIN:VEVENT
DTSTART;TZID=America/Los_Angeles:20260203T090000
DTEND;TZID=America/Los_Angeles:20260203T100000
DTSTAMP:20260423T190949
CREATED:20260123T003133Z
LAST-MODIFIED:20260423T180303Z
UID:10020942-1770109200-1770112800@sjcc.org
SUMMARY:Fitness Class: Aqua Fit Strong
DESCRIPTION:Wednesday pool hours.
URL:https://sjcc.org/event/fitness-class-aqua-fit-strong/2026-02-03/
LOCATION:Stroum Jewish Community Center\, 3801 E Mercer Way\, Mercer Island\, WA\, United States
CATEGORIES:Adults + Seniors,Beginner,Demographics: Adults,Demographics: Seniors (55+ better),Fitness and Aquatics,Group Fitness Classes,Membership,Pool,Swimming
ORGANIZER;CN="Stroum JCC":MAILTO:info@sjcc.org
GEO:47.576754;-122.206204
X-APPLE-STRUCTURED-LOCATION;VALUE=URI;X-ADDRESS=Stroum Jewish Community Center 3801 E Mercer Way Mercer Island WA United States;X-APPLE-RADIUS=500;X-TITLE=3801 E Mercer Way:geo:-122.206204,47.576754
END:VEVENT
BEGIN:VEVENT
DTSTART;TZID=America/Los_Angeles:20260204T090000
DTEND;TZID=America/Los_Angeles:20260204T100000
DTSTAMP:20260423T190949
CREATED:20251216T174047Z
LAST-MODIFIED:20260423T212230Z
UID:10020005-1770195600-1770199200@sjcc.org
SUMMARY:Fitness Class: Aqua Fit
DESCRIPTION:Wednesday pool hours.
URL:https://sjcc.org/event/fitness-class-aqua-fit/2026-02-04/
LOCATION:Stroum Jewish Community Center\, 3801 E Mercer Way\, Mercer Island\, WA\, United States
CATEGORIES:Adults + Seniors,Beginner,Demographics: Adults,Demographics: Seniors (55+ better),Fitness and Aquatics,Group Fitness Classes,Membership,Pool,Swimming
ORGANIZER;CN="Stroum JCC":MAILTO:info@sjcc.org
GEO:47.576754;-122.206204
X-APPLE-STRUCTURED-LOCATION;VALUE=URI;X-ADDRESS=Stroum Jewish Community Center 3801 E Mercer Way Mercer Island WA United States;X-APPLE-RADIUS=500;X-TITLE=3801 E Mercer Way:geo:-122.206204,47.576754
END:VEVENT
BEGIN:VEVENT
DTSTART;TZID=America/Los_Angeles:20260205T090000
DTEND;TZID=America/Los_Angeles:20260205T100000
DTSTAMP:20260423T190949
CREATED:20260123T004410Z
LAST-MODIFIED:20260423T180246Z
UID:10021092-1770282000-1770285600@sjcc.org
SUMMARY:Fitness Class: Aqua Fit HIIT
DESCRIPTION:Wednesday pool hours.
URL:https://sjcc.org/event/fitness-class-aqua-fit-hiit/2026-02-05/
LOCATION:Stroum Jewish Community Center\, 3801 E Mercer Way\, Mercer Island\, WA\, United States
CATEGORIES:Adults + Seniors,Beginner,Demographics: Adults,Demographics: Seniors (55+ better),Fitness and Aquatics,Group Fitness Classes,Membership,Pool,Swimming
ORGANIZER;CN="Stroum JCC":MAILTO:info@sjcc.org
GEO:47.576754;-122.206204
X-APPLE-STRUCTURED-LOCATION;VALUE=URI;X-ADDRESS=Stroum Jewish Community Center 3801 E Mercer Way Mercer Island WA United States;X-APPLE-RADIUS=500;X-TITLE=3801 E Mercer Way:geo:-122.206204,47.576754
END:VEVENT
BEGIN:VEVENT
DTSTART;TZID=America/Los_Angeles:20260206T090000
DTEND;TZID=America/Los_Angeles:20260206T100000
DTSTAMP:20260423T190949
CREATED:20251216T174047Z
LAST-MODIFIED:20260423T212230Z
UID:10020007-1770368400-1770372000@sjcc.org
SUMMARY:Fitness Class: Aqua Fit
DESCRIPTION:Wednesday pool hours.
URL:https://sjcc.org/event/fitness-class-aqua-fit/2026-02-06/
LOCATION:Stroum Jewish Community Center\, 3801 E Mercer Way\, Mercer Island\, WA\, United States
CATEGORIES:Adults + Seniors,Beginner,Demographics: Adults,Demographics: Seniors (55+ better),Fitness and Aquatics,Group Fitness Classes,Membership,Pool,Swimming
ORGANIZER;CN="Stroum JCC":MAILTO:info@sjcc.org
GEO:47.576754;-122.206204
X-APPLE-STRUCTURED-LOCATION;VALUE=URI;X-ADDRESS=Stroum Jewish Community Center 3801 E Mercer Way Mercer Island WA United States;X-APPLE-RADIUS=500;X-TITLE=3801 E Mercer Way:geo:-122.206204,47.576754
END:VEVENT
BEGIN:VEVENT
DTSTART;TZID=America/Los_Angeles:20260209T090000
DTEND;TZID=America/Los_Angeles:20260209T100000
DTSTAMP:20260423T190949
CREATED:20251216T174047Z
LAST-MODIFIED:20260423T212230Z
UID:10020008-1770627600-1770631200@sjcc.org
SUMMARY:Fitness Class: Aqua Fit
DESCRIPTION:Wednesday pool hours.
URL:https://sjcc.org/event/fitness-class-aqua-fit/2026-02-09/
LOCATION:Stroum Jewish Community Center\, 3801 E Mercer Way\, Mercer Island\, WA\, United States
CATEGORIES:Adults + Seniors,Beginner,Demographics: Adults,Demographics: Seniors (55+ better),Fitness and Aquatics,Group Fitness Classes,Membership,Pool,Swimming
ORGANIZER;CN="Stroum JCC":MAILTO:info@sjcc.org
GEO:47.576754;-122.206204
X-APPLE-STRUCTURED-LOCATION;VALUE=URI;X-ADDRESS=Stroum Jewish Community Center 3801 E Mercer Way Mercer Island WA United States;X-APPLE-RADIUS=500;X-TITLE=3801 E Mercer Way:geo:-122.206204,47.576754
END:VEVENT
BEGIN:VEVENT
DTSTART;TZID=America/Los_Angeles:20260210T090000
DTEND;TZID=America/Los_Angeles:20260210T100000
DTSTAMP:20260423T190949
CREATED:20260123T003133Z
LAST-MODIFIED:20260423T180303Z
UID:10020947-1770714000-1770717600@sjcc.org
SUMMARY:Fitness Class: Aqua Fit Strong
DESCRIPTION:Wednesday pool hours.
URL:https://sjcc.org/event/fitness-class-aqua-fit-strong/2026-02-10/
LOCATION:Stroum Jewish Community Center\, 3801 E Mercer Way\, Mercer Island\, WA\, United States
CATEGORIES:Adults + Seniors,Beginner,Demographics: Adults,Demographics: Seniors (55+ better),Fitness and Aquatics,Group Fitness Classes,Membership,Pool,Swimming
ORGANIZER;CN="Stroum JCC":MAILTO:info@sjcc.org
GEO:47.576754;-122.206204
X-APPLE-STRUCTURED-LOCATION;VALUE=URI;X-ADDRESS=Stroum Jewish Community Center 3801 E Mercer Way Mercer Island WA United States;X-APPLE-RADIUS=500;X-TITLE=3801 E Mercer Way:geo:-122.206204,47.576754
END:VEVENT
END:VCALENDAR