BEGIN:VCALENDAR
VERSION:2.0
PRODID:-//Stroum Jewish Community Center of Greater Seattle - ECPv6.15.20//NONSGML v1.0//EN
CALSCALE:GREGORIAN
METHOD:PUBLISH
X-WR-CALNAME:Stroum Jewish Community Center of Greater Seattle
X-ORIGINAL-URL:https://sjcc.org
X-WR-CALDESC:Events for Stroum Jewish Community Center of Greater Seattle
REFRESH-INTERVAL;VALUE=DURATION:PT1H
X-Robots-Tag:noindex
X-PUBLISHED-TTL:PT1H
BEGIN:VTIMEZONE
TZID:America/Los_Angeles
BEGIN:DAYLIGHT
TZOFFSETFROM:-0800
TZOFFSETTO:-0700
TZNAME:PDT
DTSTART:20250309T100000
END:DAYLIGHT
BEGIN:STANDARD
TZOFFSETFROM:-0700
TZOFFSETTO:-0800
TZNAME:PST
DTSTART:20251102T090000
END:STANDARD
BEGIN:DAYLIGHT
TZOFFSETFROM:-0800
TZOFFSETTO:-0700
TZNAME:PDT
DTSTART:20260308T100000
END:DAYLIGHT
BEGIN:STANDARD
TZOFFSETFROM:-0700
TZOFFSETTO:-0800
TZNAME:PST
DTSTART:20261101T090000
END:STANDARD
BEGIN:DAYLIGHT
TZOFFSETFROM:-0800
TZOFFSETTO:-0700
TZNAME:PDT
DTSTART:20270314T100000
END:DAYLIGHT
BEGIN:STANDARD
TZOFFSETFROM:-0700
TZOFFSETTO:-0800
TZNAME:PST
DTSTART:20271107T090000
END:STANDARD
END:VTIMEZONE
BEGIN:VEVENT
DTSTART;TZID=America/Los_Angeles:20260319T183000
DTEND;TZID=America/Los_Angeles:20260319T203000
DTSTAMP:20260420T033821
CREATED:20260226T004109Z
LAST-MODIFIED:20260310T190443Z
UID:10022122-1773945000-1773952200@sjcc.org
SUMMARY:Thursday Pick-Up Basketball
DESCRIPTION:Saturday pool hours.
URL:https://sjcc.org/event/thursday-pick-up-basketball-hours-2/2026-03-19/
LOCATION:Stroum Jewish Community Center\, 3801 E Mercer Way\, Mercer Island\, WA\, United States
CATEGORIES:Facilities,Fitness and Aquatics,Gym
ORGANIZER;CN="Stroum JCC":MAILTO:info@sjcc.org
GEO:47.576754;-122.206204
X-APPLE-STRUCTURED-LOCATION;VALUE=URI;X-ADDRESS=Stroum Jewish Community Center 3801 E Mercer Way Mercer Island WA United States;X-APPLE-RADIUS=500;X-TITLE=3801 E Mercer Way:geo:-122.206204,47.576754
END:VEVENT
BEGIN:VEVENT
DTSTART;TZID=America/Los_Angeles:20260319T190000
DTEND;TZID=America/Los_Angeles:20260319T210000
DTSTAMP:20260420T033821
CREATED:20260226T001714Z
LAST-MODIFIED:20260226T001714Z
UID:10022040-1773946800-1773954000@sjcc.org
SUMMARY:Thursday Open Gym
DESCRIPTION:Saturday pool hours.
URL:https://sjcc.org/event/thursday-open-gym/2026-03-19/
LOCATION:Stroum Jewish Community Center\, 3801 E Mercer Way\, Mercer Island\, WA\, United States
CATEGORIES:Fitness and Aquatics,Gym
ORGANIZER;CN="Stroum JCC":MAILTO:info@sjcc.org
GEO:47.576754;-122.206204
X-APPLE-STRUCTURED-LOCATION;VALUE=URI;X-ADDRESS=Stroum Jewish Community Center 3801 E Mercer Way Mercer Island WA United States;X-APPLE-RADIUS=500;X-TITLE=3801 E Mercer Way:geo:-122.206204,47.576754
END:VEVENT
BEGIN:VEVENT
DTSTART;TZID=America/Los_Angeles:20260320T060000
DTEND;TZID=America/Los_Angeles:20260320T184500
DTSTAMP:20260420T033821
CREATED:20260226T001010Z
LAST-MODIFIED:20260226T001010Z
UID:10022030-1773986400-1774032300@sjcc.org
SUMMARY:Friday Pool Hours
DESCRIPTION:Saturday pool hours.
URL:https://sjcc.org/event/friday-pool-hours/2026-03-20/
LOCATION:Stroum Jewish Community Center\, 3801 E Mercer Way\, Mercer Island\, WA\, United States
CATEGORIES:Fitness and Aquatics,Pool,Swimming
ORGANIZER;CN="Stroum JCC":MAILTO:info@sjcc.org
GEO:47.576754;-122.206204
X-APPLE-STRUCTURED-LOCATION;VALUE=URI;X-ADDRESS=Stroum Jewish Community Center 3801 E Mercer Way Mercer Island WA United States;X-APPLE-RADIUS=500;X-TITLE=3801 E Mercer Way:geo:-122.206204,47.576754
END:VEVENT
BEGIN:VEVENT
DTSTART;TZID=America/Los_Angeles:20260320T071500
DTEND;TZID=America/Los_Angeles:20260320T081500
DTSTAMP:20260420T033821
CREATED:20251216T173143Z
LAST-MODIFIED:20251216T175231Z
UID:10020688-1773990900-1773994500@sjcc.org
SUMMARY:Fitness Class: Ageless Strength Training
DESCRIPTION:Saturday pool hours.
URL:https://sjcc.org/event/fitness-class-ageless-strength-training/2026-03-20/
LOCATION:Stroum Jewish Community Center\, 3801 E Mercer Way\, Mercer Island\, WA\, United States
CATEGORIES:Demographics: Adults,Demographics: Seniors (55+ better),Exercise Studio,Fitness and Aquatics,Group Fitness Classes,Intermediate,Membership
ORGANIZER;CN="Stroum JCC":MAILTO:info@sjcc.org
GEO:47.576754;-122.206204
X-APPLE-STRUCTURED-LOCATION;VALUE=URI;X-ADDRESS=Stroum Jewish Community Center 3801 E Mercer Way Mercer Island WA United States;X-APPLE-RADIUS=500;X-TITLE=3801 E Mercer Way:geo:-122.206204,47.576754
END:VEVENT
BEGIN:VEVENT
DTSTART;TZID=America/Los_Angeles:20260320T083000
DTEND;TZID=America/Los_Angeles:20260320T093000
DTSTAMP:20260420T033821
CREATED:20251216T173603Z
LAST-MODIFIED:20251216T175101Z
UID:10020603-1773995400-1773999000@sjcc.org
SUMMARY:Fitness Class: Intermediate Slow Flow Yoga
DESCRIPTION:Saturday pool hours.
URL:https://sjcc.org/event/fitness-class-intermediate-slow-flow-yoga-2/2026-03-20/
LOCATION:Stroum Jewish Community Center\, 3801 E Mercer Way\, Mercer Island\, WA\, United States
CATEGORIES:Demographics: Adults,Demographics: Seniors (55+ better),Demographics: Young Adults,Exercise Studio,Fitness and Aquatics,Group Fitness Classes,Intermediate,Membership,Virtual SJCC
ORGANIZER;CN="Stroum JCC":MAILTO:info@sjcc.org
GEO:47.576754;-122.206204
X-APPLE-STRUCTURED-LOCATION;VALUE=URI;X-ADDRESS=Stroum Jewish Community Center 3801 E Mercer Way Mercer Island WA United States;X-APPLE-RADIUS=500;X-TITLE=3801 E Mercer Way:geo:-122.206204,47.576754
END:VEVENT
BEGIN:VEVENT
DTSTART;TZID=America/Los_Angeles:20260320T090000
DTEND;TZID=America/Los_Angeles:20260320T100000
DTSTAMP:20260420T033821
CREATED:20251216T174047Z
LAST-MODIFIED:20260123T002544Z
UID:10020037-1773997200-1774000800@sjcc.org
SUMMARY:Fitness Class: Aqua Fit
DESCRIPTION:Saturday pool hours.
URL:https://sjcc.org/event/fitness-class-aqua-fit/2026-03-20/
LOCATION:Stroum Jewish Community Center\, 3801 E Mercer Way\, Mercer Island\, WA\, United States
CATEGORIES:Adults + Seniors,Beginner,Demographics: Adults,Demographics: Seniors (55+ better),Fitness and Aquatics,Group Fitness Classes,Membership,Pool,Swimming
ORGANIZER;CN="Stroum JCC":MAILTO:info@sjcc.org
GEO:47.576754;-122.206204
X-APPLE-STRUCTURED-LOCATION;VALUE=URI;X-ADDRESS=Stroum Jewish Community Center 3801 E Mercer Way Mercer Island WA United States;X-APPLE-RADIUS=500;X-TITLE=3801 E Mercer Way:geo:-122.206204,47.576754
END:VEVENT
BEGIN:VEVENT
DTSTART;TZID=America/Los_Angeles:20260320T103000
DTEND;TZID=America/Los_Angeles:20260320T113000
DTSTAMP:20260420T033821
CREATED:20251216T173847Z
LAST-MODIFIED:20260309T160415Z
UID:10020515-1774002600-1774006200@sjcc.org
SUMMARY:Fitness Class: Tai Chi
DESCRIPTION:Saturday pool hours.
URL:https://sjcc.org/event/fitness-class-tai-chi-2/2026-03-20/
LOCATION:Stroum Jewish Community Center\, 3801 E Mercer Way\, Mercer Island\, WA\, United States
CATEGORIES:Adults + Seniors,Demographics: Adults,Demographics: Seniors (55+ better),Demographics: Young Adults,Exercise Studio,Fitness and Aquatics,Group Fitness Classes,Intermediate,Membership
ORGANIZER;CN="Stroum JCC":MAILTO:info@sjcc.org
GEO:47.576754;-122.206204
X-APPLE-STRUCTURED-LOCATION;VALUE=URI;X-ADDRESS=Stroum Jewish Community Center 3801 E Mercer Way Mercer Island WA United States;X-APPLE-RADIUS=500;X-TITLE=3801 E Mercer Way:geo:-122.206204,47.576754
END:VEVENT
BEGIN:VEVENT
DTSTART;TZID=America/Los_Angeles:20260320T110000
DTEND;TZID=America/Los_Angeles:20260320T115500
DTSTAMP:20260420T033821
CREATED:20260123T192110Z
LAST-MODIFIED:20260123T192110Z
UID:10021153-1774004400-1774007700@sjcc.org
SUMMARY:Fitness Workshop: Water Walk
DESCRIPTION:Saturday pool hours.
URL:https://sjcc.org/event/fitness-workshop-water-walk/2026-03-20/
LOCATION:Stroum Jewish Community Center\, 3801 E Mercer Way\, Mercer Island\, WA\, United States
CATEGORIES:Clinics + Workshops,Demographics,Demographics: Adults,Demographics: Young Adults,Fitness and Aquatics,Membership
ORGANIZER;CN="Stroum JCC":MAILTO:info@sjcc.org
GEO:47.576754;-122.206204
X-APPLE-STRUCTURED-LOCATION;VALUE=URI;X-ADDRESS=Stroum Jewish Community Center 3801 E Mercer Way Mercer Island WA United States;X-APPLE-RADIUS=500;X-TITLE=3801 E Mercer Way:geo:-122.206204,47.576754
END:VEVENT
BEGIN:VEVENT
DTSTART;TZID=America/Los_Angeles:20260320T110000
DTEND;TZID=America/Los_Angeles:20260320T120000
DTSTAMP:20260420T033821
CREATED:20260209T173452Z
LAST-MODIFIED:20260209T173819Z
UID:10021233-1774004400-1774008000@sjcc.org
SUMMARY:Fitness Class: Rock Steady Boxing Level 1/2
DESCRIPTION:Saturday pool hours.
URL:https://sjcc.org/event/fitness-class-rock-steady-boxing-level-1-2/2026-03-20/
LOCATION:Stroum Jewish Community Center\, 3801 E Mercer Way\, Mercer Island\, WA\, United States
CATEGORIES:Beginner,Demographics: Adults,Demographics: Seniors (55+ better),Demographics: Young Adults,Exercise Studio,Fitness and Aquatics,Group Fitness Classes
ORGANIZER;CN="Stroum JCC":MAILTO:info@sjcc.org
GEO:47.576754;-122.206204
X-APPLE-STRUCTURED-LOCATION;VALUE=URI;X-ADDRESS=Stroum Jewish Community Center 3801 E Mercer Way Mercer Island WA United States;X-APPLE-RADIUS=500;X-TITLE=3801 E Mercer Way:geo:-122.206204,47.576754
END:VEVENT
BEGIN:VEVENT
DTSTART;TZID=America/Los_Angeles:20260320T120000
DTEND;TZID=America/Los_Angeles:20260320T133000
DTSTAMP:20260420T033821
CREATED:20260226T003357Z
LAST-MODIFIED:20260310T190512Z
UID:10022092-1774008000-1774013400@sjcc.org
SUMMARY:Friday Pick-Up Basketball
DESCRIPTION:Saturday pool hours.
URL:https://sjcc.org/event/friday-pick-up-basketball-hours/2026-03-20/
LOCATION:Stroum Jewish Community Center\, 3801 E Mercer Way\, Mercer Island\, WA\, United States
CATEGORIES:Facilities,Fitness and Aquatics,Gym
ORGANIZER;CN="Stroum JCC":MAILTO:info@sjcc.org
GEO:47.576754;-122.206204
X-APPLE-STRUCTURED-LOCATION;VALUE=URI;X-ADDRESS=Stroum Jewish Community Center 3801 E Mercer Way Mercer Island WA United States;X-APPLE-RADIUS=500;X-TITLE=3801 E Mercer Way:geo:-122.206204,47.576754
END:VEVENT
BEGIN:VEVENT
DTSTART;TZID=America/Los_Angeles:20260320T121500
DTEND;TZID=America/Los_Angeles:20260320T131500
DTSTAMP:20260420T033821
CREATED:20260209T173739Z
LAST-MODIFIED:20260209T173739Z
UID:10021330-1774008900-1774012500@sjcc.org
SUMMARY:Fitness Class: Rock Steady Boxing Level 3/4
DESCRIPTION:Saturday pool hours.
URL:https://sjcc.org/event/fitness-class-rock-steady-boxing-level-3-4/2026-03-20/
LOCATION:Stroum Jewish Community Center\, 3801 E Mercer Way\, Mercer Island\, WA\, United States
CATEGORIES:Beginner,Demographics: Adults,Demographics: Seniors (55+ better),Demographics: Young Adults,Exercise Studio,Fitness and Aquatics,Group Fitness Classes
ORGANIZER;CN="Stroum JCC":MAILTO:info@sjcc.org
GEO:47.576754;-122.206204
X-APPLE-STRUCTURED-LOCATION;VALUE=URI;X-ADDRESS=Stroum Jewish Community Center 3801 E Mercer Way Mercer Island WA United States;X-APPLE-RADIUS=500;X-TITLE=3801 E Mercer Way:geo:-122.206204,47.576754
END:VEVENT
BEGIN:VEVENT
DTSTART;TZID=America/Los_Angeles:20260320T170000
DTEND;TZID=America/Los_Angeles:20260320T190000
DTSTAMP:20260420T033821
CREATED:20260226T004143Z
LAST-MODIFIED:20260310T190433Z
UID:10022130-1774026000-1774033200@sjcc.org
SUMMARY:Friday Pick-Up Basketball
DESCRIPTION:Saturday pool hours.
URL:https://sjcc.org/event/friday-pick-up-basketball-hours-2/2026-03-20/
LOCATION:Stroum Jewish Community Center\, 3801 E Mercer Way\, Mercer Island\, WA\, United States
CATEGORIES:Facilities,Fitness and Aquatics,Gym
ORGANIZER;CN="Stroum JCC":MAILTO:info@sjcc.org
GEO:47.576754;-122.206204
X-APPLE-STRUCTURED-LOCATION;VALUE=URI;X-ADDRESS=Stroum Jewish Community Center 3801 E Mercer Way Mercer Island WA United States;X-APPLE-RADIUS=500;X-TITLE=3801 E Mercer Way:geo:-122.206204,47.576754
END:VEVENT
BEGIN:VEVENT
DTSTART;TZID=America/Los_Angeles:20260321T080000
DTEND;TZID=America/Los_Angeles:20260321T164500
DTSTAMP:20260420T033821
CREATED:20260225T220033Z
LAST-MODIFIED:20260225T235926Z
UID:10021695-1774080000-1774111500@sjcc.org
SUMMARY:Saturday Pool Hours
DESCRIPTION:Saturday pool hours.
URL:https://sjcc.org/event/saturday-pool-hours/2026-03-21/
LOCATION:Stroum Jewish Community Center\, 3801 E Mercer Way\, Mercer Island\, WA\, United States
CATEGORIES:Fitness and Aquatics,Pool,Swimming
ORGANIZER;CN="Stroum JCC":MAILTO:info@sjcc.org
GEO:47.576754;-122.206204
X-APPLE-STRUCTURED-LOCATION;VALUE=URI;X-ADDRESS=Stroum Jewish Community Center 3801 E Mercer Way Mercer Island WA United States;X-APPLE-RADIUS=500;X-TITLE=3801 E Mercer Way:geo:-122.206204,47.576754
END:VEVENT
BEGIN:VEVENT
DTSTART;TZID=America/Los_Angeles:20260321T081500
DTEND;TZID=America/Los_Angeles:20260321T091500
DTSTAMP:20260420T033821
CREATED:20251216T172707Z
LAST-MODIFIED:20251216T175419Z
UID:10020752-1774080900-1774084500@sjcc.org
SUMMARY:Fitness Class: H.I.I.T.
DESCRIPTION:Saturday pool hours.
URL:https://sjcc.org/event/fitness-class-h-i-i-t-3/2026-03-21/
LOCATION:Stroum Jewish Community Center\, 3801 E Mercer Way\, Mercer Island\, WA\, United States
CATEGORIES:Demographics: Adults,Demographics: Seniors (55+ better),Demographics: Young Adults,Exercise Studio,Fitness and Aquatics,Group Fitness Classes,Intermediate,Membership
ORGANIZER;CN="Stroum JCC":MAILTO:info@sjcc.org
GEO:47.576754;-122.206204
X-APPLE-STRUCTURED-LOCATION;VALUE=URI;X-ADDRESS=Stroum Jewish Community Center 3801 E Mercer Way Mercer Island WA United States;X-APPLE-RADIUS=500;X-TITLE=3801 E Mercer Way:geo:-122.206204,47.576754
END:VEVENT
BEGIN:VEVENT
DTSTART;TZID=America/Los_Angeles:20260321T090000
DTEND;TZID=America/Los_Angeles:20260321T120000
DTSTAMP:20260420T033821
CREATED:20260226T003456Z
LAST-MODIFIED:20260310T190502Z
UID:10022100-1774083600-1774094400@sjcc.org
SUMMARY:Saturday Pick-Up Basketball
DESCRIPTION:Saturday pool hours.
URL:https://sjcc.org/event/saturday-pick-up-basketball-hours/2026-03-21/
LOCATION:Stroum Jewish Community Center\, 3801 E Mercer Way\, Mercer Island\, WA\, United States
CATEGORIES:Facilities,Fitness and Aquatics,Gym
ORGANIZER;CN="Stroum JCC":MAILTO:info@sjcc.org
GEO:47.576754;-122.206204
X-APPLE-STRUCTURED-LOCATION;VALUE=URI;X-ADDRESS=Stroum Jewish Community Center 3801 E Mercer Way Mercer Island WA United States;X-APPLE-RADIUS=500;X-TITLE=3801 E Mercer Way:geo:-122.206204,47.576754
END:VEVENT
BEGIN:VEVENT
DTSTART;TZID=America/Los_Angeles:20260321T093000
DTEND;TZID=America/Los_Angeles:20260321T103000
DTSTAMP:20260420T033821
CREATED:20251216T173918Z
LAST-MODIFIED:20251216T174911Z
UID:10020493-1774085400-1774089000@sjcc.org
SUMMARY:Fitness Class: H.I.I.T.
DESCRIPTION:Saturday pool hours.
URL:https://sjcc.org/event/fitness-class-h-i-i-t-4/2026-03-21/
LOCATION:Stroum Jewish Community Center\, 3801 E Mercer Way\, Mercer Island\, WA\, United States
CATEGORIES:Demographics: Adults,Demographics: Seniors (55+ better),Demographics: Young Adults,Exercise Studio,Fitness and Aquatics,Group Fitness Classes,Intermediate,Membership
ORGANIZER;CN="Stroum JCC":MAILTO:info@sjcc.org
GEO:47.576754;-122.206204
X-APPLE-STRUCTURED-LOCATION;VALUE=URI;X-ADDRESS=Stroum Jewish Community Center 3801 E Mercer Way Mercer Island WA United States;X-APPLE-RADIUS=500;X-TITLE=3801 E Mercer Way:geo:-122.206204,47.576754
END:VEVENT
BEGIN:VEVENT
DTSTART;TZID=America/Los_Angeles:20260321T120000
DTEND;TZID=America/Los_Angeles:20260321T140000
DTSTAMP:20260420T033821
CREATED:20260310T184821Z
LAST-MODIFIED:20260310T184822Z
UID:10022206-1774094400-1774101600@sjcc.org
SUMMARY:Saturday Pickleball Hours
DESCRIPTION:Saturday pool hours.
URL:https://sjcc.org/event/tuesday-pickleball-hours-2/2026-03-21/
LOCATION:Stroum Jewish Community Center\, 3801 E Mercer Way\, Mercer Island\, WA\, United States
CATEGORIES:Fitness and Aquatics,Gym,Pickleball
ORGANIZER;CN="Stroum JCC":MAILTO:info@sjcc.org
GEO:47.576754;-122.206204
X-APPLE-STRUCTURED-LOCATION;VALUE=URI;X-ADDRESS=Stroum Jewish Community Center 3801 E Mercer Way Mercer Island WA United States;X-APPLE-RADIUS=500;X-TITLE=3801 E Mercer Way:geo:-122.206204,47.576754
END:VEVENT
BEGIN:VEVENT
DTSTART;TZID=America/Los_Angeles:20260321T140000
DTEND;TZID=America/Los_Angeles:20260321T170000
DTSTAMP:20260420T033821
CREATED:20260226T001926Z
LAST-MODIFIED:20260226T001926Z
UID:10022048-1774101600-1774112400@sjcc.org
SUMMARY:Saturday Open Gym
DESCRIPTION:Saturday pool hours.
URL:https://sjcc.org/event/saturday-open-gym/2026-03-21/
LOCATION:Stroum Jewish Community Center\, 3801 E Mercer Way\, Mercer Island\, WA\, United States
CATEGORIES:Fitness and Aquatics,Gym
ORGANIZER;CN="Stroum JCC":MAILTO:info@sjcc.org
GEO:47.576754;-122.206204
X-APPLE-STRUCTURED-LOCATION;VALUE=URI;X-ADDRESS=Stroum Jewish Community Center 3801 E Mercer Way Mercer Island WA United States;X-APPLE-RADIUS=500;X-TITLE=3801 E Mercer Way:geo:-122.206204,47.576754
END:VEVENT
BEGIN:VEVENT
DTSTART;TZID=America/Los_Angeles:20260322T080000
DTEND;TZID=America/Los_Angeles:20260322T100000
DTSTAMP:20260420T033821
CREATED:20260226T003741Z
LAST-MODIFIED:20260310T190453Z
UID:10022200-1774166400-1774173600@sjcc.org
SUMMARY:Sunday Pick-Up Basketball
DESCRIPTION:Saturday pool hours.
URL:https://sjcc.org/event/sunday-pick-up-basketball-hours/2026-03-22/
LOCATION:Stroum Jewish Community Center\, 3801 E Mercer Way\, Mercer Island\, WA\, United States
CATEGORIES:Facilities,Fitness and Aquatics,Gym
ORGANIZER;CN="Stroum JCC":MAILTO:info@sjcc.org
GEO:47.576754;-122.206204
X-APPLE-STRUCTURED-LOCATION;VALUE=URI;X-ADDRESS=Stroum Jewish Community Center 3801 E Mercer Way Mercer Island WA United States;X-APPLE-RADIUS=500;X-TITLE=3801 E Mercer Way:geo:-122.206204,47.576754
END:VEVENT
BEGIN:VEVENT
DTSTART;TZID=America/Los_Angeles:20260322T080000
DTEND;TZID=America/Los_Angeles:20260322T164500
DTSTAMP:20260420T033821
CREATED:20260225T215744Z
LAST-MODIFIED:20260225T235833Z
UID:10021579-1774166400-1774197900@sjcc.org
SUMMARY:Sunday Pool Hours
DESCRIPTION:Saturday pool hours.
URL:https://sjcc.org/event/sunday-pool-hours/2026-03-22/
LOCATION:Stroum Jewish Community Center\, 3801 E Mercer Way\, Mercer Island\, WA\, United States
CATEGORIES:Fitness and Aquatics,Pool,Swimming
ORGANIZER;CN="Stroum JCC":MAILTO:info@sjcc.org
GEO:47.576754;-122.206204
X-APPLE-STRUCTURED-LOCATION;VALUE=URI;X-ADDRESS=Stroum Jewish Community Center 3801 E Mercer Way Mercer Island WA United States;X-APPLE-RADIUS=500;X-TITLE=3801 E Mercer Way:geo:-122.206204,47.576754
END:VEVENT
BEGIN:VEVENT
DTSTART;TZID=America/Los_Angeles:20260322T081500
DTEND;TZID=America/Los_Angeles:20260322T091500
DTSTAMP:20260420T033821
CREATED:20251216T173745Z
LAST-MODIFIED:20260213T193311Z
UID:10020559-1774167300-1774170900@sjcc.org
SUMMARY:Fitness Class: Advanced H.I.R.T - Sunday
DESCRIPTION:Saturday pool hours.
URL:https://sjcc.org/event/fitness-class-advanced-h-i-r-t-sunday-2/2026-03-22/
LOCATION:Stroum Jewish Community Center\, 3801 E Mercer Way\, Mercer Island\, WA\, United States
CATEGORIES:Advanced,Demographics: Adults,Demographics: Seniors (55+ better),Demographics: Young Adults,Exercise Studio,Fitness and Aquatics,Group Fitness Classes,Membership
ORGANIZER;CN="Stroum JCC":MAILTO:info@sjcc.org
GEO:47.576754;-122.206204
X-APPLE-STRUCTURED-LOCATION;VALUE=URI;X-ADDRESS=Stroum Jewish Community Center 3801 E Mercer Way Mercer Island WA United States;X-APPLE-RADIUS=500;X-TITLE=3801 E Mercer Way:geo:-122.206204,47.576754
END:VEVENT
BEGIN:VEVENT
DTSTART;TZID=America/Los_Angeles:20260322T091500
DTEND;TZID=America/Los_Angeles:20260322T101500
DTSTAMP:20260420T033821
CREATED:20251216T174120Z
LAST-MODIFIED:20260213T193255Z
UID:10020471-1774170900-1774174500@sjcc.org
SUMMARY:Fitness Class: Restorative Stretch - Sunday
DESCRIPTION:Saturday pool hours.
URL:https://sjcc.org/event/fitness-class-restorative-stretch-sunday/2026-03-22/
LOCATION:Stroum Jewish Community Center\, 3801 E Mercer Way\, Mercer Island\, WA\, United States
CATEGORIES:Demographics: Adults,Demographics: Seniors (55+ better),Demographics: Young Adults,Exercise Studio,Fitness and Aquatics,Group Fitness Classes,Intermediate,Membership
ORGANIZER;CN="Stroum JCC":MAILTO:info@sjcc.org
GEO:47.576754;-122.206204
X-APPLE-STRUCTURED-LOCATION;VALUE=URI;X-ADDRESS=Stroum Jewish Community Center 3801 E Mercer Way Mercer Island WA United States;X-APPLE-RADIUS=500;X-TITLE=3801 E Mercer Way:geo:-122.206204,47.576754
END:VEVENT
BEGIN:VEVENT
DTSTART;TZID=America/Los_Angeles:20260322T092500
DTEND;TZID=America/Los_Angeles:20260322T102500
DTSTAMP:20260420T033821
CREATED:20251216T173814Z
LAST-MODIFIED:20260213T193232Z
UID:10020537-1774171500-1774175100@sjcc.org
SUMMARY:Fitness Class: H.I.R.T. - Sunday
DESCRIPTION:Saturday pool hours.
URL:https://sjcc.org/event/fitness-class-h-i-r-t-sunday-2/2026-03-22/
LOCATION:Stroum Jewish Community Center\, 3801 E Mercer Way\, Mercer Island\, WA\, United States
CATEGORIES:Demographics: Adults,Demographics: Seniors (55+ better),Demographics: Young Adults,Exercise Studio,Fitness and Aquatics,Group Fitness Classes,Intermediate,Membership
ORGANIZER;CN="Stroum JCC":MAILTO:info@sjcc.org
GEO:47.576754;-122.206204
X-APPLE-STRUCTURED-LOCATION;VALUE=URI;X-ADDRESS=Stroum Jewish Community Center 3801 E Mercer Way Mercer Island WA United States;X-APPLE-RADIUS=500;X-TITLE=3801 E Mercer Way:geo:-122.206204,47.576754
END:VEVENT
BEGIN:VEVENT
DTSTART;TZID=America/Los_Angeles:20260322T100000
DTEND;TZID=America/Los_Angeles:20260322T120000
DTSTAMP:20260420T033821
CREATED:20260310T184749Z
LAST-MODIFIED:20260310T184750Z
UID:10022203-1774173600-1774180800@sjcc.org
SUMMARY:Sunday Pickleball Hours
DESCRIPTION:Saturday pool hours.
URL:https://sjcc.org/event/wednesday-pickleball-hours-2/2026-03-22/
LOCATION:Stroum Jewish Community Center\, 3801 E Mercer Way\, Mercer Island\, WA\, United States
CATEGORIES:Fitness and Aquatics,Gym,Pickleball
ORGANIZER;CN="Stroum JCC":MAILTO:info@sjcc.org
GEO:47.576754;-122.206204
X-APPLE-STRUCTURED-LOCATION;VALUE=URI;X-ADDRESS=Stroum Jewish Community Center 3801 E Mercer Way Mercer Island WA United States;X-APPLE-RADIUS=500;X-TITLE=3801 E Mercer Way:geo:-122.206204,47.576754
END:VEVENT
BEGIN:VEVENT
DTSTART;TZID=America/Los_Angeles:20260322T103000
DTEND;TZID=America/Los_Angeles:20260322T113000
DTSTAMP:20260420T033821
CREATED:20251216T173718Z
LAST-MODIFIED:20260213T192741Z
UID:10020581-1774175400-1774179000@sjcc.org
SUMMARY:Fitness Class: Step Class - Sunday
DESCRIPTION:Saturday pool hours.
URL:https://sjcc.org/event/fitness-class-step-class-sunday/2026-03-22/
LOCATION:Stroum Jewish Community Center\, 3801 E Mercer Way\, Mercer Island\, WA\, United States
CATEGORIES:Demographics: Adults,Demographics: Seniors (55+ better),Demographics: Young Adults,Exercise Studio,Fitness and Aquatics,Group Fitness Classes,Intermediate,Membership
ORGANIZER;CN="Stroum JCC":MAILTO:info@sjcc.org
GEO:47.576754;-122.206204
X-APPLE-STRUCTURED-LOCATION;VALUE=URI;X-ADDRESS=Stroum Jewish Community Center 3801 E Mercer Way Mercer Island WA United States;X-APPLE-RADIUS=500;X-TITLE=3801 E Mercer Way:geo:-122.206204,47.576754
END:VEVENT
BEGIN:VEVENT
DTSTART;TZID=America/Los_Angeles:20260322T143000
DTEND;TZID=America/Los_Angeles:20260322T160000
DTSTAMP:20260420T033821
CREATED:20260226T002135Z
LAST-MODIFIED:20260226T002135Z
UID:10022056-1774189800-1774195200@sjcc.org
SUMMARY:Sunday Open Gym
DESCRIPTION:Saturday pool hours.
URL:https://sjcc.org/event/sunday-open-gym/2026-03-22/
LOCATION:Stroum Jewish Community Center\, 3801 E Mercer Way\, Mercer Island\, WA\, United States
CATEGORIES:Fitness and Aquatics,Gym
ORGANIZER;CN="Stroum JCC":MAILTO:info@sjcc.org
GEO:47.576754;-122.206204
X-APPLE-STRUCTURED-LOCATION;VALUE=URI;X-ADDRESS=Stroum Jewish Community Center 3801 E Mercer Way Mercer Island WA United States;X-APPLE-RADIUS=500;X-TITLE=3801 E Mercer Way:geo:-122.206204,47.576754
END:VEVENT
BEGIN:VEVENT
DTSTART;TZID=America/Los_Angeles:20260323T060000
DTEND;TZID=America/Los_Angeles:20260323T204500
DTSTAMP:20260420T033821
CREATED:20260225T235746Z
LAST-MODIFIED:20260225T235746Z
UID:10021983-1774245600-1774298700@sjcc.org
SUMMARY:Monday Pool Hours
DESCRIPTION:Saturday pool hours.
URL:https://sjcc.org/event/monday-pool-hours/2026-03-23/
LOCATION:Stroum Jewish Community Center\, 3801 E Mercer Way\, Mercer Island\, WA\, United States
CATEGORIES:Fitness and Aquatics,Pool,Swimming
ORGANIZER;CN="Stroum JCC":MAILTO:info@sjcc.org
GEO:47.576754;-122.206204
X-APPLE-STRUCTURED-LOCATION;VALUE=URI;X-ADDRESS=Stroum Jewish Community Center 3801 E Mercer Way Mercer Island WA United States;X-APPLE-RADIUS=500;X-TITLE=3801 E Mercer Way:geo:-122.206204,47.576754
END:VEVENT
BEGIN:VEVENT
DTSTART;TZID=America/Los_Angeles:20260323T083000
DTEND;TZID=America/Los_Angeles:20260323T093000
DTSTAMP:20260420T033821
CREATED:20251216T173216Z
LAST-MODIFIED:20260112T204731Z
UID:10020667-1774254600-1774258200@sjcc.org
SUMMARY:Fitness Class: Pilates
DESCRIPTION:Saturday pool hours.
URL:https://sjcc.org/event/fitness-class-pilates-2/2026-03-23/
LOCATION:Stroum Jewish Community Center\, 3801 E Mercer Way\, Mercer Island\, WA\, United States
CATEGORIES:Demographics: Adults,Demographics: Seniors (55+ better),Demographics: Young Adults,Exercise Studio,Fitness and Aquatics,Group Fitness Classes,Intermediate
ORGANIZER;CN="Stroum JCC":MAILTO:info@sjcc.org
GEO:47.576754;-122.206204
X-APPLE-STRUCTURED-LOCATION;VALUE=URI;X-ADDRESS=Stroum Jewish Community Center 3801 E Mercer Way Mercer Island WA United States;X-APPLE-RADIUS=500;X-TITLE=3801 E Mercer Way:geo:-122.206204,47.576754
END:VEVENT
BEGIN:VEVENT
DTSTART;TZID=America/Los_Angeles:20260323T090000
DTEND;TZID=America/Los_Angeles:20260323T100000
DTSTAMP:20260420T033821
CREATED:20251216T174047Z
LAST-MODIFIED:20260123T002544Z
UID:10020038-1774256400-1774260000@sjcc.org
SUMMARY:Fitness Class: Aqua Fit
DESCRIPTION:Saturday pool hours.
URL:https://sjcc.org/event/fitness-class-aqua-fit/2026-03-23/
LOCATION:Stroum Jewish Community Center\, 3801 E Mercer Way\, Mercer Island\, WA\, United States
CATEGORIES:Adults + Seniors,Beginner,Demographics: Adults,Demographics: Seniors (55+ better),Fitness and Aquatics,Group Fitness Classes,Membership,Pool,Swimming
ORGANIZER;CN="Stroum JCC":MAILTO:info@sjcc.org
GEO:47.576754;-122.206204
X-APPLE-STRUCTURED-LOCATION;VALUE=URI;X-ADDRESS=Stroum Jewish Community Center 3801 E Mercer Way Mercer Island WA United States;X-APPLE-RADIUS=500;X-TITLE=3801 E Mercer Way:geo:-122.206204,47.576754
END:VEVENT
BEGIN:VEVENT
DTSTART;TZID=America/Los_Angeles:20260323T094500
DTEND;TZID=America/Los_Angeles:20260323T104500
DTSTAMP:20260420T033821
CREATED:20251216T174415Z
LAST-MODIFIED:20260216T133914Z
UID:10020186-1774259100-1774262700@sjcc.org
SUMMARY:Fitness Class: Intermediate Bootcamp - Monday
DESCRIPTION:Saturday pool hours.
URL:https://sjcc.org/event/fitness-class-intermediate-bootcamp-monday-2/2026-03-23/
LOCATION:Stroum Jewish Community Center\, 3801 E Mercer Way\, Mercer Island\, WA\, United States
CATEGORIES:Demographics: Adults,Demographics: Seniors (55+ better),Demographics: Young Adults,Exercise Studio,Fitness and Aquatics,Group Fitness Classes,Intermediate,Membership,Small Group at the J
ORGANIZER;CN="Stroum JCC":MAILTO:info@sjcc.org
GEO:47.576754;-122.206204
X-APPLE-STRUCTURED-LOCATION;VALUE=URI;X-ADDRESS=Stroum Jewish Community Center 3801 E Mercer Way Mercer Island WA United States;X-APPLE-RADIUS=500;X-TITLE=3801 E Mercer Way:geo:-122.206204,47.576754
END:VEVENT
END:VCALENDAR