BEGIN:VCALENDAR
VERSION:2.0
PRODID:-//Stroum Jewish Community Center of Greater Seattle - ECPv6.15.20//NONSGML v1.0//EN
CALSCALE:GREGORIAN
METHOD:PUBLISH
X-WR-CALNAME:Stroum Jewish Community Center of Greater Seattle
X-ORIGINAL-URL:https://sjcc.org
X-WR-CALDESC:Events for Stroum Jewish Community Center of Greater Seattle
REFRESH-INTERVAL;VALUE=DURATION:PT1H
X-Robots-Tag:noindex
X-PUBLISHED-TTL:PT1H
BEGIN:VTIMEZONE
TZID:America/Los_Angeles
BEGIN:DAYLIGHT
TZOFFSETFROM:-0800
TZOFFSETTO:-0700
TZNAME:PDT
DTSTART:20250309T100000
END:DAYLIGHT
BEGIN:STANDARD
TZOFFSETFROM:-0700
TZOFFSETTO:-0800
TZNAME:PST
DTSTART:20251102T090000
END:STANDARD
BEGIN:DAYLIGHT
TZOFFSETFROM:-0800
TZOFFSETTO:-0700
TZNAME:PDT
DTSTART:20260308T100000
END:DAYLIGHT
BEGIN:STANDARD
TZOFFSETFROM:-0700
TZOFFSETTO:-0800
TZNAME:PST
DTSTART:20261101T090000
END:STANDARD
BEGIN:DAYLIGHT
TZOFFSETFROM:-0800
TZOFFSETTO:-0700
TZNAME:PDT
DTSTART:20270314T100000
END:DAYLIGHT
BEGIN:STANDARD
TZOFFSETFROM:-0700
TZOFFSETTO:-0800
TZNAME:PST
DTSTART:20271107T090000
END:STANDARD
END:VTIMEZONE
BEGIN:VEVENT
DTSTART;TZID=America/Los_Angeles:20260606T080000
DTEND;TZID=America/Los_Angeles:20260606T164500
DTSTAMP:20260422T171743
CREATED:20260326T210805Z
LAST-MODIFIED:20260326T210805Z
UID:10022422-1780732800-1780764300@sjcc.org
SUMMARY:Saturday Pool Hours
DESCRIPTION:Join us for a high-energy stair workout at Mercerdale Park. We’ll start together and warm-up\, then take on the stairs—challenge yourself to complete as many climbs as you can at your own pace.
URL:https://sjcc.org/event/saturday-pool-hours-2/2026-06-06/
LOCATION:Stroum Jewish Community Center\, 3801 E Mercer Way\, Mercer Island\, WA\, United States
CATEGORIES:Fitness and Aquatics,Pool,Swimming
ORGANIZER;CN="Stroum JCC":MAILTO:info@sjcc.org
GEO:47.576754;-122.206204
X-APPLE-STRUCTURED-LOCATION;VALUE=URI;X-ADDRESS=Stroum Jewish Community Center 3801 E Mercer Way Mercer Island WA United States;X-APPLE-RADIUS=500;X-TITLE=3801 E Mercer Way:geo:-122.206204,47.576754
END:VEVENT
BEGIN:VEVENT
DTSTART;TZID=America/Los_Angeles:20260607T080000
DTEND;TZID=America/Los_Angeles:20260607T164500
DTSTAMP:20260422T171743
CREATED:20260326T210848Z
LAST-MODIFIED:20260326T210848Z
UID:10022431-1780819200-1780850700@sjcc.org
SUMMARY:Sunday Pool Hours
DESCRIPTION:Join us for a high-energy stair workout at Mercerdale Park. We’ll start together and warm-up\, then take on the stairs—challenge yourself to complete as many climbs as you can at your own pace.
URL:https://sjcc.org/event/sunday-pool-hours-2/2026-06-07/
LOCATION:Stroum Jewish Community Center\, 3801 E Mercer Way\, Mercer Island\, WA\, United States
CATEGORIES:Fitness and Aquatics,Pool,Swimming
ORGANIZER;CN="Stroum JCC":MAILTO:info@sjcc.org
GEO:47.576754;-122.206204
X-APPLE-STRUCTURED-LOCATION;VALUE=URI;X-ADDRESS=Stroum Jewish Community Center 3801 E Mercer Way Mercer Island WA United States;X-APPLE-RADIUS=500;X-TITLE=3801 E Mercer Way:geo:-122.206204,47.576754
END:VEVENT
BEGIN:VEVENT
DTSTART;TZID=America/Los_Angeles:20260608T060000
DTEND;TZID=America/Los_Angeles:20260608T204500
DTSTAMP:20260422T171743
CREATED:20260326T210459Z
LAST-MODIFIED:20260326T210459Z
UID:10022401-1780898400-1780951500@sjcc.org
SUMMARY:Monday Pool Hours
DESCRIPTION:Join us for a high-energy stair workout at Mercerdale Park. We’ll start together and warm-up\, then take on the stairs—challenge yourself to complete as many climbs as you can at your own pace.
URL:https://sjcc.org/event/monday-pool-hours-2/2026-06-08/
LOCATION:Stroum Jewish Community Center\, 3801 E Mercer Way\, Mercer Island\, WA\, United States
CATEGORIES:Fitness and Aquatics,Pool,Swimming
ORGANIZER;CN="Stroum JCC":MAILTO:info@sjcc.org
GEO:47.576754;-122.206204
X-APPLE-STRUCTURED-LOCATION;VALUE=URI;X-ADDRESS=Stroum Jewish Community Center 3801 E Mercer Way Mercer Island WA United States;X-APPLE-RADIUS=500;X-TITLE=3801 E Mercer Way:geo:-122.206204,47.576754
END:VEVENT
BEGIN:VEVENT
DTSTART;TZID=America/Los_Angeles:20260609T060000
DTEND;TZID=America/Los_Angeles:20260609T204500
DTSTAMP:20260422T171743
CREATED:20260326T210342Z
LAST-MODIFIED:20260326T210342Z
UID:10022392-1780984800-1781037900@sjcc.org
SUMMARY:Tuesday Pool Hours
DESCRIPTION:Join us for a high-energy stair workout at Mercerdale Park. We’ll start together and warm-up\, then take on the stairs—challenge yourself to complete as many climbs as you can at your own pace.
URL:https://sjcc.org/event/tuesday-pool-hours-2/2026-06-09/
LOCATION:Stroum Jewish Community Center\, 3801 E Mercer Way\, Mercer Island\, WA\, United States
CATEGORIES:Fitness and Aquatics,Pool,Swimming
ORGANIZER;CN="Stroum JCC":MAILTO:info@sjcc.org
GEO:47.576754;-122.206204
X-APPLE-STRUCTURED-LOCATION;VALUE=URI;X-ADDRESS=Stroum Jewish Community Center 3801 E Mercer Way Mercer Island WA United States;X-APPLE-RADIUS=500;X-TITLE=3801 E Mercer Way:geo:-122.206204,47.576754
END:VEVENT
BEGIN:VEVENT
DTSTART;TZID=America/Los_Angeles:20260609T080000
DTEND;TZID=America/Los_Angeles:20260609T090000
DTSTAMP:20260422T171743
CREATED:20260422T224631Z
LAST-MODIFIED:20260422T224631Z
UID:10022592-1780992000-1780995600@sjcc.org
SUMMARY:Fitness Class: Sprint Interval Training (SIT)
DESCRIPTION:Join us for a high-energy stair workout at Mercerdale Park. We’ll start together and warm-up\, then take on the stairs—challenge yourself to complete as many climbs as you can at your own pace.
URL:https://sjcc.org/event/fitness-class-sprint-interval-training-sit-2/2026-06-09/
LOCATION:Stroum Jewish Community Center\, 3801 E Mercer Way\, Mercer Island\, WA\, United States
CATEGORIES:Demographics,Demographics: Adults,Demographics: Young Adults,Exercise Studio,Facilities,Fitness and Aquatics,Group Fitness Classes,Intermediate
ORGANIZER;CN="Stroum JCC":MAILTO:info@sjcc.org
GEO:47.576754;-122.206204
X-APPLE-STRUCTURED-LOCATION;VALUE=URI;X-ADDRESS=Stroum Jewish Community Center 3801 E Mercer Way Mercer Island WA United States;X-APPLE-RADIUS=500;X-TITLE=3801 E Mercer Way:geo:-122.206204,47.576754
END:VEVENT
BEGIN:VEVENT
DTSTART;TZID=America/Los_Angeles:20260610T060000
DTEND;TZID=America/Los_Angeles:20260610T204500
DTSTAMP:20260422T171743
CREATED:20260326T210114Z
LAST-MODIFIED:20260326T210114Z
UID:10022383-1781071200-1781124300@sjcc.org
SUMMARY:Wednesday Pool Hours
DESCRIPTION:Join us for a high-energy stair workout at Mercerdale Park. We’ll start together and warm-up\, then take on the stairs—challenge yourself to complete as many climbs as you can at your own pace.
URL:https://sjcc.org/event/wednesday-pool-hours-2/2026-06-10/
LOCATION:Stroum Jewish Community Center\, 3801 E Mercer Way\, Mercer Island\, WA\, United States
CATEGORIES:Fitness and Aquatics,Pool,Swimming
ORGANIZER;CN="Stroum JCC":MAILTO:info@sjcc.org
GEO:47.576754;-122.206204
X-APPLE-STRUCTURED-LOCATION;VALUE=URI;X-ADDRESS=Stroum Jewish Community Center 3801 E Mercer Way Mercer Island WA United States;X-APPLE-RADIUS=500;X-TITLE=3801 E Mercer Way:geo:-122.206204,47.576754
END:VEVENT
BEGIN:VEVENT
DTSTART;TZID=America/Los_Angeles:20260611T060000
DTEND;TZID=America/Los_Angeles:20260611T204500
DTSTAMP:20260422T171743
CREATED:20260326T205723Z
LAST-MODIFIED:20260326T210048Z
UID:10022374-1781157600-1781210700@sjcc.org
SUMMARY:Thursday Pool Hours
DESCRIPTION:Join us for a high-energy stair workout at Mercerdale Park. We’ll start together and warm-up\, then take on the stairs—challenge yourself to complete as many climbs as you can at your own pace.
URL:https://sjcc.org/event/thursday-pool-hours-2/2026-06-11/
LOCATION:Stroum Jewish Community Center\, 3801 E Mercer Way\, Mercer Island\, WA\, United States
CATEGORIES:Fitness and Aquatics,Pool,Swimming
ORGANIZER;CN="Stroum JCC":MAILTO:info@sjcc.org
GEO:47.576754;-122.206204
X-APPLE-STRUCTURED-LOCATION;VALUE=URI;X-ADDRESS=Stroum Jewish Community Center 3801 E Mercer Way Mercer Island WA United States;X-APPLE-RADIUS=500;X-TITLE=3801 E Mercer Way:geo:-122.206204,47.576754
END:VEVENT
BEGIN:VEVENT
DTSTART;TZID=America/Los_Angeles:20260612T060000
DTEND;TZID=America/Los_Angeles:20260612T184500
DTSTAMP:20260422T171743
CREATED:20260326T204243Z
LAST-MODIFIED:20260326T211023Z
UID:10022441-1781244000-1781289900@sjcc.org
SUMMARY:Friday Pool Hours
DESCRIPTION:Join us for a high-energy stair workout at Mercerdale Park. We’ll start together and warm-up\, then take on the stairs—challenge yourself to complete as many climbs as you can at your own pace.
URL:https://sjcc.org/event/friday-pool-hours-2/2026-06-12/
LOCATION:Stroum Jewish Community Center\, 3801 E Mercer Way\, Mercer Island\, WA\, United States
CATEGORIES:Fitness and Aquatics,Pool,Swimming
ORGANIZER;CN="Stroum JCC":MAILTO:info@sjcc.org
GEO:47.576754;-122.206204
X-APPLE-STRUCTURED-LOCATION;VALUE=URI;X-ADDRESS=Stroum Jewish Community Center 3801 E Mercer Way Mercer Island WA United States;X-APPLE-RADIUS=500;X-TITLE=3801 E Mercer Way:geo:-122.206204,47.576754
END:VEVENT
BEGIN:VEVENT
DTSTART;TZID=America/Los_Angeles:20260612T061500
DTEND;TZID=America/Los_Angeles:20260612T071500
DTSTAMP:20260422T171743
CREATED:20260422T222537Z
LAST-MODIFIED:20260422T224405Z
UID:10022570-1781244900-1781248500@sjcc.org
SUMMARY:Fitness Class: Yoga Sculpt
DESCRIPTION:Join us for a high-energy stair workout at Mercerdale Park. We’ll start together and warm-up\, then take on the stairs—challenge yourself to complete as many climbs as you can at your own pace.
URL:https://sjcc.org/event/fitness-class-yoga-sculpt-2/2026-06-12/
LOCATION:Stroum Jewish Community Center\, 3801 E Mercer Way\, Mercer Island\, WA\, United States
CATEGORIES:Clinics + Workshops,Demographics,Demographics: Adults,Demographics: Seniors (55+ better),Demographics: Young Adults,Exercise Studio,Facilities,Fitness and Aquatics,Group Fitness Classes,Intermediate
ORGANIZER;CN="Stroum JCC":MAILTO:info@sjcc.org
GEO:47.576754;-122.206204
X-APPLE-STRUCTURED-LOCATION;VALUE=URI;X-ADDRESS=Stroum Jewish Community Center 3801 E Mercer Way Mercer Island WA United States;X-APPLE-RADIUS=500;X-TITLE=3801 E Mercer Way:geo:-122.206204,47.576754
END:VEVENT
BEGIN:VEVENT
DTSTART;TZID=America/Los_Angeles:20260613T080000
DTEND;TZID=America/Los_Angeles:20260613T164500
DTSTAMP:20260422T171743
CREATED:20260326T210805Z
LAST-MODIFIED:20260326T210805Z
UID:10022423-1781337600-1781369100@sjcc.org
SUMMARY:Saturday Pool Hours
DESCRIPTION:Join us for a high-energy stair workout at Mercerdale Park. We’ll start together and warm-up\, then take on the stairs—challenge yourself to complete as many climbs as you can at your own pace.
URL:https://sjcc.org/event/saturday-pool-hours-2/2026-06-13/
LOCATION:Stroum Jewish Community Center\, 3801 E Mercer Way\, Mercer Island\, WA\, United States
CATEGORIES:Fitness and Aquatics,Pool,Swimming
ORGANIZER;CN="Stroum JCC":MAILTO:info@sjcc.org
GEO:47.576754;-122.206204
X-APPLE-STRUCTURED-LOCATION;VALUE=URI;X-ADDRESS=Stroum Jewish Community Center 3801 E Mercer Way Mercer Island WA United States;X-APPLE-RADIUS=500;X-TITLE=3801 E Mercer Way:geo:-122.206204,47.576754
END:VEVENT
BEGIN:VEVENT
DTSTART;TZID=America/Los_Angeles:20260614T080000
DTEND;TZID=America/Los_Angeles:20260614T164500
DTSTAMP:20260422T171743
CREATED:20260326T210848Z
LAST-MODIFIED:20260326T210848Z
UID:10022432-1781424000-1781455500@sjcc.org
SUMMARY:Sunday Pool Hours
DESCRIPTION:Join us for a high-energy stair workout at Mercerdale Park. We’ll start together and warm-up\, then take on the stairs—challenge yourself to complete as many climbs as you can at your own pace.
URL:https://sjcc.org/event/sunday-pool-hours-2/2026-06-14/
LOCATION:Stroum Jewish Community Center\, 3801 E Mercer Way\, Mercer Island\, WA\, United States
CATEGORIES:Fitness and Aquatics,Pool,Swimming
ORGANIZER;CN="Stroum JCC":MAILTO:info@sjcc.org
GEO:47.576754;-122.206204
X-APPLE-STRUCTURED-LOCATION;VALUE=URI;X-ADDRESS=Stroum Jewish Community Center 3801 E Mercer Way Mercer Island WA United States;X-APPLE-RADIUS=500;X-TITLE=3801 E Mercer Way:geo:-122.206204,47.576754
END:VEVENT
BEGIN:VEVENT
DTSTART;TZID=America/Los_Angeles:20260616T080000
DTEND;TZID=America/Los_Angeles:20260616T090000
DTSTAMP:20260422T171743
CREATED:20260422T224631Z
LAST-MODIFIED:20260422T224631Z
UID:10022593-1781596800-1781600400@sjcc.org
SUMMARY:Fitness Class: Sprint Interval Training (SIT)
DESCRIPTION:Join us for a high-energy stair workout at Mercerdale Park. We’ll start together and warm-up\, then take on the stairs—challenge yourself to complete as many climbs as you can at your own pace.
URL:https://sjcc.org/event/fitness-class-sprint-interval-training-sit-2/2026-06-16/
LOCATION:Stroum Jewish Community Center\, 3801 E Mercer Way\, Mercer Island\, WA\, United States
CATEGORIES:Demographics,Demographics: Adults,Demographics: Young Adults,Exercise Studio,Facilities,Fitness and Aquatics,Group Fitness Classes,Intermediate
ORGANIZER;CN="Stroum JCC":MAILTO:info@sjcc.org
GEO:47.576754;-122.206204
X-APPLE-STRUCTURED-LOCATION;VALUE=URI;X-ADDRESS=Stroum Jewish Community Center 3801 E Mercer Way Mercer Island WA United States;X-APPLE-RADIUS=500;X-TITLE=3801 E Mercer Way:geo:-122.206204,47.576754
END:VEVENT
BEGIN:VEVENT
DTSTART;TZID=America/Los_Angeles:20260619T061500
DTEND;TZID=America/Los_Angeles:20260619T071500
DTSTAMP:20260422T171743
CREATED:20260422T222537Z
LAST-MODIFIED:20260422T224405Z
UID:10022571-1781849700-1781853300@sjcc.org
SUMMARY:Fitness Class: Yoga Sculpt
DESCRIPTION:Join us for a high-energy stair workout at Mercerdale Park. We’ll start together and warm-up\, then take on the stairs—challenge yourself to complete as many climbs as you can at your own pace.
URL:https://sjcc.org/event/fitness-class-yoga-sculpt-2/2026-06-19/
LOCATION:Stroum Jewish Community Center\, 3801 E Mercer Way\, Mercer Island\, WA\, United States
CATEGORIES:Clinics + Workshops,Demographics,Demographics: Adults,Demographics: Seniors (55+ better),Demographics: Young Adults,Exercise Studio,Facilities,Fitness and Aquatics,Group Fitness Classes,Intermediate
ORGANIZER;CN="Stroum JCC":MAILTO:info@sjcc.org
GEO:47.576754;-122.206204
X-APPLE-STRUCTURED-LOCATION;VALUE=URI;X-ADDRESS=Stroum Jewish Community Center 3801 E Mercer Way Mercer Island WA United States;X-APPLE-RADIUS=500;X-TITLE=3801 E Mercer Way:geo:-122.206204,47.576754
END:VEVENT
BEGIN:VEVENT
DTSTART;TZID=America/Los_Angeles:20260623T080000
DTEND;TZID=America/Los_Angeles:20260623T090000
DTSTAMP:20260422T171743
CREATED:20260422T224631Z
LAST-MODIFIED:20260422T224631Z
UID:10022594-1782201600-1782205200@sjcc.org
SUMMARY:Fitness Class: Sprint Interval Training (SIT)
DESCRIPTION:Join us for a high-energy stair workout at Mercerdale Park. We’ll start together and warm-up\, then take on the stairs—challenge yourself to complete as many climbs as you can at your own pace.
URL:https://sjcc.org/event/fitness-class-sprint-interval-training-sit-2/2026-06-23/
LOCATION:Stroum Jewish Community Center\, 3801 E Mercer Way\, Mercer Island\, WA\, United States
CATEGORIES:Demographics,Demographics: Adults,Demographics: Young Adults,Exercise Studio,Facilities,Fitness and Aquatics,Group Fitness Classes,Intermediate
ORGANIZER;CN="Stroum JCC":MAILTO:info@sjcc.org
GEO:47.576754;-122.206204
X-APPLE-STRUCTURED-LOCATION;VALUE=URI;X-ADDRESS=Stroum Jewish Community Center 3801 E Mercer Way Mercer Island WA United States;X-APPLE-RADIUS=500;X-TITLE=3801 E Mercer Way:geo:-122.206204,47.576754
END:VEVENT
BEGIN:VEVENT
DTSTART;TZID=America/Los_Angeles:20260626T061500
DTEND;TZID=America/Los_Angeles:20260626T071500
DTSTAMP:20260422T171743
CREATED:20260422T222537Z
LAST-MODIFIED:20260422T224405Z
UID:10022572-1782454500-1782458100@sjcc.org
SUMMARY:Fitness Class: Yoga Sculpt
DESCRIPTION:Join us for a high-energy stair workout at Mercerdale Park. We’ll start together and warm-up\, then take on the stairs—challenge yourself to complete as many climbs as you can at your own pace.
URL:https://sjcc.org/event/fitness-class-yoga-sculpt-2/2026-06-26/
LOCATION:Stroum Jewish Community Center\, 3801 E Mercer Way\, Mercer Island\, WA\, United States
CATEGORIES:Clinics + Workshops,Demographics,Demographics: Adults,Demographics: Seniors (55+ better),Demographics: Young Adults,Exercise Studio,Facilities,Fitness and Aquatics,Group Fitness Classes,Intermediate
ORGANIZER;CN="Stroum JCC":MAILTO:info@sjcc.org
GEO:47.576754;-122.206204
X-APPLE-STRUCTURED-LOCATION;VALUE=URI;X-ADDRESS=Stroum Jewish Community Center 3801 E Mercer Way Mercer Island WA United States;X-APPLE-RADIUS=500;X-TITLE=3801 E Mercer Way:geo:-122.206204,47.576754
END:VEVENT
BEGIN:VEVENT
DTSTART;TZID=America/Los_Angeles:20260630T080000
DTEND;TZID=America/Los_Angeles:20260630T090000
DTSTAMP:20260422T171743
CREATED:20260422T224631Z
LAST-MODIFIED:20260422T224631Z
UID:10022595-1782806400-1782810000@sjcc.org
SUMMARY:Fitness Class: Sprint Interval Training (SIT)
DESCRIPTION:Join us for a high-energy stair workout at Mercerdale Park. We’ll start together and warm-up\, then take on the stairs—challenge yourself to complete as many climbs as you can at your own pace.
URL:https://sjcc.org/event/fitness-class-sprint-interval-training-sit-2/2026-06-30/
LOCATION:Stroum Jewish Community Center\, 3801 E Mercer Way\, Mercer Island\, WA\, United States
CATEGORIES:Demographics,Demographics: Adults,Demographics: Young Adults,Exercise Studio,Facilities,Fitness and Aquatics,Group Fitness Classes,Intermediate
ORGANIZER;CN="Stroum JCC":MAILTO:info@sjcc.org
GEO:47.576754;-122.206204
X-APPLE-STRUCTURED-LOCATION;VALUE=URI;X-ADDRESS=Stroum Jewish Community Center 3801 E Mercer Way Mercer Island WA United States;X-APPLE-RADIUS=500;X-TITLE=3801 E Mercer Way:geo:-122.206204,47.576754
END:VEVENT
BEGIN:VEVENT
DTSTART;TZID=America/Los_Angeles:20260703T061500
DTEND;TZID=America/Los_Angeles:20260703T071500
DTSTAMP:20260422T171744
CREATED:20260422T222537Z
LAST-MODIFIED:20260422T224405Z
UID:10022573-1783059300-1783062900@sjcc.org
SUMMARY:Fitness Class: Yoga Sculpt
DESCRIPTION:Join us for a high-energy stair workout at Mercerdale Park. We’ll start together and warm-up\, then take on the stairs—challenge yourself to complete as many climbs as you can at your own pace.
URL:https://sjcc.org/event/fitness-class-yoga-sculpt-2/2026-07-03/
LOCATION:Stroum Jewish Community Center\, 3801 E Mercer Way\, Mercer Island\, WA\, United States
CATEGORIES:Clinics + Workshops,Demographics,Demographics: Adults,Demographics: Seniors (55+ better),Demographics: Young Adults,Exercise Studio,Facilities,Fitness and Aquatics,Group Fitness Classes,Intermediate
ORGANIZER;CN="Stroum JCC":MAILTO:info@sjcc.org
GEO:47.576754;-122.206204
X-APPLE-STRUCTURED-LOCATION;VALUE=URI;X-ADDRESS=Stroum Jewish Community Center 3801 E Mercer Way Mercer Island WA United States;X-APPLE-RADIUS=500;X-TITLE=3801 E Mercer Way:geo:-122.206204,47.576754
END:VEVENT
BEGIN:VEVENT
DTSTART;TZID=America/Los_Angeles:20260707T080000
DTEND;TZID=America/Los_Angeles:20260707T090000
DTSTAMP:20260422T171744
CREATED:20260422T224631Z
LAST-MODIFIED:20260422T224631Z
UID:10022596-1783411200-1783414800@sjcc.org
SUMMARY:Fitness Class: Sprint Interval Training (SIT)
DESCRIPTION:Join us for a high-energy stair workout at Mercerdale Park. We’ll start together and warm-up\, then take on the stairs—challenge yourself to complete as many climbs as you can at your own pace.
URL:https://sjcc.org/event/fitness-class-sprint-interval-training-sit-2/2026-07-07/
LOCATION:Stroum Jewish Community Center\, 3801 E Mercer Way\, Mercer Island\, WA\, United States
CATEGORIES:Demographics,Demographics: Adults,Demographics: Young Adults,Exercise Studio,Facilities,Fitness and Aquatics,Group Fitness Classes,Intermediate
ORGANIZER;CN="Stroum JCC":MAILTO:info@sjcc.org
GEO:47.576754;-122.206204
X-APPLE-STRUCTURED-LOCATION;VALUE=URI;X-ADDRESS=Stroum Jewish Community Center 3801 E Mercer Way Mercer Island WA United States;X-APPLE-RADIUS=500;X-TITLE=3801 E Mercer Way:geo:-122.206204,47.576754
END:VEVENT
BEGIN:VEVENT
DTSTART;TZID=America/Los_Angeles:20260710T061500
DTEND;TZID=America/Los_Angeles:20260710T071500
DTSTAMP:20260422T171744
CREATED:20260422T222537Z
LAST-MODIFIED:20260422T224405Z
UID:10022574-1783664100-1783667700@sjcc.org
SUMMARY:Fitness Class: Yoga Sculpt
DESCRIPTION:Join us for a high-energy stair workout at Mercerdale Park. We’ll start together and warm-up\, then take on the stairs—challenge yourself to complete as many climbs as you can at your own pace.
URL:https://sjcc.org/event/fitness-class-yoga-sculpt-2/2026-07-10/
LOCATION:Stroum Jewish Community Center\, 3801 E Mercer Way\, Mercer Island\, WA\, United States
CATEGORIES:Clinics + Workshops,Demographics,Demographics: Adults,Demographics: Seniors (55+ better),Demographics: Young Adults,Exercise Studio,Facilities,Fitness and Aquatics,Group Fitness Classes,Intermediate
ORGANIZER;CN="Stroum JCC":MAILTO:info@sjcc.org
GEO:47.576754;-122.206204
X-APPLE-STRUCTURED-LOCATION;VALUE=URI;X-ADDRESS=Stroum Jewish Community Center 3801 E Mercer Way Mercer Island WA United States;X-APPLE-RADIUS=500;X-TITLE=3801 E Mercer Way:geo:-122.206204,47.576754
END:VEVENT
BEGIN:VEVENT
DTSTART;TZID=America/Los_Angeles:20260714T080000
DTEND;TZID=America/Los_Angeles:20260714T090000
DTSTAMP:20260422T171744
CREATED:20260422T224631Z
LAST-MODIFIED:20260422T224631Z
UID:10022597-1784016000-1784019600@sjcc.org
SUMMARY:Fitness Class: Sprint Interval Training (SIT)
DESCRIPTION:Join us for a high-energy stair workout at Mercerdale Park. We’ll start together and warm-up\, then take on the stairs—challenge yourself to complete as many climbs as you can at your own pace.
URL:https://sjcc.org/event/fitness-class-sprint-interval-training-sit-2/2026-07-14/
LOCATION:Stroum Jewish Community Center\, 3801 E Mercer Way\, Mercer Island\, WA\, United States
CATEGORIES:Demographics,Demographics: Adults,Demographics: Young Adults,Exercise Studio,Facilities,Fitness and Aquatics,Group Fitness Classes,Intermediate
ORGANIZER;CN="Stroum JCC":MAILTO:info@sjcc.org
GEO:47.576754;-122.206204
X-APPLE-STRUCTURED-LOCATION;VALUE=URI;X-ADDRESS=Stroum Jewish Community Center 3801 E Mercer Way Mercer Island WA United States;X-APPLE-RADIUS=500;X-TITLE=3801 E Mercer Way:geo:-122.206204,47.576754
END:VEVENT
BEGIN:VEVENT
DTSTART;TZID=America/Los_Angeles:20260717T061500
DTEND;TZID=America/Los_Angeles:20260717T071500
DTSTAMP:20260422T171744
CREATED:20260422T222537Z
LAST-MODIFIED:20260422T224405Z
UID:10022575-1784268900-1784272500@sjcc.org
SUMMARY:Fitness Class: Yoga Sculpt
DESCRIPTION:Join us for a high-energy stair workout at Mercerdale Park. We’ll start together and warm-up\, then take on the stairs—challenge yourself to complete as many climbs as you can at your own pace.
URL:https://sjcc.org/event/fitness-class-yoga-sculpt-2/2026-07-17/
LOCATION:Stroum Jewish Community Center\, 3801 E Mercer Way\, Mercer Island\, WA\, United States
CATEGORIES:Clinics + Workshops,Demographics,Demographics: Adults,Demographics: Seniors (55+ better),Demographics: Young Adults,Exercise Studio,Facilities,Fitness and Aquatics,Group Fitness Classes,Intermediate
ORGANIZER;CN="Stroum JCC":MAILTO:info@sjcc.org
GEO:47.576754;-122.206204
X-APPLE-STRUCTURED-LOCATION;VALUE=URI;X-ADDRESS=Stroum Jewish Community Center 3801 E Mercer Way Mercer Island WA United States;X-APPLE-RADIUS=500;X-TITLE=3801 E Mercer Way:geo:-122.206204,47.576754
END:VEVENT
BEGIN:VEVENT
DTSTART;TZID=America/Los_Angeles:20260721T080000
DTEND;TZID=America/Los_Angeles:20260721T090000
DTSTAMP:20260422T171744
CREATED:20260422T224631Z
LAST-MODIFIED:20260422T224631Z
UID:10022598-1784620800-1784624400@sjcc.org
SUMMARY:Fitness Class: Sprint Interval Training (SIT)
DESCRIPTION:Join us for a high-energy stair workout at Mercerdale Park. We’ll start together and warm-up\, then take on the stairs—challenge yourself to complete as many climbs as you can at your own pace.
URL:https://sjcc.org/event/fitness-class-sprint-interval-training-sit-2/2026-07-21/
LOCATION:Stroum Jewish Community Center\, 3801 E Mercer Way\, Mercer Island\, WA\, United States
CATEGORIES:Demographics,Demographics: Adults,Demographics: Young Adults,Exercise Studio,Facilities,Fitness and Aquatics,Group Fitness Classes,Intermediate
ORGANIZER;CN="Stroum JCC":MAILTO:info@sjcc.org
GEO:47.576754;-122.206204
X-APPLE-STRUCTURED-LOCATION;VALUE=URI;X-ADDRESS=Stroum Jewish Community Center 3801 E Mercer Way Mercer Island WA United States;X-APPLE-RADIUS=500;X-TITLE=3801 E Mercer Way:geo:-122.206204,47.576754
END:VEVENT
BEGIN:VEVENT
DTSTART;TZID=America/Los_Angeles:20260724T061500
DTEND;TZID=America/Los_Angeles:20260724T071500
DTSTAMP:20260422T171744
CREATED:20260422T222537Z
LAST-MODIFIED:20260422T224405Z
UID:10022576-1784873700-1784877300@sjcc.org
SUMMARY:Fitness Class: Yoga Sculpt
DESCRIPTION:Join us for a high-energy stair workout at Mercerdale Park. We’ll start together and warm-up\, then take on the stairs—challenge yourself to complete as many climbs as you can at your own pace.
URL:https://sjcc.org/event/fitness-class-yoga-sculpt-2/2026-07-24/
LOCATION:Stroum Jewish Community Center\, 3801 E Mercer Way\, Mercer Island\, WA\, United States
CATEGORIES:Clinics + Workshops,Demographics,Demographics: Adults,Demographics: Seniors (55+ better),Demographics: Young Adults,Exercise Studio,Facilities,Fitness and Aquatics,Group Fitness Classes,Intermediate
ORGANIZER;CN="Stroum JCC":MAILTO:info@sjcc.org
GEO:47.576754;-122.206204
X-APPLE-STRUCTURED-LOCATION;VALUE=URI;X-ADDRESS=Stroum Jewish Community Center 3801 E Mercer Way Mercer Island WA United States;X-APPLE-RADIUS=500;X-TITLE=3801 E Mercer Way:geo:-122.206204,47.576754
END:VEVENT
BEGIN:VEVENT
DTSTART;TZID=America/Los_Angeles:20260728T080000
DTEND;TZID=America/Los_Angeles:20260728T090000
DTSTAMP:20260422T171744
CREATED:20260422T224631Z
LAST-MODIFIED:20260422T224631Z
UID:10022599-1785225600-1785229200@sjcc.org
SUMMARY:Fitness Class: Sprint Interval Training (SIT)
DESCRIPTION:Join us for a high-energy stair workout at Mercerdale Park. We’ll start together and warm-up\, then take on the stairs—challenge yourself to complete as many climbs as you can at your own pace.
URL:https://sjcc.org/event/fitness-class-sprint-interval-training-sit-2/2026-07-28/
LOCATION:Stroum Jewish Community Center\, 3801 E Mercer Way\, Mercer Island\, WA\, United States
CATEGORIES:Demographics,Demographics: Adults,Demographics: Young Adults,Exercise Studio,Facilities,Fitness and Aquatics,Group Fitness Classes,Intermediate
ORGANIZER;CN="Stroum JCC":MAILTO:info@sjcc.org
GEO:47.576754;-122.206204
X-APPLE-STRUCTURED-LOCATION;VALUE=URI;X-ADDRESS=Stroum Jewish Community Center 3801 E Mercer Way Mercer Island WA United States;X-APPLE-RADIUS=500;X-TITLE=3801 E Mercer Way:geo:-122.206204,47.576754
END:VEVENT
BEGIN:VEVENT
DTSTART;TZID=America/Los_Angeles:20260731T061500
DTEND;TZID=America/Los_Angeles:20260731T071500
DTSTAMP:20260422T171744
CREATED:20260422T222537Z
LAST-MODIFIED:20260422T224405Z
UID:10022577-1785478500-1785482100@sjcc.org
SUMMARY:Fitness Class: Yoga Sculpt
DESCRIPTION:Join us for a high-energy stair workout at Mercerdale Park. We’ll start together and warm-up\, then take on the stairs—challenge yourself to complete as many climbs as you can at your own pace.
URL:https://sjcc.org/event/fitness-class-yoga-sculpt-2/2026-07-31/
LOCATION:Stroum Jewish Community Center\, 3801 E Mercer Way\, Mercer Island\, WA\, United States
CATEGORIES:Clinics + Workshops,Demographics,Demographics: Adults,Demographics: Seniors (55+ better),Demographics: Young Adults,Exercise Studio,Facilities,Fitness and Aquatics,Group Fitness Classes,Intermediate
ORGANIZER;CN="Stroum JCC":MAILTO:info@sjcc.org
GEO:47.576754;-122.206204
X-APPLE-STRUCTURED-LOCATION;VALUE=URI;X-ADDRESS=Stroum Jewish Community Center 3801 E Mercer Way Mercer Island WA United States;X-APPLE-RADIUS=500;X-TITLE=3801 E Mercer Way:geo:-122.206204,47.576754
END:VEVENT
END:VCALENDAR