BEGIN:VCALENDAR
VERSION:2.0
PRODID:-//Stroum Jewish Community Center of Greater Seattle - ECPv6.15.20//NONSGML v1.0//EN
CALSCALE:GREGORIAN
METHOD:PUBLISH
X-ORIGINAL-URL:https://sjcc.org
X-WR-CALDESC:Events for Stroum Jewish Community Center of Greater Seattle
REFRESH-INTERVAL;VALUE=DURATION:PT1H
X-Robots-Tag:noindex
X-PUBLISHED-TTL:PT1H
BEGIN:VTIMEZONE
TZID:America/Los_Angeles
BEGIN:DAYLIGHT
TZOFFSETFROM:-0800
TZOFFSETTO:-0700
TZNAME:PDT
DTSTART:20250309T100000
END:DAYLIGHT
BEGIN:STANDARD
TZOFFSETFROM:-0700
TZOFFSETTO:-0800
TZNAME:PST
DTSTART:20251102T090000
END:STANDARD
BEGIN:DAYLIGHT
TZOFFSETFROM:-0800
TZOFFSETTO:-0700
TZNAME:PDT
DTSTART:20260308T100000
END:DAYLIGHT
BEGIN:STANDARD
TZOFFSETFROM:-0700
TZOFFSETTO:-0800
TZNAME:PST
DTSTART:20261101T090000
END:STANDARD
BEGIN:DAYLIGHT
TZOFFSETFROM:-0800
TZOFFSETTO:-0700
TZNAME:PDT
DTSTART:20270314T100000
END:DAYLIGHT
BEGIN:STANDARD
TZOFFSETFROM:-0700
TZOFFSETTO:-0800
TZNAME:PST
DTSTART:20271107T090000
END:STANDARD
END:VTIMEZONE
BEGIN:VEVENT
DTSTART;TZID=America/Los_Angeles:20260629T094500
DTEND;TZID=America/Los_Angeles:20260629T104500
DTSTAMP:20260423T125820
CREATED:20251216T174415Z
LAST-MODIFIED:20260423T195159Z
UID:10022784-1782726300-1782729900@sjcc.org
SUMMARY:Fitness Class: Intermediate Bootcamp - Monday
DESCRIPTION:Each week features a different “countdown” format—from descending reps and timed intervals to strength-focused sets and team-based challenges—so every class feels fresh\, engaging\, and effective.
URL:https://sjcc.org/event/fitness-class-intermediate-bootcamp-monday-2/2026-06-29/
LOCATION:Stroum Jewish Community Center\, 3801 E Mercer Way\, Mercer Island\, WA\, United States
CATEGORIES:Demographics: Adults,Demographics: Seniors (55+ better),Demographics: Young Adults,Exercise Studio,Fitness and Aquatics,Group Fitness Classes,Intermediate,Membership,Small Group at the J
ORGANIZER;CN="Stroum JCC":MAILTO:info@sjcc.org
GEO:47.576754;-122.206204
X-APPLE-STRUCTURED-LOCATION;VALUE=URI;X-ADDRESS=Stroum Jewish Community Center 3801 E Mercer Way Mercer Island WA United States;X-APPLE-RADIUS=500;X-TITLE=3801 E Mercer Way:geo:-122.206204,47.576754
END:VEVENT
BEGIN:VEVENT
DTSTART;TZID=America/Los_Angeles:20260629T110000
DTEND;TZID=America/Los_Angeles:20260629T120000
DTSTAMP:20260423T125820
CREATED:20260209T173452Z
LAST-MODIFIED:20260423T180202Z
UID:10022676-1782730800-1782734400@sjcc.org
SUMMARY:Fitness Class: Rock Steady Boxing Level 1/2
DESCRIPTION:Each week features a different “countdown” format—from descending reps and timed intervals to strength-focused sets and team-based challenges—so every class feels fresh\, engaging\, and effective.
URL:https://sjcc.org/event/fitness-class-rock-steady-boxing-level-1-2/2026-06-29/
LOCATION:Stroum Jewish Community Center\, 3801 E Mercer Way\, Mercer Island\, WA\, United States
CATEGORIES:Beginner,Demographics: Adults,Demographics: Seniors (55+ better),Demographics: Young Adults,Exercise Studio,Fitness and Aquatics,Group Fitness Classes
ORGANIZER;CN="Stroum JCC":MAILTO:info@sjcc.org
GEO:47.576754;-122.206204
X-APPLE-STRUCTURED-LOCATION;VALUE=URI;X-ADDRESS=Stroum Jewish Community Center 3801 E Mercer Way Mercer Island WA United States;X-APPLE-RADIUS=500;X-TITLE=3801 E Mercer Way:geo:-122.206204,47.576754
END:VEVENT
BEGIN:VEVENT
DTSTART;TZID=America/Los_Angeles:20260630T080000
DTEND;TZID=America/Los_Angeles:20260630T090000
DTSTAMP:20260423T125820
CREATED:20260422T224631Z
LAST-MODIFIED:20260422T224631Z
UID:10022595-1782806400-1782810000@sjcc.org
SUMMARY:Fitness Class: Sprint Interval Training (SIT)
DESCRIPTION:Each week features a different “countdown” format—from descending reps and timed intervals to strength-focused sets and team-based challenges—so every class feels fresh\, engaging\, and effective.
URL:https://sjcc.org/event/fitness-class-sprint-interval-training-sit-2/2026-06-30/
LOCATION:Stroum Jewish Community Center\, 3801 E Mercer Way\, Mercer Island\, WA\, United States
CATEGORIES:Demographics,Demographics: Adults,Demographics: Young Adults,Exercise Studio,Facilities,Fitness and Aquatics,Group Fitness Classes,Intermediate
ORGANIZER;CN="Stroum JCC":MAILTO:info@sjcc.org
GEO:47.576754;-122.206204
X-APPLE-STRUCTURED-LOCATION;VALUE=URI;X-ADDRESS=Stroum Jewish Community Center 3801 E Mercer Way Mercer Island WA United States;X-APPLE-RADIUS=500;X-TITLE=3801 E Mercer Way:geo:-122.206204,47.576754
END:VEVENT
BEGIN:VEVENT
DTSTART;TZID=America/Los_Angeles:20260630T083000
DTEND;TZID=America/Los_Angeles:20260630T093000
DTSTAMP:20260423T125820
CREATED:20251216T174616Z
LAST-MODIFIED:20260423T180324Z
UID:10022732-1782808200-1782811800@sjcc.org
SUMMARY:Fitness Class: TRX Suspension Training
DESCRIPTION:Each week features a different “countdown” format—from descending reps and timed intervals to strength-focused sets and team-based challenges—so every class feels fresh\, engaging\, and effective.
URL:https://sjcc.org/event/fitness-class-trx-suspension-training-2/2026-06-30/
LOCATION:Stroum Jewish Community Center\, 3801 E Mercer Way\, Mercer Island\, WA\, United States
CATEGORIES:Demographics: Adults,Demographics: Young Adults,Exercise Studio,Fitness and Aquatics,Group Fitness Classes,Intermediate,Membership
ORGANIZER;CN="Stroum JCC":MAILTO:info@sjcc.org
GEO:47.576754;-122.206204
X-APPLE-STRUCTURED-LOCATION;VALUE=URI;X-ADDRESS=Stroum Jewish Community Center 3801 E Mercer Way Mercer Island WA United States;X-APPLE-RADIUS=500;X-TITLE=3801 E Mercer Way:geo:-122.206204,47.576754
END:VEVENT
BEGIN:VEVENT
DTSTART;TZID=America/Los_Angeles:20260630T090000
DTEND;TZID=America/Los_Angeles:20260630T100000
DTSTAMP:20260423T125820
CREATED:20260123T003133Z
LAST-MODIFIED:20260423T180303Z
UID:10022719-1782810000-1782813600@sjcc.org
SUMMARY:Fitness Class: Aqua Fit Strong
DESCRIPTION:Each week features a different “countdown” format—from descending reps and timed intervals to strength-focused sets and team-based challenges—so every class feels fresh\, engaging\, and effective.
URL:https://sjcc.org/event/fitness-class-aqua-fit-strong/2026-06-30/
LOCATION:Stroum Jewish Community Center\, 3801 E Mercer Way\, Mercer Island\, WA\, United States
CATEGORIES:Adults + Seniors,Beginner,Demographics: Adults,Demographics: Seniors (55+ better),Fitness and Aquatics,Group Fitness Classes,Membership,Pool,Swimming
ORGANIZER;CN="Stroum JCC":MAILTO:info@sjcc.org
GEO:47.576754;-122.206204
X-APPLE-STRUCTURED-LOCATION;VALUE=URI;X-ADDRESS=Stroum Jewish Community Center 3801 E Mercer Way Mercer Island WA United States;X-APPLE-RADIUS=500;X-TITLE=3801 E Mercer Way:geo:-122.206204,47.576754
END:VEVENT
BEGIN:VEVENT
DTSTART;TZID=America/Los_Angeles:20260630T094500
DTEND;TZID=America/Los_Angeles:20260630T104500
DTSTAMP:20260423T125820
CREATED:20251216T174544Z
LAST-MODIFIED:20260423T194756Z
UID:10022749-1782812700-1782816300@sjcc.org
SUMMARY:Fitness Class: Body Fit
DESCRIPTION:Each week features a different “countdown” format—from descending reps and timed intervals to strength-focused sets and team-based challenges—so every class feels fresh\, engaging\, and effective.
URL:https://sjcc.org/event/fitness-class-body-fit/2026-06-30/
LOCATION:Stroum Jewish Community Center\, 3801 E Mercer Way\, Mercer Island\, WA\, United States
CATEGORIES:Demographics: Adults,Demographics: Seniors (55+ better),Demographics: Young Adults,Exercise Studio,Fitness and Aquatics,Group Fitness Classes,Intermediate,Membership
ORGANIZER;CN="Stroum JCC":MAILTO:info@sjcc.org
GEO:47.576754;-122.206204
X-APPLE-STRUCTURED-LOCATION;VALUE=URI;X-ADDRESS=Stroum Jewish Community Center 3801 E Mercer Way Mercer Island WA United States;X-APPLE-RADIUS=500;X-TITLE=3801 E Mercer Way:geo:-122.206204,47.576754
END:VEVENT
BEGIN:VEVENT
DTSTART;TZID=America/Los_Angeles:20260630T100000
DTEND;TZID=America/Los_Angeles:20260630T110000
DTSTAMP:20260423T125820
CREATED:20251216T174224Z
LAST-MODIFIED:20260423T195307Z
UID:10022811-1782813600-1782817200@sjcc.org
SUMMARY:Fitness Class: Zumba
DESCRIPTION:Each week features a different “countdown” format—from descending reps and timed intervals to strength-focused sets and team-based challenges—so every class feels fresh\, engaging\, and effective.
URL:https://sjcc.org/event/fitness-class-zumba-2/2026-06-30/
LOCATION:Stroum Jewish Community Center\, 3801 E Mercer Way\, Mercer Island\, WA\, United States
CATEGORIES:Demographics: Adults,Demographics: Seniors (55+ better),Demographics: Young Adults,Fitness and Aquatics,Group Fitness Classes,Intermediate,Membership
ORGANIZER;CN="Stroum JCC":MAILTO:info@sjcc.org
GEO:47.576754;-122.206204
X-APPLE-STRUCTURED-LOCATION;VALUE=URI;X-ADDRESS=Stroum Jewish Community Center 3801 E Mercer Way Mercer Island WA United States;X-APPLE-RADIUS=500;X-TITLE=3801 E Mercer Way:geo:-122.206204,47.576754
END:VEVENT
BEGIN:VEVENT
DTSTART;TZID=America/Los_Angeles:20260701T083000
DTEND;TZID=America/Los_Angeles:20260701T093000
DTSTAMP:20260423T125820
CREATED:20251216T174339Z
LAST-MODIFIED:20260423T195241Z
UID:10022798-1782894600-1782898200@sjcc.org
SUMMARY:Fitness Class: Advanced Bootcamp - Wednesday
DESCRIPTION:Each week features a different “countdown” format—from descending reps and timed intervals to strength-focused sets and team-based challenges—so every class feels fresh\, engaging\, and effective.
URL:https://sjcc.org/event/fitness-class-advanced-bootcamp-wednesday/2026-07-01/
LOCATION:Stroum Jewish Community Center\, 3801 E Mercer Way\, Mercer Island\, WA\, United States
CATEGORIES:Advanced,Demographics: Adults,Demographics: Seniors (55+ better),Demographics: Young Adults,Exercise Studio,Fitness and Aquatics,Group Fitness Classes,Membership,Virtual SJCC
ORGANIZER;CN="Stroum JCC":MAILTO:info@sjcc.org
GEO:47.576754;-122.206204
X-APPLE-STRUCTURED-LOCATION;VALUE=URI;X-ADDRESS=Stroum Jewish Community Center 3801 E Mercer Way Mercer Island WA United States;X-APPLE-RADIUS=500;X-TITLE=3801 E Mercer Way:geo:-122.206204,47.576754
END:VEVENT
BEGIN:VEVENT
DTSTART;TZID=America/Los_Angeles:20260701T094500
DTEND;TZID=America/Los_Angeles:20260701T104500
DTSTAMP:20260423T125820
CREATED:20251216T174507Z
LAST-MODIFIED:20260423T194905Z
UID:10022771-1782899100-1782902700@sjcc.org
SUMMARY:Fitness Class: Restorative Stretch - Wednesday
DESCRIPTION:Each week features a different “countdown” format—from descending reps and timed intervals to strength-focused sets and team-based challenges—so every class feels fresh\, engaging\, and effective.
URL:https://sjcc.org/event/fitness-class-restorative-stretch-wednesday/2026-07-01/
LOCATION:Stroum Jewish Community Center\, 3801 E Mercer Way\, Mercer Island\, WA\, United States
CATEGORIES:Demographics: Adults,Demographics: Seniors (55+ better),Demographics: Young Adults,Exercise Studio,Fitness and Aquatics,Group Fitness Classes,Intermediate,Membership,Small Group at the J
ORGANIZER;CN="Stroum JCC":MAILTO:info@sjcc.org
GEO:47.576754;-122.206204
X-APPLE-STRUCTURED-LOCATION;VALUE=URI;X-ADDRESS=Stroum Jewish Community Center 3801 E Mercer Way Mercer Island WA United States;X-APPLE-RADIUS=500;X-TITLE=3801 E Mercer Way:geo:-122.206204,47.576754
END:VEVENT
BEGIN:VEVENT
DTSTART;TZID=America/Los_Angeles:20260701T110000
DTEND;TZID=America/Los_Angeles:20260701T120000
DTSTAMP:20260423T125820
CREATED:20260209T173452Z
LAST-MODIFIED:20260423T180202Z
UID:10022677-1782903600-1782907200@sjcc.org
SUMMARY:Fitness Class: Rock Steady Boxing Level 1/2
DESCRIPTION:Each week features a different “countdown” format—from descending reps and timed intervals to strength-focused sets and team-based challenges—so every class feels fresh\, engaging\, and effective.
URL:https://sjcc.org/event/fitness-class-rock-steady-boxing-level-1-2/2026-07-01/
LOCATION:Stroum Jewish Community Center\, 3801 E Mercer Way\, Mercer Island\, WA\, United States
CATEGORIES:Beginner,Demographics: Adults,Demographics: Seniors (55+ better),Demographics: Young Adults,Exercise Studio,Fitness and Aquatics,Group Fitness Classes
ORGANIZER;CN="Stroum JCC":MAILTO:info@sjcc.org
GEO:47.576754;-122.206204
X-APPLE-STRUCTURED-LOCATION;VALUE=URI;X-ADDRESS=Stroum Jewish Community Center 3801 E Mercer Way Mercer Island WA United States;X-APPLE-RADIUS=500;X-TITLE=3801 E Mercer Way:geo:-122.206204,47.576754
END:VEVENT
BEGIN:VEVENT
DTSTART;TZID=America/Los_Angeles:20260702T083000
DTEND;TZID=America/Los_Angeles:20260702T093000
DTSTAMP:20260423T125820
CREATED:20251216T174154Z
LAST-MODIFIED:20260423T195433Z
UID:10022824-1782981000-1782984600@sjcc.org
SUMMARY:Fitness Class: Step Class - Thursday
DESCRIPTION:Each week features a different “countdown” format—from descending reps and timed intervals to strength-focused sets and team-based challenges—so every class feels fresh\, engaging\, and effective.
URL:https://sjcc.org/event/fitness-class-step-class-thursday-2/2026-07-02/
LOCATION:Stroum Jewish Community Center\, 3801 E Mercer Way\, Mercer Island\, WA\, United States
CATEGORIES:Demographics: Adults,Demographics: Seniors (55+ better),Demographics: Young Adults,Exercise Studio,Fitness and Aquatics,Group Fitness Classes,Membership,Small Group at the J
ORGANIZER;CN="Stroum JCC":MAILTO:info@sjcc.org
GEO:47.576754;-122.206204
X-APPLE-STRUCTURED-LOCATION;VALUE=URI;X-ADDRESS=Stroum Jewish Community Center 3801 E Mercer Way Mercer Island WA United States;X-APPLE-RADIUS=500;X-TITLE=3801 E Mercer Way:geo:-122.206204,47.576754
END:VEVENT
BEGIN:VEVENT
DTSTART;TZID=America/Los_Angeles:20260702T090000
DTEND;TZID=America/Los_Angeles:20260702T100000
DTSTAMP:20260423T125821
CREATED:20260123T004410Z
LAST-MODIFIED:20260423T180246Z
UID:10022707-1782982800-1782986400@sjcc.org
SUMMARY:Fitness Class: Aqua Fit HIIT
DESCRIPTION:Each week features a different “countdown” format—from descending reps and timed intervals to strength-focused sets and team-based challenges—so every class feels fresh\, engaging\, and effective.
URL:https://sjcc.org/event/fitness-class-aqua-fit-hiit/2026-07-02/
LOCATION:Stroum Jewish Community Center\, 3801 E Mercer Way\, Mercer Island\, WA\, United States
CATEGORIES:Adults + Seniors,Beginner,Demographics: Adults,Demographics: Seniors (55+ better),Fitness and Aquatics,Group Fitness Classes,Membership,Pool,Swimming
ORGANIZER;CN="Stroum JCC":MAILTO:info@sjcc.org
GEO:47.576754;-122.206204
X-APPLE-STRUCTURED-LOCATION;VALUE=URI;X-ADDRESS=Stroum Jewish Community Center 3801 E Mercer Way Mercer Island WA United States;X-APPLE-RADIUS=500;X-TITLE=3801 E Mercer Way:geo:-122.206204,47.576754
END:VEVENT
BEGIN:VEVENT
DTSTART;TZID=America/Los_Angeles:20260702T094500
DTEND;TZID=America/Los_Angeles:20260702T104500
DTSTAMP:20260423T125821
CREATED:20251216T174544Z
LAST-MODIFIED:20260423T194756Z
UID:10022750-1782985500-1782989100@sjcc.org
SUMMARY:Fitness Class: Body Fit
DESCRIPTION:Each week features a different “countdown” format—from descending reps and timed intervals to strength-focused sets and team-based challenges—so every class feels fresh\, engaging\, and effective.
URL:https://sjcc.org/event/fitness-class-body-fit/2026-07-02/
LOCATION:Stroum Jewish Community Center\, 3801 E Mercer Way\, Mercer Island\, WA\, United States
CATEGORIES:Demographics: Adults,Demographics: Seniors (55+ better),Demographics: Young Adults,Exercise Studio,Fitness and Aquatics,Group Fitness Classes,Intermediate,Membership
ORGANIZER;CN="Stroum JCC":MAILTO:info@sjcc.org
GEO:47.576754;-122.206204
X-APPLE-STRUCTURED-LOCATION;VALUE=URI;X-ADDRESS=Stroum Jewish Community Center 3801 E Mercer Way Mercer Island WA United States;X-APPLE-RADIUS=500;X-TITLE=3801 E Mercer Way:geo:-122.206204,47.576754
END:VEVENT
BEGIN:VEVENT
DTSTART;TZID=America/Los_Angeles:20260702T110000
DTEND;TZID=America/Los_Angeles:20260702T114000
DTSTAMP:20260423T125821
CREATED:20260326T183514Z
LAST-MODIFIED:20260423T180107Z
UID:10022617-1782990000-1782992400@sjcc.org
SUMMARY:Fitness Class: Balance + Stability
DESCRIPTION:Each week features a different “countdown” format—from descending reps and timed intervals to strength-focused sets and team-based challenges—so every class feels fresh\, engaging\, and effective.
URL:https://sjcc.org/event/fitness-class-balance-stability/2026-07-02/
LOCATION:Stroum Jewish Community Center\, 3801 E Mercer Way\, Mercer Island\, WA\, United States
CATEGORIES:Beginner,Demographics: Adults,Demographics: Seniors (55+ better),Demographics: Young Adults,Exercise Studio,Fitness and Aquatics,Group Fitness Classes
ORGANIZER;CN="Stroum JCC":MAILTO:info@sjcc.org
GEO:47.576754;-122.206204
X-APPLE-STRUCTURED-LOCATION;VALUE=URI;X-ADDRESS=Stroum Jewish Community Center 3801 E Mercer Way Mercer Island WA United States;X-APPLE-RADIUS=500;X-TITLE=3801 E Mercer Way:geo:-122.206204,47.576754
END:VEVENT
BEGIN:VEVENT
DTSTART;TZID=America/Los_Angeles:20260703T061500
DTEND;TZID=America/Los_Angeles:20260703T071500
DTSTAMP:20260423T125821
CREATED:20260422T222537Z
LAST-MODIFIED:20260422T224405Z
UID:10022573-1783059300-1783062900@sjcc.org
SUMMARY:Fitness Class: Yoga Sculpt
DESCRIPTION:Each week features a different “countdown” format—from descending reps and timed intervals to strength-focused sets and team-based challenges—so every class feels fresh\, engaging\, and effective.
URL:https://sjcc.org/event/fitness-class-yoga-sculpt-2/2026-07-03/
LOCATION:Stroum Jewish Community Center\, 3801 E Mercer Way\, Mercer Island\, WA\, United States
CATEGORIES:Clinics + Workshops,Demographics,Demographics: Adults,Demographics: Seniors (55+ better),Demographics: Young Adults,Exercise Studio,Facilities,Fitness and Aquatics,Group Fitness Classes,Intermediate
ORGANIZER;CN="Stroum JCC":MAILTO:info@sjcc.org
GEO:47.576754;-122.206204
X-APPLE-STRUCTURED-LOCATION;VALUE=URI;X-ADDRESS=Stroum Jewish Community Center 3801 E Mercer Way Mercer Island WA United States;X-APPLE-RADIUS=500;X-TITLE=3801 E Mercer Way:geo:-122.206204,47.576754
END:VEVENT
BEGIN:VEVENT
DTSTART;TZID=America/Los_Angeles:20260703T110000
DTEND;TZID=America/Los_Angeles:20260703T120000
DTSTAMP:20260423T125821
CREATED:20260209T173452Z
LAST-MODIFIED:20260423T180202Z
UID:10022678-1783076400-1783080000@sjcc.org
SUMMARY:Fitness Class: Rock Steady Boxing Level 1/2
DESCRIPTION:Each week features a different “countdown” format—from descending reps and timed intervals to strength-focused sets and team-based challenges—so every class feels fresh\, engaging\, and effective.
URL:https://sjcc.org/event/fitness-class-rock-steady-boxing-level-1-2/2026-07-03/
LOCATION:Stroum Jewish Community Center\, 3801 E Mercer Way\, Mercer Island\, WA\, United States
CATEGORIES:Beginner,Demographics: Adults,Demographics: Seniors (55+ better),Demographics: Young Adults,Exercise Studio,Fitness and Aquatics,Group Fitness Classes
ORGANIZER;CN="Stroum JCC":MAILTO:info@sjcc.org
GEO:47.576754;-122.206204
X-APPLE-STRUCTURED-LOCATION;VALUE=URI;X-ADDRESS=Stroum Jewish Community Center 3801 E Mercer Way Mercer Island WA United States;X-APPLE-RADIUS=500;X-TITLE=3801 E Mercer Way:geo:-122.206204,47.576754
END:VEVENT
END:VCALENDAR