BEGIN:VCALENDAR
VERSION:2.0
PRODID:-//Stroum Jewish Community Center of Greater Seattle - ECPv6.15.20//NONSGML v1.0//EN
CALSCALE:GREGORIAN
METHOD:PUBLISH
X-WR-CALNAME:Stroum Jewish Community Center of Greater Seattle
X-ORIGINAL-URL:https://sjcc.org
X-WR-CALDESC:Events for Stroum Jewish Community Center of Greater Seattle
REFRESH-INTERVAL;VALUE=DURATION:PT1H
X-Robots-Tag:noindex
X-PUBLISHED-TTL:PT1H
BEGIN:VTIMEZONE
TZID:America/Los_Angeles
BEGIN:DAYLIGHT
TZOFFSETFROM:-0800
TZOFFSETTO:-0700
TZNAME:PDT
DTSTART:20250309T100000
END:DAYLIGHT
BEGIN:STANDARD
TZOFFSETFROM:-0700
TZOFFSETTO:-0800
TZNAME:PST
DTSTART:20251102T090000
END:STANDARD
BEGIN:DAYLIGHT
TZOFFSETFROM:-0800
TZOFFSETTO:-0700
TZNAME:PDT
DTSTART:20260308T100000
END:DAYLIGHT
BEGIN:STANDARD
TZOFFSETFROM:-0700
TZOFFSETTO:-0800
TZNAME:PST
DTSTART:20261101T090000
END:STANDARD
BEGIN:DAYLIGHT
TZOFFSETFROM:-0800
TZOFFSETTO:-0700
TZNAME:PDT
DTSTART:20270314T100000
END:DAYLIGHT
BEGIN:STANDARD
TZOFFSETFROM:-0700
TZOFFSETTO:-0800
TZNAME:PST
DTSTART:20271107T090000
END:STANDARD
END:VTIMEZONE
BEGIN:VEVENT
DTSTART;TZID=America/Los_Angeles:20260222T092000
DTEND;TZID=America/Los_Angeles:20260222T102000
DTSTAMP:20260421T164414
CREATED:20251216T173814Z
LAST-MODIFIED:20260420T161441Z
UID:10022506-1771752000-1771755600@sjcc.org
SUMMARY:Fitness Class: H.I.R.T. - Sunday
DESCRIPTION:Build strength while flowing through yoga in this energizing class that blends traditional yoga with light weights and functional strength exercises.
URL:https://sjcc.org/event/fitness-class-h-i-r-t-sunday-2/2026-02-22/
LOCATION:Stroum Jewish Community Center\, 3801 E Mercer Way\, Mercer Island\, WA\, United States
CATEGORIES:Demographics: Adults,Demographics: Seniors (55+ better),Demographics: Young Adults,Exercise Studio,Fitness and Aquatics,Group Fitness Classes,Intermediate,Membership
ORGANIZER;CN="Stroum JCC":MAILTO:info@sjcc.org
GEO:47.576754;-122.206204
X-APPLE-STRUCTURED-LOCATION;VALUE=URI;X-ADDRESS=Stroum Jewish Community Center 3801 E Mercer Way Mercer Island WA United States;X-APPLE-RADIUS=500;X-TITLE=3801 E Mercer Way:geo:-122.206204,47.576754
END:VEVENT
BEGIN:VEVENT
DTSTART;TZID=America/Los_Angeles:20260222T092000
DTEND;TZID=America/Los_Angeles:20260222T102000
DTSTAMP:20260421T164414
CREATED:20251216T174120Z
LAST-MODIFIED:20260420T160628Z
UID:10022485-1771752000-1771755600@sjcc.org
SUMMARY:Fitness Class: Restorative Stretch - Sunday
DESCRIPTION:Build strength while flowing through yoga in this energizing class that blends traditional yoga with light weights and functional strength exercises.
URL:https://sjcc.org/event/fitness-class-restorative-stretch-sunday/2026-02-22/
LOCATION:Stroum Jewish Community Center\, 3801 E Mercer Way\, Mercer Island\, WA\, United States
CATEGORIES:Demographics: Adults,Demographics: Seniors (55+ better),Demographics: Young Adults,Exercise Studio,Fitness and Aquatics,Group Fitness Classes,Intermediate,Membership
ORGANIZER;CN="Stroum JCC":MAILTO:info@sjcc.org
GEO:47.576754;-122.206204
X-APPLE-STRUCTURED-LOCATION;VALUE=URI;X-ADDRESS=Stroum Jewish Community Center 3801 E Mercer Way Mercer Island WA United States;X-APPLE-RADIUS=500;X-TITLE=3801 E Mercer Way:geo:-122.206204,47.576754
END:VEVENT
BEGIN:VEVENT
DTSTART;TZID=America/Los_Angeles:20260222T103000
DTEND;TZID=America/Los_Angeles:20260222T113000
DTSTAMP:20260421T164414
CREATED:20251216T173718Z
LAST-MODIFIED:20260213T192741Z
UID:10020577-1771756200-1771759800@sjcc.org
SUMMARY:Fitness Class: Step Class - Sunday
DESCRIPTION:Build strength while flowing through yoga in this energizing class that blends traditional yoga with light weights and functional strength exercises.
URL:https://sjcc.org/event/fitness-class-step-class-sunday/2026-02-22/
LOCATION:Stroum Jewish Community Center\, 3801 E Mercer Way\, Mercer Island\, WA\, United States
CATEGORIES:Demographics: Adults,Demographics: Seniors (55+ better),Demographics: Young Adults,Exercise Studio,Fitness and Aquatics,Group Fitness Classes,Intermediate,Membership
ORGANIZER;CN="Stroum JCC":MAILTO:info@sjcc.org
GEO:47.576754;-122.206204
X-APPLE-STRUCTURED-LOCATION;VALUE=URI;X-ADDRESS=Stroum Jewish Community Center 3801 E Mercer Way Mercer Island WA United States;X-APPLE-RADIUS=500;X-TITLE=3801 E Mercer Way:geo:-122.206204,47.576754
END:VEVENT
BEGIN:VEVENT
DTSTART;TZID=America/Los_Angeles:20260222T130000
DTEND;TZID=America/Los_Angeles:20260222T150000
DTSTAMP:20260421T164414
CREATED:20260109T170935Z
LAST-MODIFIED:20260213T193056Z
UID:10020837-1771765200-1771772400@sjcc.org
SUMMARY:Bone Health + Strength for Women
DESCRIPTION:Build strength while flowing through yoga in this energizing class that blends traditional yoga with light weights and functional strength exercises.
URL:https://sjcc.org/event/bone-health-strength-for-women/2026-02-22/
LOCATION:Stroum Jewish Community Center\, 3801 E Mercer Way\, Mercer Island\, WA\, United States
CATEGORIES:Adult Classes,Adults + Seniors,Beginner,Demographics,Demographics: Adults,Demographics: Seniors (55+ better),Fitness and Aquatics,Group Fitness Classes,Intermediate,J Community
ATTACH;FMTTYPE=image/jpeg:https://sjcc.org/wp-content/uploads/2026/01/260201-bone-strength-series-EVENT-1200-1.jpg
ORGANIZER;CN="Stroum JCC":MAILTO:info@sjcc.org
GEO:47.576754;-122.206204
X-APPLE-STRUCTURED-LOCATION;VALUE=URI;X-ADDRESS=Stroum Jewish Community Center 3801 E Mercer Way Mercer Island WA United States;X-APPLE-RADIUS=500;X-TITLE=3801 E Mercer Way:geo:-122.206204,47.576754
END:VEVENT
BEGIN:VEVENT
DTSTART;TZID=America/Los_Angeles:20260223T083000
DTEND;TZID=America/Los_Angeles:20260223T093000
DTSTAMP:20260421T164414
CREATED:20251216T173216Z
LAST-MODIFIED:20260112T204731Z
UID:10020663-1771835400-1771839000@sjcc.org
SUMMARY:Fitness Class: Pilates
DESCRIPTION:Build strength while flowing through yoga in this energizing class that blends traditional yoga with light weights and functional strength exercises.
URL:https://sjcc.org/event/fitness-class-pilates-2/2026-02-23/
LOCATION:Stroum Jewish Community Center\, 3801 E Mercer Way\, Mercer Island\, WA\, United States
CATEGORIES:Demographics: Adults,Demographics: Seniors (55+ better),Demographics: Young Adults,Exercise Studio,Fitness and Aquatics,Group Fitness Classes,Intermediate
ORGANIZER;CN="Stroum JCC":MAILTO:info@sjcc.org
GEO:47.576754;-122.206204
X-APPLE-STRUCTURED-LOCATION;VALUE=URI;X-ADDRESS=Stroum Jewish Community Center 3801 E Mercer Way Mercer Island WA United States;X-APPLE-RADIUS=500;X-TITLE=3801 E Mercer Way:geo:-122.206204,47.576754
END:VEVENT
BEGIN:VEVENT
DTSTART;TZID=America/Los_Angeles:20260223T094500
DTEND;TZID=America/Los_Angeles:20260223T104500
DTSTAMP:20260421T164414
CREATED:20251216T174415Z
LAST-MODIFIED:20260216T133914Z
UID:10020182-1771839900-1771843500@sjcc.org
SUMMARY:Fitness Class: Intermediate Bootcamp - Monday
DESCRIPTION:Build strength while flowing through yoga in this energizing class that blends traditional yoga with light weights and functional strength exercises.
URL:https://sjcc.org/event/fitness-class-intermediate-bootcamp-monday-2/2026-02-23/
LOCATION:Stroum Jewish Community Center\, 3801 E Mercer Way\, Mercer Island\, WA\, United States
CATEGORIES:Demographics: Adults,Demographics: Seniors (55+ better),Demographics: Young Adults,Exercise Studio,Fitness and Aquatics,Group Fitness Classes,Intermediate,Membership,Small Group at the J
ORGANIZER;CN="Stroum JCC":MAILTO:info@sjcc.org
GEO:47.576754;-122.206204
X-APPLE-STRUCTURED-LOCATION;VALUE=URI;X-ADDRESS=Stroum Jewish Community Center 3801 E Mercer Way Mercer Island WA United States;X-APPLE-RADIUS=500;X-TITLE=3801 E Mercer Way:geo:-122.206204,47.576754
END:VEVENT
BEGIN:VEVENT
DTSTART;TZID=America/Los_Angeles:20260223T174500
DTEND;TZID=America/Los_Angeles:20260223T183000
DTSTAMP:20260421T164414
CREATED:20251216T172740Z
LAST-MODIFIED:20260112T204749Z
UID:10020727-1771868700-1771871400@sjcc.org
SUMMARY:Fitness Class: Strength & Sweat
DESCRIPTION:Build strength while flowing through yoga in this energizing class that blends traditional yoga with light weights and functional strength exercises.
URL:https://sjcc.org/event/fitness-class-strength-sweat-2/2026-02-23/
LOCATION:Stroum Jewish Community Center\, 3801 E Mercer Way\, Mercer Island\, WA\, United States
CATEGORIES:Advanced,Demographics,Demographics: Adults,Demographics: Seniors (55+ better),Demographics: Young Adults,Fitness and Aquatics,Group Fitness Classes,Intermediate,Membership
ORGANIZER;CN="Stroum JCC":MAILTO:info@sjcc.org
GEO:47.576754;-122.206204
X-APPLE-STRUCTURED-LOCATION;VALUE=URI;X-ADDRESS=Stroum Jewish Community Center 3801 E Mercer Way Mercer Island WA United States;X-APPLE-RADIUS=500;X-TITLE=3801 E Mercer Way:geo:-122.206204,47.576754
END:VEVENT
BEGIN:VEVENT
DTSTART;TZID=America/Los_Angeles:20260224T094500
DTEND;TZID=America/Los_Angeles:20260224T104500
DTSTAMP:20260421T164414
CREATED:20251216T174544Z
LAST-MODIFIED:20260323T201245Z
UID:10020368-1771926300-1771929900@sjcc.org
SUMMARY:Fitness Class: Body Fit
DESCRIPTION:Build strength while flowing through yoga in this energizing class that blends traditional yoga with light weights and functional strength exercises.
URL:https://sjcc.org/event/fitness-class-body-fit/2026-02-24/
LOCATION:Stroum Jewish Community Center\, 3801 E Mercer Way\, Mercer Island\, WA\, United States
CATEGORIES:Demographics: Adults,Demographics: Seniors (55+ better),Demographics: Young Adults,Exercise Studio,Fitness and Aquatics,Group Fitness Classes,Intermediate,Membership
ORGANIZER;CN="Stroum JCC":MAILTO:info@sjcc.org
GEO:47.576754;-122.206204
X-APPLE-STRUCTURED-LOCATION;VALUE=URI;X-ADDRESS=Stroum Jewish Community Center 3801 E Mercer Way Mercer Island WA United States;X-APPLE-RADIUS=500;X-TITLE=3801 E Mercer Way:geo:-122.206204,47.576754
END:VEVENT
BEGIN:VEVENT
DTSTART;TZID=America/Los_Angeles:20260224T100000
DTEND;TZID=America/Los_Angeles:20260224T110000
DTSTAMP:20260421T164414
CREATED:20251216T174224Z
LAST-MODIFIED:20251216T174800Z
UID:10020446-1771927200-1771930800@sjcc.org
SUMMARY:Fitness Class: Zumba
DESCRIPTION:Build strength while flowing through yoga in this energizing class that blends traditional yoga with light weights and functional strength exercises.
URL:https://sjcc.org/event/fitness-class-zumba-2/2026-02-24/
LOCATION:Stroum Jewish Community Center\, 3801 E Mercer Way\, Mercer Island\, WA\, United States
CATEGORIES:Demographics: Adults,Demographics: Seniors (55+ better),Demographics: Young Adults,Fitness and Aquatics,Group Fitness Classes,Intermediate,Membership
ORGANIZER;CN="Stroum JCC":MAILTO:info@sjcc.org
GEO:47.576754;-122.206204
X-APPLE-STRUCTURED-LOCATION;VALUE=URI;X-ADDRESS=Stroum Jewish Community Center 3801 E Mercer Way Mercer Island WA United States;X-APPLE-RADIUS=500;X-TITLE=3801 E Mercer Way:geo:-122.206204,47.576754
END:VEVENT
BEGIN:VEVENT
DTSTART;TZID=America/Los_Angeles:20260224T163000
DTEND;TZID=America/Los_Angeles:20260224T173000
DTSTAMP:20260421T164414
CREATED:20251216T172820Z
LAST-MODIFIED:20260420T170037Z
UID:10020706-1771950600-1771954200@sjcc.org
SUMMARY:Fitness Class: H.I.R.T - T/TH
DESCRIPTION:Build strength while flowing through yoga in this energizing class that blends traditional yoga with light weights and functional strength exercises.
URL:https://sjcc.org/event/fitness-class-h-i-r-t-t-th/2026-02-24/
LOCATION:Stroum Jewish Community Center\, 3801 E Mercer Way\, Mercer Island\, WA\, United States
CATEGORIES:Demographics: Adults,Demographics: Seniors (55+ better),Demographics: Young Adults,Exercise Studio,Fitness and Aquatics,Group Fitness Classes,Intermediate,Membership
ORGANIZER;CN="Stroum JCC":MAILTO:info@sjcc.org
GEO:47.576754;-122.206204
X-APPLE-STRUCTURED-LOCATION;VALUE=URI;X-ADDRESS=Stroum Jewish Community Center 3801 E Mercer Way Mercer Island WA United States;X-APPLE-RADIUS=500;X-TITLE=3801 E Mercer Way:geo:-122.206204,47.576754
END:VEVENT
BEGIN:VEVENT
DTSTART;TZID=America/Los_Angeles:20260225T094500
DTEND;TZID=America/Los_Angeles:20260225T104500
DTSTAMP:20260421T164414
CREATED:20251216T174507Z
LAST-MODIFIED:20251216T174507Z
UID:10020339-1772012700-1772016300@sjcc.org
SUMMARY:Fitness Class: Restorative Stretch - Wednesday
DESCRIPTION:Build strength while flowing through yoga in this energizing class that blends traditional yoga with light weights and functional strength exercises.
URL:https://sjcc.org/event/fitness-class-restorative-stretch-wednesday/2026-02-25/
LOCATION:Stroum Jewish Community Center\, 3801 E Mercer Way\, Mercer Island\, WA\, United States
CATEGORIES:Demographics: Adults,Demographics: Seniors (55+ better),Demographics: Young Adults,Exercise Studio,Fitness and Aquatics,Group Fitness Classes,Intermediate,Membership,Small Group at the J
ORGANIZER;CN="Stroum JCC":MAILTO:info@sjcc.org
GEO:47.576754;-122.206204
X-APPLE-STRUCTURED-LOCATION;VALUE=URI;X-ADDRESS=Stroum Jewish Community Center 3801 E Mercer Way Mercer Island WA United States;X-APPLE-RADIUS=500;X-TITLE=3801 E Mercer Way:geo:-122.206204,47.576754
END:VEVENT
BEGIN:VEVENT
DTSTART;TZID=America/Los_Angeles:20260225T110000
DTEND;TZID=America/Los_Angeles:20260225T120000
DTSTAMP:20260421T164414
CREATED:20251216T172546Z
LAST-MODIFIED:20251216T175435Z
UID:10020770-1772017200-1772020800@sjcc.org
SUMMARY:Fitness Class: Chair Yoga
DESCRIPTION:Build strength while flowing through yoga in this energizing class that blends traditional yoga with light weights and functional strength exercises.
URL:https://sjcc.org/event/fitness-class-chair-yoga-2/2026-02-25/
LOCATION:Stroum Jewish Community Center\, 3801 E Mercer Way\, Mercer Island\, WA\, United States
CATEGORIES:Adults + Seniors,Demographics: Adults,Demographics: Seniors (55+ better),Exercise Studio,Fitness and Aquatics,Group Fitness Classes,Intermediate,Membership
ORGANIZER;CN="Stroum JCC":MAILTO:info@sjcc.org
GEO:47.576754;-122.206204
X-APPLE-STRUCTURED-LOCATION;VALUE=URI;X-ADDRESS=Stroum Jewish Community Center 3801 E Mercer Way Mercer Island WA United States;X-APPLE-RADIUS=500;X-TITLE=3801 E Mercer Way:geo:-122.206204,47.576754
END:VEVENT
BEGIN:VEVENT
DTSTART;TZID=America/Los_Angeles:20260226T094500
DTEND;TZID=America/Los_Angeles:20260226T104500
DTSTAMP:20260421T164414
CREATED:20251216T174544Z
LAST-MODIFIED:20260323T201245Z
UID:10020369-1772099100-1772102700@sjcc.org
SUMMARY:Fitness Class: Body Fit
DESCRIPTION:Build strength while flowing through yoga in this energizing class that blends traditional yoga with light weights and functional strength exercises.
URL:https://sjcc.org/event/fitness-class-body-fit/2026-02-26/
LOCATION:Stroum Jewish Community Center\, 3801 E Mercer Way\, Mercer Island\, WA\, United States
CATEGORIES:Demographics: Adults,Demographics: Seniors (55+ better),Demographics: Young Adults,Exercise Studio,Fitness and Aquatics,Group Fitness Classes,Intermediate,Membership
ORGANIZER;CN="Stroum JCC":MAILTO:info@sjcc.org
GEO:47.576754;-122.206204
X-APPLE-STRUCTURED-LOCATION;VALUE=URI;X-ADDRESS=Stroum Jewish Community Center 3801 E Mercer Way Mercer Island WA United States;X-APPLE-RADIUS=500;X-TITLE=3801 E Mercer Way:geo:-122.206204,47.576754
END:VEVENT
BEGIN:VEVENT
DTSTART;TZID=America/Los_Angeles:20260226T163000
DTEND;TZID=America/Los_Angeles:20260226T173000
DTSTAMP:20260421T164414
CREATED:20251216T172820Z
LAST-MODIFIED:20260420T170037Z
UID:10019172-1772123400-1772127000@sjcc.org
SUMMARY:Fitness Class: H.I.R.T - T/TH
DESCRIPTION:Build strength while flowing through yoga in this energizing class that blends traditional yoga with light weights and functional strength exercises.
URL:https://sjcc.org/event/fitness-class-h-i-r-t-t-th/2026-02-26/
LOCATION:Stroum Jewish Community Center\, 3801 E Mercer Way\, Mercer Island\, WA\, United States
CATEGORIES:Demographics: Adults,Demographics: Seniors (55+ better),Demographics: Young Adults,Exercise Studio,Fitness and Aquatics,Group Fitness Classes,Intermediate,Membership
ORGANIZER;CN="Stroum JCC":MAILTO:info@sjcc.org
GEO:47.576754;-122.206204
X-APPLE-STRUCTURED-LOCATION;VALUE=URI;X-ADDRESS=Stroum Jewish Community Center 3801 E Mercer Way Mercer Island WA United States;X-APPLE-RADIUS=500;X-TITLE=3801 E Mercer Way:geo:-122.206204,47.576754
END:VEVENT
BEGIN:VEVENT
DTSTART;TZID=America/Los_Angeles:20260227T071500
DTEND;TZID=America/Los_Angeles:20260227T081500
DTSTAMP:20260421T164414
CREATED:20251216T173143Z
LAST-MODIFIED:20251216T175231Z
UID:10020685-1772176500-1772180100@sjcc.org
SUMMARY:Fitness Class: Ageless Strength Training
DESCRIPTION:Build strength while flowing through yoga in this energizing class that blends traditional yoga with light weights and functional strength exercises.
URL:https://sjcc.org/event/fitness-class-ageless-strength-training/2026-02-27/
LOCATION:Stroum Jewish Community Center\, 3801 E Mercer Way\, Mercer Island\, WA\, United States
CATEGORIES:Demographics: Adults,Demographics: Seniors (55+ better),Exercise Studio,Fitness and Aquatics,Group Fitness Classes,Intermediate,Membership
ORGANIZER;CN="Stroum JCC":MAILTO:info@sjcc.org
GEO:47.576754;-122.206204
X-APPLE-STRUCTURED-LOCATION;VALUE=URI;X-ADDRESS=Stroum Jewish Community Center 3801 E Mercer Way Mercer Island WA United States;X-APPLE-RADIUS=500;X-TITLE=3801 E Mercer Way:geo:-122.206204,47.576754
END:VEVENT
BEGIN:VEVENT
DTSTART;TZID=America/Los_Angeles:20260227T083000
DTEND;TZID=America/Los_Angeles:20260227T093000
DTSTAMP:20260421T164414
CREATED:20251216T173603Z
LAST-MODIFIED:20251216T175101Z
UID:10020600-1772181000-1772184600@sjcc.org
SUMMARY:Fitness Class: Intermediate Slow Flow Yoga
DESCRIPTION:Build strength while flowing through yoga in this energizing class that blends traditional yoga with light weights and functional strength exercises.
URL:https://sjcc.org/event/fitness-class-intermediate-slow-flow-yoga-2/2026-02-27/
LOCATION:Stroum Jewish Community Center\, 3801 E Mercer Way\, Mercer Island\, WA\, United States
CATEGORIES:Demographics: Adults,Demographics: Seniors (55+ better),Demographics: Young Adults,Exercise Studio,Fitness and Aquatics,Group Fitness Classes,Intermediate,Membership,Virtual SJCC
ORGANIZER;CN="Stroum JCC":MAILTO:info@sjcc.org
GEO:47.576754;-122.206204
X-APPLE-STRUCTURED-LOCATION;VALUE=URI;X-ADDRESS=Stroum Jewish Community Center 3801 E Mercer Way Mercer Island WA United States;X-APPLE-RADIUS=500;X-TITLE=3801 E Mercer Way:geo:-122.206204,47.576754
END:VEVENT
BEGIN:VEVENT
DTSTART;TZID=America/Los_Angeles:20260227T103000
DTEND;TZID=America/Los_Angeles:20260227T113000
DTSTAMP:20260421T164414
CREATED:20251216T173847Z
LAST-MODIFIED:20260420T161311Z
UID:10020512-1772188200-1772191800@sjcc.org
SUMMARY:Fitness Class: Tai Chi
DESCRIPTION:Build strength while flowing through yoga in this energizing class that blends traditional yoga with light weights and functional strength exercises.
URL:https://sjcc.org/event/fitness-class-tai-chi-2/2026-02-27/
LOCATION:Stroum Jewish Community Center\, 3801 E Mercer Way\, Mercer Island\, WA\, United States
CATEGORIES:Adults + Seniors,Demographics: Adults,Demographics: Seniors (55+ better),Demographics: Young Adults,Exercise Studio,Fitness and Aquatics,Group Fitness Classes,Intermediate,Membership
ORGANIZER;CN="Stroum JCC":MAILTO:info@sjcc.org
GEO:47.576754;-122.206204
X-APPLE-STRUCTURED-LOCATION;VALUE=URI;X-ADDRESS=Stroum Jewish Community Center 3801 E Mercer Way Mercer Island WA United States;X-APPLE-RADIUS=500;X-TITLE=3801 E Mercer Way:geo:-122.206204,47.576754
END:VEVENT
BEGIN:VEVENT
DTSTART;TZID=America/Los_Angeles:20260227T163000
DTEND;TZID=America/Los_Angeles:20260227T173000
DTSTAMP:20260421T164414
CREATED:20251215T215356Z
LAST-MODIFIED:20260313T174135Z
UID:10018896-1772209800-1772213400@sjcc.org
SUMMARY:Fitness Class: Power Yoga
DESCRIPTION:Build strength while flowing through yoga in this energizing class that blends traditional yoga with light weights and functional strength exercises.
URL:https://sjcc.org/event/fitness-class-power-yoga/2026-02-27/
LOCATION:Stroum Jewish Community Center\, 3801 E Mercer Way\, Mercer Island\, WA\, United States
CATEGORIES:Demographics: Adults,Demographics: Seniors (55+ better),Exercise Studio,Fitness and Aquatics,Group Fitness Classes,Intermediate,Membership
ORGANIZER;CN="Stroum JCC":MAILTO:info@sjcc.org
GEO:47.576754;-122.206204
X-APPLE-STRUCTURED-LOCATION;VALUE=URI;X-ADDRESS=Stroum Jewish Community Center 3801 E Mercer Way Mercer Island WA United States;X-APPLE-RADIUS=500;X-TITLE=3801 E Mercer Way:geo:-122.206204,47.576754
END:VEVENT
BEGIN:VEVENT
DTSTART;TZID=America/Los_Angeles:20260228T081500
DTEND;TZID=America/Los_Angeles:20260228T091500
DTSTAMP:20260421T164414
CREATED:20251216T172707Z
LAST-MODIFIED:20251216T175419Z
UID:10020749-1772266500-1772270100@sjcc.org
SUMMARY:Fitness Class: H.I.I.T.
DESCRIPTION:Build strength while flowing through yoga in this energizing class that blends traditional yoga with light weights and functional strength exercises.
URL:https://sjcc.org/event/fitness-class-h-i-i-t-3/2026-02-28/
LOCATION:Stroum Jewish Community Center\, 3801 E Mercer Way\, Mercer Island\, WA\, United States
CATEGORIES:Demographics: Adults,Demographics: Seniors (55+ better),Demographics: Young Adults,Exercise Studio,Fitness and Aquatics,Group Fitness Classes,Intermediate,Membership
ORGANIZER;CN="Stroum JCC":MAILTO:info@sjcc.org
GEO:47.576754;-122.206204
X-APPLE-STRUCTURED-LOCATION;VALUE=URI;X-ADDRESS=Stroum Jewish Community Center 3801 E Mercer Way Mercer Island WA United States;X-APPLE-RADIUS=500;X-TITLE=3801 E Mercer Way:geo:-122.206204,47.576754
END:VEVENT
BEGIN:VEVENT
DTSTART;TZID=America/Los_Angeles:20260228T093000
DTEND;TZID=America/Los_Angeles:20260228T103000
DTSTAMP:20260421T164414
CREATED:20251216T173918Z
LAST-MODIFIED:20251216T174911Z
UID:10020490-1772271000-1772274600@sjcc.org
SUMMARY:Fitness Class: H.I.I.T.
DESCRIPTION:Build strength while flowing through yoga in this energizing class that blends traditional yoga with light weights and functional strength exercises.
URL:https://sjcc.org/event/fitness-class-h-i-i-t-4/2026-02-28/
LOCATION:Stroum Jewish Community Center\, 3801 E Mercer Way\, Mercer Island\, WA\, United States
CATEGORIES:Demographics: Adults,Demographics: Seniors (55+ better),Demographics: Young Adults,Exercise Studio,Fitness and Aquatics,Group Fitness Classes,Intermediate,Membership
ORGANIZER;CN="Stroum JCC":MAILTO:info@sjcc.org
GEO:47.576754;-122.206204
X-APPLE-STRUCTURED-LOCATION;VALUE=URI;X-ADDRESS=Stroum Jewish Community Center 3801 E Mercer Way Mercer Island WA United States;X-APPLE-RADIUS=500;X-TITLE=3801 E Mercer Way:geo:-122.206204,47.576754
END:VEVENT
END:VCALENDAR