BEGIN:VCALENDAR
VERSION:2.0
PRODID:-//Stroum Jewish Community Center of Greater Seattle - ECPv6.15.20//NONSGML v1.0//EN
CALSCALE:GREGORIAN
METHOD:PUBLISH
X-ORIGINAL-URL:https://sjcc.org
X-WR-CALDESC:Events for Stroum Jewish Community Center of Greater Seattle
REFRESH-INTERVAL;VALUE=DURATION:PT1H
X-Robots-Tag:noindex
X-PUBLISHED-TTL:PT1H
BEGIN:VTIMEZONE
TZID:America/Los_Angeles
BEGIN:DAYLIGHT
TZOFFSETFROM:-0800
TZOFFSETTO:-0700
TZNAME:PDT
DTSTART:20250309T100000
END:DAYLIGHT
BEGIN:STANDARD
TZOFFSETFROM:-0700
TZOFFSETTO:-0800
TZNAME:PST
DTSTART:20251102T090000
END:STANDARD
BEGIN:DAYLIGHT
TZOFFSETFROM:-0800
TZOFFSETTO:-0700
TZNAME:PDT
DTSTART:20260308T100000
END:DAYLIGHT
BEGIN:STANDARD
TZOFFSETFROM:-0700
TZOFFSETTO:-0800
TZNAME:PST
DTSTART:20261101T090000
END:STANDARD
BEGIN:DAYLIGHT
TZOFFSETFROM:-0800
TZOFFSETTO:-0700
TZNAME:PDT
DTSTART:20270314T100000
END:DAYLIGHT
BEGIN:STANDARD
TZOFFSETFROM:-0700
TZOFFSETTO:-0800
TZNAME:PST
DTSTART:20271107T090000
END:STANDARD
END:VTIMEZONE
BEGIN:VEVENT
DTSTART;TZID=America/Los_Angeles:20260208T092000
DTEND;TZID=America/Los_Angeles:20260208T102000
DTSTAMP:20260421T181501
CREATED:20251216T173814Z
LAST-MODIFIED:20260420T161441Z
UID:10022504-1770542400-1770546000@sjcc.org
SUMMARY:Fitness Class: H.I.R.T. - Sunday
DESCRIPTION:Build strength while flowing through yoga in this energizing class that blends traditional yoga with light weights and functional strength exercises.
URL:https://sjcc.org/event/fitness-class-h-i-r-t-sunday-2/2026-02-08/
LOCATION:Stroum Jewish Community Center\, 3801 E Mercer Way\, Mercer Island\, WA\, United States
CATEGORIES:Demographics: Adults,Demographics: Seniors (55+ better),Demographics: Young Adults,Exercise Studio,Fitness and Aquatics,Group Fitness Classes,Intermediate,Membership
ORGANIZER;CN="Stroum JCC":MAILTO:info@sjcc.org
GEO:47.576754;-122.206204
X-APPLE-STRUCTURED-LOCATION;VALUE=URI;X-ADDRESS=Stroum Jewish Community Center 3801 E Mercer Way Mercer Island WA United States;X-APPLE-RADIUS=500;X-TITLE=3801 E Mercer Way:geo:-122.206204,47.576754
END:VEVENT
BEGIN:VEVENT
DTSTART;TZID=America/Los_Angeles:20260208T092000
DTEND;TZID=America/Los_Angeles:20260208T102000
DTSTAMP:20260421T181501
CREATED:20251216T174120Z
LAST-MODIFIED:20260420T160628Z
UID:10022483-1770542400-1770546000@sjcc.org
SUMMARY:Fitness Class: Restorative Stretch - Sunday
DESCRIPTION:Build strength while flowing through yoga in this energizing class that blends traditional yoga with light weights and functional strength exercises.
URL:https://sjcc.org/event/fitness-class-restorative-stretch-sunday/2026-02-08/
LOCATION:Stroum Jewish Community Center\, 3801 E Mercer Way\, Mercer Island\, WA\, United States
CATEGORIES:Demographics: Adults,Demographics: Seniors (55+ better),Demographics: Young Adults,Exercise Studio,Fitness and Aquatics,Group Fitness Classes,Intermediate,Membership
ORGANIZER;CN="Stroum JCC":MAILTO:info@sjcc.org
GEO:47.576754;-122.206204
X-APPLE-STRUCTURED-LOCATION;VALUE=URI;X-ADDRESS=Stroum Jewish Community Center 3801 E Mercer Way Mercer Island WA United States;X-APPLE-RADIUS=500;X-TITLE=3801 E Mercer Way:geo:-122.206204,47.576754
END:VEVENT
BEGIN:VEVENT
DTSTART;TZID=America/Los_Angeles:20260208T103000
DTEND;TZID=America/Los_Angeles:20260208T113000
DTSTAMP:20260421T181501
CREATED:20251216T173718Z
LAST-MODIFIED:20260213T192741Z
UID:10020575-1770546600-1770550200@sjcc.org
SUMMARY:Fitness Class: Step Class - Sunday
DESCRIPTION:Build strength while flowing through yoga in this energizing class that blends traditional yoga with light weights and functional strength exercises.
URL:https://sjcc.org/event/fitness-class-step-class-sunday/2026-02-08/
LOCATION:Stroum Jewish Community Center\, 3801 E Mercer Way\, Mercer Island\, WA\, United States
CATEGORIES:Demographics: Adults,Demographics: Seniors (55+ better),Demographics: Young Adults,Exercise Studio,Fitness and Aquatics,Group Fitness Classes,Intermediate,Membership
ORGANIZER;CN="Stroum JCC":MAILTO:info@sjcc.org
GEO:47.576754;-122.206204
X-APPLE-STRUCTURED-LOCATION;VALUE=URI;X-ADDRESS=Stroum Jewish Community Center 3801 E Mercer Way Mercer Island WA United States;X-APPLE-RADIUS=500;X-TITLE=3801 E Mercer Way:geo:-122.206204,47.576754
END:VEVENT
BEGIN:VEVENT
DTSTART;TZID=America/Los_Angeles:20260209T083000
DTEND;TZID=America/Los_Angeles:20260209T093000
DTSTAMP:20260421T181501
CREATED:20251216T173216Z
LAST-MODIFIED:20260112T204731Z
UID:10020661-1770625800-1770629400@sjcc.org
SUMMARY:Fitness Class: Pilates
DESCRIPTION:Build strength while flowing through yoga in this energizing class that blends traditional yoga with light weights and functional strength exercises.
URL:https://sjcc.org/event/fitness-class-pilates-2/2026-02-09/
LOCATION:Stroum Jewish Community Center\, 3801 E Mercer Way\, Mercer Island\, WA\, United States
CATEGORIES:Demographics: Adults,Demographics: Seniors (55+ better),Demographics: Young Adults,Exercise Studio,Fitness and Aquatics,Group Fitness Classes,Intermediate
ORGANIZER;CN="Stroum JCC":MAILTO:info@sjcc.org
GEO:47.576754;-122.206204
X-APPLE-STRUCTURED-LOCATION;VALUE=URI;X-ADDRESS=Stroum Jewish Community Center 3801 E Mercer Way Mercer Island WA United States;X-APPLE-RADIUS=500;X-TITLE=3801 E Mercer Way:geo:-122.206204,47.576754
END:VEVENT
BEGIN:VEVENT
DTSTART;TZID=America/Los_Angeles:20260209T094500
DTEND;TZID=America/Los_Angeles:20260209T104500
DTSTAMP:20260421T181501
CREATED:20251216T174415Z
LAST-MODIFIED:20260216T133914Z
UID:10020180-1770630300-1770633900@sjcc.org
SUMMARY:Fitness Class: Intermediate Bootcamp - Monday
DESCRIPTION:Build strength while flowing through yoga in this energizing class that blends traditional yoga with light weights and functional strength exercises.
URL:https://sjcc.org/event/fitness-class-intermediate-bootcamp-monday-2/2026-02-09/
LOCATION:Stroum Jewish Community Center\, 3801 E Mercer Way\, Mercer Island\, WA\, United States
CATEGORIES:Demographics: Adults,Demographics: Seniors (55+ better),Demographics: Young Adults,Exercise Studio,Fitness and Aquatics,Group Fitness Classes,Intermediate,Membership,Small Group at the J
ORGANIZER;CN="Stroum JCC":MAILTO:info@sjcc.org
GEO:47.576754;-122.206204
X-APPLE-STRUCTURED-LOCATION;VALUE=URI;X-ADDRESS=Stroum Jewish Community Center 3801 E Mercer Way Mercer Island WA United States;X-APPLE-RADIUS=500;X-TITLE=3801 E Mercer Way:geo:-122.206204,47.576754
END:VEVENT
BEGIN:VEVENT
DTSTART;TZID=America/Los_Angeles:20260209T174500
DTEND;TZID=America/Los_Angeles:20260209T183000
DTSTAMP:20260421T181501
CREATED:20251216T172740Z
LAST-MODIFIED:20260112T204749Z
UID:10020725-1770659100-1770661800@sjcc.org
SUMMARY:Fitness Class: Strength & Sweat
DESCRIPTION:Build strength while flowing through yoga in this energizing class that blends traditional yoga with light weights and functional strength exercises.
URL:https://sjcc.org/event/fitness-class-strength-sweat-2/2026-02-09/
LOCATION:Stroum Jewish Community Center\, 3801 E Mercer Way\, Mercer Island\, WA\, United States
CATEGORIES:Advanced,Demographics,Demographics: Adults,Demographics: Seniors (55+ better),Demographics: Young Adults,Fitness and Aquatics,Group Fitness Classes,Intermediate,Membership
ORGANIZER;CN="Stroum JCC":MAILTO:info@sjcc.org
GEO:47.576754;-122.206204
X-APPLE-STRUCTURED-LOCATION;VALUE=URI;X-ADDRESS=Stroum Jewish Community Center 3801 E Mercer Way Mercer Island WA United States;X-APPLE-RADIUS=500;X-TITLE=3801 E Mercer Way:geo:-122.206204,47.576754
END:VEVENT
BEGIN:VEVENT
DTSTART;TZID=America/Los_Angeles:20260210T083000
DTEND;TZID=America/Los_Angeles:20260210T093000
DTSTAMP:20260421T181501
CREATED:20251216T174616Z
LAST-MODIFIED:20260224T155543Z
UID:10020401-1770712200-1770715800@sjcc.org
SUMMARY:Fitness Class: TRX Suspension Training
DESCRIPTION:Build strength while flowing through yoga in this energizing class that blends traditional yoga with light weights and functional strength exercises.
URL:https://sjcc.org/event/fitness-class-trx-suspension-training-2/2026-02-10/
LOCATION:Stroum Jewish Community Center\, 3801 E Mercer Way\, Mercer Island\, WA\, United States
CATEGORIES:Demographics: Adults,Demographics: Young Adults,Exercise Studio,Fitness and Aquatics,Group Fitness Classes,Intermediate,Membership
ORGANIZER;CN="Stroum JCC":MAILTO:info@sjcc.org
GEO:47.576754;-122.206204
X-APPLE-STRUCTURED-LOCATION;VALUE=URI;X-ADDRESS=Stroum Jewish Community Center 3801 E Mercer Way Mercer Island WA United States;X-APPLE-RADIUS=500;X-TITLE=3801 E Mercer Way:geo:-122.206204,47.576754
END:VEVENT
BEGIN:VEVENT
DTSTART;TZID=America/Los_Angeles:20260210T094500
DTEND;TZID=America/Los_Angeles:20260210T104500
DTSTAMP:20260421T181501
CREATED:20251216T174544Z
LAST-MODIFIED:20260323T201245Z
UID:10020364-1770716700-1770720300@sjcc.org
SUMMARY:Fitness Class: Body Fit
DESCRIPTION:Build strength while flowing through yoga in this energizing class that blends traditional yoga with light weights and functional strength exercises.
URL:https://sjcc.org/event/fitness-class-body-fit/2026-02-10/
LOCATION:Stroum Jewish Community Center\, 3801 E Mercer Way\, Mercer Island\, WA\, United States
CATEGORIES:Demographics: Adults,Demographics: Seniors (55+ better),Demographics: Young Adults,Exercise Studio,Fitness and Aquatics,Group Fitness Classes,Intermediate,Membership
ORGANIZER;CN="Stroum JCC":MAILTO:info@sjcc.org
GEO:47.576754;-122.206204
X-APPLE-STRUCTURED-LOCATION;VALUE=URI;X-ADDRESS=Stroum Jewish Community Center 3801 E Mercer Way Mercer Island WA United States;X-APPLE-RADIUS=500;X-TITLE=3801 E Mercer Way:geo:-122.206204,47.576754
END:VEVENT
BEGIN:VEVENT
DTSTART;TZID=America/Los_Angeles:20260210T100000
DTEND;TZID=America/Los_Angeles:20260210T110000
DTSTAMP:20260421T181501
CREATED:20251216T174224Z
LAST-MODIFIED:20251216T174800Z
UID:10020444-1770717600-1770721200@sjcc.org
SUMMARY:Fitness Class: Zumba
DESCRIPTION:Build strength while flowing through yoga in this energizing class that blends traditional yoga with light weights and functional strength exercises.
URL:https://sjcc.org/event/fitness-class-zumba-2/2026-02-10/
LOCATION:Stroum Jewish Community Center\, 3801 E Mercer Way\, Mercer Island\, WA\, United States
CATEGORIES:Demographics: Adults,Demographics: Seniors (55+ better),Demographics: Young Adults,Fitness and Aquatics,Group Fitness Classes,Intermediate,Membership
ORGANIZER;CN="Stroum JCC":MAILTO:info@sjcc.org
GEO:47.576754;-122.206204
X-APPLE-STRUCTURED-LOCATION;VALUE=URI;X-ADDRESS=Stroum Jewish Community Center 3801 E Mercer Way Mercer Island WA United States;X-APPLE-RADIUS=500;X-TITLE=3801 E Mercer Way:geo:-122.206204,47.576754
END:VEVENT
BEGIN:VEVENT
DTSTART;TZID=America/Los_Angeles:20260210T163000
DTEND;TZID=America/Los_Angeles:20260210T173000
DTSTAMP:20260421T181501
CREATED:20251216T172820Z
LAST-MODIFIED:20260420T170037Z
UID:10020704-1770741000-1770744600@sjcc.org
SUMMARY:Fitness Class: H.I.R.T - T/TH
DESCRIPTION:Build strength while flowing through yoga in this energizing class that blends traditional yoga with light weights and functional strength exercises.
URL:https://sjcc.org/event/fitness-class-h-i-r-t-t-th/2026-02-10/
LOCATION:Stroum Jewish Community Center\, 3801 E Mercer Way\, Mercer Island\, WA\, United States
CATEGORIES:Demographics: Adults,Demographics: Seniors (55+ better),Demographics: Young Adults,Exercise Studio,Fitness and Aquatics,Group Fitness Classes,Intermediate,Membership
ORGANIZER;CN="Stroum JCC":MAILTO:info@sjcc.org
GEO:47.576754;-122.206204
X-APPLE-STRUCTURED-LOCATION;VALUE=URI;X-ADDRESS=Stroum Jewish Community Center 3801 E Mercer Way Mercer Island WA United States;X-APPLE-RADIUS=500;X-TITLE=3801 E Mercer Way:geo:-122.206204,47.576754
END:VEVENT
BEGIN:VEVENT
DTSTART;TZID=America/Los_Angeles:20260211T094500
DTEND;TZID=America/Los_Angeles:20260211T104500
DTSTAMP:20260421T181501
CREATED:20251216T174507Z
LAST-MODIFIED:20251216T174507Z
UID:10020337-1770803100-1770806700@sjcc.org
SUMMARY:Fitness Class: Restorative Stretch - Wednesday
DESCRIPTION:Build strength while flowing through yoga in this energizing class that blends traditional yoga with light weights and functional strength exercises.
URL:https://sjcc.org/event/fitness-class-restorative-stretch-wednesday/2026-02-11/
LOCATION:Stroum Jewish Community Center\, 3801 E Mercer Way\, Mercer Island\, WA\, United States
CATEGORIES:Demographics: Adults,Demographics: Seniors (55+ better),Demographics: Young Adults,Exercise Studio,Fitness and Aquatics,Group Fitness Classes,Intermediate,Membership,Small Group at the J
ORGANIZER;CN="Stroum JCC":MAILTO:info@sjcc.org
GEO:47.576754;-122.206204
X-APPLE-STRUCTURED-LOCATION;VALUE=URI;X-ADDRESS=Stroum Jewish Community Center 3801 E Mercer Way Mercer Island WA United States;X-APPLE-RADIUS=500;X-TITLE=3801 E Mercer Way:geo:-122.206204,47.576754
END:VEVENT
BEGIN:VEVENT
DTSTART;TZID=America/Los_Angeles:20260211T110000
DTEND;TZID=America/Los_Angeles:20260211T120000
DTSTAMP:20260421T181501
CREATED:20251216T172546Z
LAST-MODIFIED:20251216T175435Z
UID:10020768-1770807600-1770811200@sjcc.org
SUMMARY:Fitness Class: Chair Yoga
DESCRIPTION:Build strength while flowing through yoga in this energizing class that blends traditional yoga with light weights and functional strength exercises.
URL:https://sjcc.org/event/fitness-class-chair-yoga-2/2026-02-11/
LOCATION:Stroum Jewish Community Center\, 3801 E Mercer Way\, Mercer Island\, WA\, United States
CATEGORIES:Adults + Seniors,Demographics: Adults,Demographics: Seniors (55+ better),Exercise Studio,Fitness and Aquatics,Group Fitness Classes,Intermediate,Membership
ORGANIZER;CN="Stroum JCC":MAILTO:info@sjcc.org
GEO:47.576754;-122.206204
X-APPLE-STRUCTURED-LOCATION;VALUE=URI;X-ADDRESS=Stroum Jewish Community Center 3801 E Mercer Way Mercer Island WA United States;X-APPLE-RADIUS=500;X-TITLE=3801 E Mercer Way:geo:-122.206204,47.576754
END:VEVENT
BEGIN:VEVENT
DTSTART;TZID=America/Los_Angeles:20260212T094500
DTEND;TZID=America/Los_Angeles:20260212T104500
DTSTAMP:20260421T181501
CREATED:20251216T174544Z
LAST-MODIFIED:20260323T201245Z
UID:10020365-1770889500-1770893100@sjcc.org
SUMMARY:Fitness Class: Body Fit
DESCRIPTION:Build strength while flowing through yoga in this energizing class that blends traditional yoga with light weights and functional strength exercises.
URL:https://sjcc.org/event/fitness-class-body-fit/2026-02-12/
LOCATION:Stroum Jewish Community Center\, 3801 E Mercer Way\, Mercer Island\, WA\, United States
CATEGORIES:Demographics: Adults,Demographics: Seniors (55+ better),Demographics: Young Adults,Exercise Studio,Fitness and Aquatics,Group Fitness Classes,Intermediate,Membership
ORGANIZER;CN="Stroum JCC":MAILTO:info@sjcc.org
GEO:47.576754;-122.206204
X-APPLE-STRUCTURED-LOCATION;VALUE=URI;X-ADDRESS=Stroum Jewish Community Center 3801 E Mercer Way Mercer Island WA United States;X-APPLE-RADIUS=500;X-TITLE=3801 E Mercer Way:geo:-122.206204,47.576754
END:VEVENT
BEGIN:VEVENT
DTSTART;TZID=America/Los_Angeles:20260212T163000
DTEND;TZID=America/Los_Angeles:20260212T173000
DTSTAMP:20260421T181501
CREATED:20251216T172820Z
LAST-MODIFIED:20260420T170037Z
UID:10019170-1770913800-1770917400@sjcc.org
SUMMARY:Fitness Class: H.I.R.T - T/TH
DESCRIPTION:Build strength while flowing through yoga in this energizing class that blends traditional yoga with light weights and functional strength exercises.
URL:https://sjcc.org/event/fitness-class-h-i-r-t-t-th/2026-02-12/
LOCATION:Stroum Jewish Community Center\, 3801 E Mercer Way\, Mercer Island\, WA\, United States
CATEGORIES:Demographics: Adults,Demographics: Seniors (55+ better),Demographics: Young Adults,Exercise Studio,Fitness and Aquatics,Group Fitness Classes,Intermediate,Membership
ORGANIZER;CN="Stroum JCC":MAILTO:info@sjcc.org
GEO:47.576754;-122.206204
X-APPLE-STRUCTURED-LOCATION;VALUE=URI;X-ADDRESS=Stroum Jewish Community Center 3801 E Mercer Way Mercer Island WA United States;X-APPLE-RADIUS=500;X-TITLE=3801 E Mercer Way:geo:-122.206204,47.576754
END:VEVENT
BEGIN:VEVENT
DTSTART;TZID=America/Los_Angeles:20260213T071500
DTEND;TZID=America/Los_Angeles:20260213T081500
DTSTAMP:20260421T181501
CREATED:20251216T173143Z
LAST-MODIFIED:20251216T175231Z
UID:10020683-1770966900-1770970500@sjcc.org
SUMMARY:Fitness Class: Ageless Strength Training
DESCRIPTION:Build strength while flowing through yoga in this energizing class that blends traditional yoga with light weights and functional strength exercises.
URL:https://sjcc.org/event/fitness-class-ageless-strength-training/2026-02-13/
LOCATION:Stroum Jewish Community Center\, 3801 E Mercer Way\, Mercer Island\, WA\, United States
CATEGORIES:Demographics: Adults,Demographics: Seniors (55+ better),Exercise Studio,Fitness and Aquatics,Group Fitness Classes,Intermediate,Membership
ORGANIZER;CN="Stroum JCC":MAILTO:info@sjcc.org
GEO:47.576754;-122.206204
X-APPLE-STRUCTURED-LOCATION;VALUE=URI;X-ADDRESS=Stroum Jewish Community Center 3801 E Mercer Way Mercer Island WA United States;X-APPLE-RADIUS=500;X-TITLE=3801 E Mercer Way:geo:-122.206204,47.576754
END:VEVENT
BEGIN:VEVENT
DTSTART;TZID=America/Los_Angeles:20260213T083000
DTEND;TZID=America/Los_Angeles:20260213T093000
DTSTAMP:20260421T181501
CREATED:20251216T173603Z
LAST-MODIFIED:20251216T175101Z
UID:10020598-1770971400-1770975000@sjcc.org
SUMMARY:Fitness Class: Intermediate Slow Flow Yoga
DESCRIPTION:Build strength while flowing through yoga in this energizing class that blends traditional yoga with light weights and functional strength exercises.
URL:https://sjcc.org/event/fitness-class-intermediate-slow-flow-yoga-2/2026-02-13/
LOCATION:Stroum Jewish Community Center\, 3801 E Mercer Way\, Mercer Island\, WA\, United States
CATEGORIES:Demographics: Adults,Demographics: Seniors (55+ better),Demographics: Young Adults,Exercise Studio,Fitness and Aquatics,Group Fitness Classes,Intermediate,Membership,Virtual SJCC
ORGANIZER;CN="Stroum JCC":MAILTO:info@sjcc.org
GEO:47.576754;-122.206204
X-APPLE-STRUCTURED-LOCATION;VALUE=URI;X-ADDRESS=Stroum Jewish Community Center 3801 E Mercer Way Mercer Island WA United States;X-APPLE-RADIUS=500;X-TITLE=3801 E Mercer Way:geo:-122.206204,47.576754
END:VEVENT
BEGIN:VEVENT
DTSTART;TZID=America/Los_Angeles:20260213T103000
DTEND;TZID=America/Los_Angeles:20260213T113000
DTSTAMP:20260421T181501
CREATED:20251216T173847Z
LAST-MODIFIED:20260420T161311Z
UID:10020510-1770978600-1770982200@sjcc.org
SUMMARY:Fitness Class: Tai Chi
DESCRIPTION:Build strength while flowing through yoga in this energizing class that blends traditional yoga with light weights and functional strength exercises.
URL:https://sjcc.org/event/fitness-class-tai-chi-2/2026-02-13/
LOCATION:Stroum Jewish Community Center\, 3801 E Mercer Way\, Mercer Island\, WA\, United States
CATEGORIES:Adults + Seniors,Demographics: Adults,Demographics: Seniors (55+ better),Demographics: Young Adults,Exercise Studio,Fitness and Aquatics,Group Fitness Classes,Intermediate,Membership
ORGANIZER;CN="Stroum JCC":MAILTO:info@sjcc.org
GEO:47.576754;-122.206204
X-APPLE-STRUCTURED-LOCATION;VALUE=URI;X-ADDRESS=Stroum Jewish Community Center 3801 E Mercer Way Mercer Island WA United States;X-APPLE-RADIUS=500;X-TITLE=3801 E Mercer Way:geo:-122.206204,47.576754
END:VEVENT
BEGIN:VEVENT
DTSTART;TZID=America/Los_Angeles:20260213T163000
DTEND;TZID=America/Los_Angeles:20260213T173000
DTSTAMP:20260421T181501
CREATED:20251215T215356Z
LAST-MODIFIED:20260313T174135Z
UID:10018894-1771000200-1771003800@sjcc.org
SUMMARY:Fitness Class: Power Yoga
DESCRIPTION:Build strength while flowing through yoga in this energizing class that blends traditional yoga with light weights and functional strength exercises.
URL:https://sjcc.org/event/fitness-class-power-yoga/2026-02-13/
LOCATION:Stroum Jewish Community Center\, 3801 E Mercer Way\, Mercer Island\, WA\, United States
CATEGORIES:Demographics: Adults,Demographics: Seniors (55+ better),Exercise Studio,Fitness and Aquatics,Group Fitness Classes,Intermediate,Membership
ORGANIZER;CN="Stroum JCC":MAILTO:info@sjcc.org
GEO:47.576754;-122.206204
X-APPLE-STRUCTURED-LOCATION;VALUE=URI;X-ADDRESS=Stroum Jewish Community Center 3801 E Mercer Way Mercer Island WA United States;X-APPLE-RADIUS=500;X-TITLE=3801 E Mercer Way:geo:-122.206204,47.576754
END:VEVENT
BEGIN:VEVENT
DTSTART;TZID=America/Los_Angeles:20260214T081500
DTEND;TZID=America/Los_Angeles:20260214T091500
DTSTAMP:20260421T181501
CREATED:20251216T172707Z
LAST-MODIFIED:20251216T175419Z
UID:10020747-1771056900-1771060500@sjcc.org
SUMMARY:Fitness Class: H.I.I.T.
DESCRIPTION:Build strength while flowing through yoga in this energizing class that blends traditional yoga with light weights and functional strength exercises.
URL:https://sjcc.org/event/fitness-class-h-i-i-t-3/2026-02-14/
LOCATION:Stroum Jewish Community Center\, 3801 E Mercer Way\, Mercer Island\, WA\, United States
CATEGORIES:Demographics: Adults,Demographics: Seniors (55+ better),Demographics: Young Adults,Exercise Studio,Fitness and Aquatics,Group Fitness Classes,Intermediate,Membership
ORGANIZER;CN="Stroum JCC":MAILTO:info@sjcc.org
GEO:47.576754;-122.206204
X-APPLE-STRUCTURED-LOCATION;VALUE=URI;X-ADDRESS=Stroum Jewish Community Center 3801 E Mercer Way Mercer Island WA United States;X-APPLE-RADIUS=500;X-TITLE=3801 E Mercer Way:geo:-122.206204,47.576754
END:VEVENT
BEGIN:VEVENT
DTSTART;TZID=America/Los_Angeles:20260214T093000
DTEND;TZID=America/Los_Angeles:20260214T103000
DTSTAMP:20260421T181501
CREATED:20251216T173918Z
LAST-MODIFIED:20251216T174911Z
UID:10020488-1771061400-1771065000@sjcc.org
SUMMARY:Fitness Class: H.I.I.T.
DESCRIPTION:Build strength while flowing through yoga in this energizing class that blends traditional yoga with light weights and functional strength exercises.
URL:https://sjcc.org/event/fitness-class-h-i-i-t-4/2026-02-14/
LOCATION:Stroum Jewish Community Center\, 3801 E Mercer Way\, Mercer Island\, WA\, United States
CATEGORIES:Demographics: Adults,Demographics: Seniors (55+ better),Demographics: Young Adults,Exercise Studio,Fitness and Aquatics,Group Fitness Classes,Intermediate,Membership
ORGANIZER;CN="Stroum JCC":MAILTO:info@sjcc.org
GEO:47.576754;-122.206204
X-APPLE-STRUCTURED-LOCATION;VALUE=URI;X-ADDRESS=Stroum Jewish Community Center 3801 E Mercer Way Mercer Island WA United States;X-APPLE-RADIUS=500;X-TITLE=3801 E Mercer Way:geo:-122.206204,47.576754
END:VEVENT
END:VCALENDAR