BEGIN:VCALENDAR
VERSION:2.0
PRODID:-//Stroum Jewish Community Center of Greater Seattle - ECPv6.15.20//NONSGML v1.0//EN
CALSCALE:GREGORIAN
METHOD:PUBLISH
X-WR-CALNAME:Stroum Jewish Community Center of Greater Seattle
X-ORIGINAL-URL:https://sjcc.org
X-WR-CALDESC:Events for Stroum Jewish Community Center of Greater Seattle
REFRESH-INTERVAL;VALUE=DURATION:PT1H
X-Robots-Tag:noindex
X-PUBLISHED-TTL:PT1H
BEGIN:VTIMEZONE
TZID:America/Los_Angeles
BEGIN:DAYLIGHT
TZOFFSETFROM:-0800
TZOFFSETTO:-0700
TZNAME:PDT
DTSTART:20250309T100000
END:DAYLIGHT
BEGIN:STANDARD
TZOFFSETFROM:-0700
TZOFFSETTO:-0800
TZNAME:PST
DTSTART:20251102T090000
END:STANDARD
BEGIN:DAYLIGHT
TZOFFSETFROM:-0800
TZOFFSETTO:-0700
TZNAME:PDT
DTSTART:20260308T100000
END:DAYLIGHT
BEGIN:STANDARD
TZOFFSETFROM:-0700
TZOFFSETTO:-0800
TZNAME:PST
DTSTART:20261101T090000
END:STANDARD
BEGIN:DAYLIGHT
TZOFFSETFROM:-0800
TZOFFSETTO:-0700
TZNAME:PDT
DTSTART:20270314T100000
END:DAYLIGHT
BEGIN:STANDARD
TZOFFSETFROM:-0700
TZOFFSETTO:-0800
TZNAME:PST
DTSTART:20271107T090000
END:STANDARD
END:VTIMEZONE
BEGIN:VEVENT
DTSTART;TZID=America/Los_Angeles:20260508T061500
DTEND;TZID=America/Los_Angeles:20260508T071500
DTSTAMP:20260423T094402
CREATED:20260422T222537Z
LAST-MODIFIED:20260422T224405Z
UID:10022565-1778220900-1778224500@sjcc.org
SUMMARY:Fitness Class: Yoga Sculpt
DESCRIPTION:Start with a mobility warm-up\, then move into short\, explosive intervals with full recovery. Advanced-level class with high intensity and complex movements require a strong fitness foundation.
URL:https://sjcc.org/event/fitness-class-yoga-sculpt-2/2026-05-08/
LOCATION:Stroum Jewish Community Center\, 3801 E Mercer Way\, Mercer Island\, WA\, United States
CATEGORIES:Clinics + Workshops,Demographics,Demographics: Adults,Demographics: Seniors (55+ better),Demographics: Young Adults,Exercise Studio,Facilities,Fitness and Aquatics,Group Fitness Classes,Intermediate
ORGANIZER;CN="Stroum JCC":MAILTO:info@sjcc.org
GEO:47.576754;-122.206204
X-APPLE-STRUCTURED-LOCATION;VALUE=URI;X-ADDRESS=Stroum Jewish Community Center 3801 E Mercer Way Mercer Island WA United States;X-APPLE-RADIUS=500;X-TITLE=3801 E Mercer Way:geo:-122.206204,47.576754
END:VEVENT
BEGIN:VEVENT
DTSTART;TZID=America/Los_Angeles:20260508T071500
DTEND;TZID=America/Los_Angeles:20260508T081500
DTSTAMP:20260423T094402
CREATED:20251216T173143Z
LAST-MODIFIED:20251216T175231Z
UID:10020695-1778224500-1778228100@sjcc.org
SUMMARY:Fitness Class: Ageless Strength Training
DESCRIPTION:Start with a mobility warm-up\, then move into short\, explosive intervals with full recovery. Advanced-level class with high intensity and complex movements require a strong fitness foundation.
URL:https://sjcc.org/event/fitness-class-ageless-strength-training/2026-05-08/
LOCATION:Stroum Jewish Community Center\, 3801 E Mercer Way\, Mercer Island\, WA\, United States
CATEGORIES:Demographics: Adults,Demographics: Seniors (55+ better),Exercise Studio,Fitness and Aquatics,Group Fitness Classes,Intermediate,Membership
ORGANIZER;CN="Stroum JCC":MAILTO:info@sjcc.org
GEO:47.576754;-122.206204
X-APPLE-STRUCTURED-LOCATION;VALUE=URI;X-ADDRESS=Stroum Jewish Community Center 3801 E Mercer Way Mercer Island WA United States;X-APPLE-RADIUS=500;X-TITLE=3801 E Mercer Way:geo:-122.206204,47.576754
END:VEVENT
BEGIN:VEVENT
DTSTART;TZID=America/Los_Angeles:20260508T083000
DTEND;TZID=America/Los_Angeles:20260508T093000
DTSTAMP:20260423T094402
CREATED:20251216T173603Z
LAST-MODIFIED:20251216T175101Z
UID:10020610-1778229000-1778232600@sjcc.org
SUMMARY:Fitness Class: Intermediate Slow Flow Yoga
DESCRIPTION:Start with a mobility warm-up\, then move into short\, explosive intervals with full recovery. Advanced-level class with high intensity and complex movements require a strong fitness foundation.
URL:https://sjcc.org/event/fitness-class-intermediate-slow-flow-yoga-2/2026-05-08/
LOCATION:Stroum Jewish Community Center\, 3801 E Mercer Way\, Mercer Island\, WA\, United States
CATEGORIES:Demographics: Adults,Demographics: Seniors (55+ better),Demographics: Young Adults,Exercise Studio,Fitness and Aquatics,Group Fitness Classes,Intermediate,Membership,Virtual SJCC
ORGANIZER;CN="Stroum JCC":MAILTO:info@sjcc.org
GEO:47.576754;-122.206204
X-APPLE-STRUCTURED-LOCATION;VALUE=URI;X-ADDRESS=Stroum Jewish Community Center 3801 E Mercer Way Mercer Island WA United States;X-APPLE-RADIUS=500;X-TITLE=3801 E Mercer Way:geo:-122.206204,47.576754
END:VEVENT
BEGIN:VEVENT
DTSTART;TZID=America/Los_Angeles:20260508T103000
DTEND;TZID=America/Los_Angeles:20260508T113000
DTSTAMP:20260423T094402
CREATED:20251216T173847Z
LAST-MODIFIED:20260420T161311Z
UID:10020522-1778236200-1778239800@sjcc.org
SUMMARY:Fitness Class: Tai Chi
DESCRIPTION:Start with a mobility warm-up\, then move into short\, explosive intervals with full recovery. Advanced-level class with high intensity and complex movements require a strong fitness foundation.
URL:https://sjcc.org/event/fitness-class-tai-chi-2/2026-05-08/
LOCATION:Stroum Jewish Community Center\, 3801 E Mercer Way\, Mercer Island\, WA\, United States
CATEGORIES:Adults + Seniors,Demographics: Adults,Demographics: Seniors (55+ better),Demographics: Young Adults,Exercise Studio,Fitness and Aquatics,Group Fitness Classes,Intermediate,Membership
ORGANIZER;CN="Stroum JCC":MAILTO:info@sjcc.org
GEO:47.576754;-122.206204
X-APPLE-STRUCTURED-LOCATION;VALUE=URI;X-ADDRESS=Stroum Jewish Community Center 3801 E Mercer Way Mercer Island WA United States;X-APPLE-RADIUS=500;X-TITLE=3801 E Mercer Way:geo:-122.206204,47.576754
END:VEVENT
END:VCALENDAR