BEGIN:VCALENDAR
VERSION:2.0
PRODID:-//Stroum Jewish Community Center of Greater Seattle - ECPv6.15.20//NONSGML v1.0//EN
CALSCALE:GREGORIAN
METHOD:PUBLISH
X-ORIGINAL-URL:https://sjcc.org
X-WR-CALDESC:Events for Stroum Jewish Community Center of Greater Seattle
REFRESH-INTERVAL;VALUE=DURATION:PT1H
X-Robots-Tag:noindex
X-PUBLISHED-TTL:PT1H
BEGIN:VTIMEZONE
TZID:America/Los_Angeles
BEGIN:DAYLIGHT
TZOFFSETFROM:-0800
TZOFFSETTO:-0700
TZNAME:PDT
DTSTART:20250309T100000
END:DAYLIGHT
BEGIN:STANDARD
TZOFFSETFROM:-0700
TZOFFSETTO:-0800
TZNAME:PST
DTSTART:20251102T090000
END:STANDARD
BEGIN:DAYLIGHT
TZOFFSETFROM:-0800
TZOFFSETTO:-0700
TZNAME:PDT
DTSTART:20260308T100000
END:DAYLIGHT
BEGIN:STANDARD
TZOFFSETFROM:-0700
TZOFFSETTO:-0800
TZNAME:PST
DTSTART:20261101T090000
END:STANDARD
BEGIN:DAYLIGHT
TZOFFSETFROM:-0800
TZOFFSETTO:-0700
TZNAME:PDT
DTSTART:20270314T100000
END:DAYLIGHT
BEGIN:STANDARD
TZOFFSETFROM:-0700
TZOFFSETTO:-0800
TZNAME:PST
DTSTART:20271107T090000
END:STANDARD
END:VTIMEZONE
BEGIN:VEVENT
DTSTART;TZID=America/Los_Angeles:20260715T083000
DTEND;TZID=America/Los_Angeles:20260715T093000
DTSTAMP:20260425T093313
CREATED:20251216T174339Z
LAST-MODIFIED:20260423T195241Z
UID:10022800-1784104200-1784107800@sjcc.org
SUMMARY:Fitness Class: Advanced Bootcamp - Wednesday
DESCRIPTION:Each week features a different “countdown” format—from descending reps and timed intervals to strength-focused sets and team-based challenges—so every class feels fresh\, engaging\, and effective.
URL:https://sjcc.org/event/fitness-class-advanced-bootcamp-wednesday/2026-07-15/
LOCATION:Stroum Jewish Community Center\, 3801 E Mercer Way\, Mercer Island\, WA\, United States
CATEGORIES:Advanced,Demographics: Adults,Demographics: Seniors (55+ better),Demographics: Young Adults,Exercise Studio,Fitness and Aquatics,Group Fitness Classes,Membership,Virtual SJCC
ORGANIZER;CN="Stroum JCC":MAILTO:info@sjcc.org
GEO:47.576754;-122.206204
X-APPLE-STRUCTURED-LOCATION;VALUE=URI;X-ADDRESS=Stroum Jewish Community Center 3801 E Mercer Way Mercer Island WA United States;X-APPLE-RADIUS=500;X-TITLE=3801 E Mercer Way:geo:-122.206204,47.576754
END:VEVENT
BEGIN:VEVENT
DTSTART;TZID=America/Los_Angeles:20260715T090000
DTEND;TZID=America/Los_Angeles:20260715T100000
DTSTAMP:20260425T093313
CREATED:20251216T174047Z
LAST-MODIFIED:20260423T212230Z
UID:10022865-1784106000-1784109600@sjcc.org
SUMMARY:Fitness Class: Aqua Fit
DESCRIPTION:Each week features a different “countdown” format—from descending reps and timed intervals to strength-focused sets and team-based challenges—so every class feels fresh\, engaging\, and effective.
URL:https://sjcc.org/event/fitness-class-aqua-fit/2026-07-15/
LOCATION:Stroum Jewish Community Center\, 3801 E Mercer Way\, Mercer Island\, WA\, United States
CATEGORIES:Adults + Seniors,Beginner,Demographics: Adults,Demographics: Seniors (55+ better),Fitness and Aquatics,Group Fitness Classes,Membership,Pool,Swimming
ORGANIZER;CN="Stroum JCC":MAILTO:info@sjcc.org
GEO:47.576754;-122.206204
X-APPLE-STRUCTURED-LOCATION;VALUE=URI;X-ADDRESS=Stroum Jewish Community Center 3801 E Mercer Way Mercer Island WA United States;X-APPLE-RADIUS=500;X-TITLE=3801 E Mercer Way:geo:-122.206204,47.576754
END:VEVENT
BEGIN:VEVENT
DTSTART;TZID=America/Los_Angeles:20260715T094500
DTEND;TZID=America/Los_Angeles:20260715T104500
DTSTAMP:20260425T093313
CREATED:20251216T174507Z
LAST-MODIFIED:20260423T194905Z
UID:10022773-1784108700-1784112300@sjcc.org
SUMMARY:Fitness Class: Restorative Stretch - Wednesday
DESCRIPTION:Each week features a different “countdown” format—from descending reps and timed intervals to strength-focused sets and team-based challenges—so every class feels fresh\, engaging\, and effective.
URL:https://sjcc.org/event/fitness-class-restorative-stretch-wednesday/2026-07-15/
LOCATION:Stroum Jewish Community Center\, 3801 E Mercer Way\, Mercer Island\, WA\, United States
CATEGORIES:Demographics: Adults,Demographics: Seniors (55+ better),Demographics: Young Adults,Exercise Studio,Fitness and Aquatics,Group Fitness Classes,Intermediate,Membership,Small Group at the J
ORGANIZER;CN="Stroum JCC":MAILTO:info@sjcc.org
GEO:47.576754;-122.206204
X-APPLE-STRUCTURED-LOCATION;VALUE=URI;X-ADDRESS=Stroum Jewish Community Center 3801 E Mercer Way Mercer Island WA United States;X-APPLE-RADIUS=500;X-TITLE=3801 E Mercer Way:geo:-122.206204,47.576754
END:VEVENT
BEGIN:VEVENT
DTSTART;TZID=America/Los_Angeles:20260715T110000
DTEND;TZID=America/Los_Angeles:20260715T120000
DTSTAMP:20260425T093313
CREATED:20251216T172546Z
LAST-MODIFIED:20260423T212855Z
UID:10023052-1784113200-1784116800@sjcc.org
SUMMARY:Fitness Class: Chair Yoga
DESCRIPTION:Each week features a different “countdown” format—from descending reps and timed intervals to strength-focused sets and team-based challenges—so every class feels fresh\, engaging\, and effective.
URL:https://sjcc.org/event/fitness-class-chair-yoga-2/2026-07-15/
LOCATION:Stroum Jewish Community Center\, 3801 E Mercer Way\, Mercer Island\, WA\, United States
CATEGORIES:Adults + Seniors,Demographics: Adults,Demographics: Seniors (55+ better),Exercise Studio,Fitness and Aquatics,Group Fitness Classes,Intermediate,Membership
ORGANIZER;CN="Stroum JCC":MAILTO:info@sjcc.org
GEO:47.576754;-122.206204
X-APPLE-STRUCTURED-LOCATION;VALUE=URI;X-ADDRESS=Stroum Jewish Community Center 3801 E Mercer Way Mercer Island WA United States;X-APPLE-RADIUS=500;X-TITLE=3801 E Mercer Way:geo:-122.206204,47.576754
END:VEVENT
BEGIN:VEVENT
DTSTART;TZID=America/Los_Angeles:20260715T110000
DTEND;TZID=America/Los_Angeles:20260715T120000
DTSTAMP:20260425T093313
CREATED:20260209T173452Z
LAST-MODIFIED:20260423T180202Z
UID:10022683-1784113200-1784116800@sjcc.org
SUMMARY:Fitness Class: Rock Steady Boxing Level 1/2
DESCRIPTION:Each week features a different “countdown” format—from descending reps and timed intervals to strength-focused sets and team-based challenges—so every class feels fresh\, engaging\, and effective.
URL:https://sjcc.org/event/fitness-class-rock-steady-boxing-level-1-2/2026-07-15/
LOCATION:Stroum Jewish Community Center\, 3801 E Mercer Way\, Mercer Island\, WA\, United States
CATEGORIES:Beginner,Demographics: Adults,Demographics: Seniors (55+ better),Demographics: Young Adults,Exercise Studio,Fitness and Aquatics,Group Fitness Classes
ORGANIZER;CN="Stroum JCC":MAILTO:info@sjcc.org
GEO:47.576754;-122.206204
X-APPLE-STRUCTURED-LOCATION;VALUE=URI;X-ADDRESS=Stroum Jewish Community Center 3801 E Mercer Way Mercer Island WA United States;X-APPLE-RADIUS=500;X-TITLE=3801 E Mercer Way:geo:-122.206204,47.576754
END:VEVENT
BEGIN:VEVENT
DTSTART;TZID=America/Los_Angeles:20260715T121500
DTEND;TZID=America/Los_Angeles:20260715T131500
DTSTAMP:20260425T093313
CREATED:20260209T173739Z
LAST-MODIFIED:20260423T212949Z
UID:10023077-1784117700-1784121300@sjcc.org
SUMMARY:Fitness Class: Rock Steady Boxing Level 3/4
DESCRIPTION:Each week features a different “countdown” format—from descending reps and timed intervals to strength-focused sets and team-based challenges—so every class feels fresh\, engaging\, and effective.
URL:https://sjcc.org/event/fitness-class-rock-steady-boxing-level-3-4/2026-07-15/
LOCATION:Stroum Jewish Community Center\, 3801 E Mercer Way\, Mercer Island\, WA\, United States
CATEGORIES:Beginner,Demographics: Adults,Demographics: Seniors (55+ better),Demographics: Young Adults,Exercise Studio,Fitness and Aquatics,Group Fitness Classes
ORGANIZER;CN="Stroum JCC":MAILTO:info@sjcc.org
GEO:47.576754;-122.206204
X-APPLE-STRUCTURED-LOCATION;VALUE=URI;X-ADDRESS=Stroum Jewish Community Center 3801 E Mercer Way Mercer Island WA United States;X-APPLE-RADIUS=500;X-TITLE=3801 E Mercer Way:geo:-122.206204,47.576754
END:VEVENT
END:VCALENDAR