BEGIN:VCALENDAR
VERSION:2.0
PRODID:-//Stroum Jewish Community Center of Greater Seattle - ECPv6.15.20//NONSGML v1.0//EN
CALSCALE:GREGORIAN
METHOD:PUBLISH
X-ORIGINAL-URL:https://sjcc.org
X-WR-CALDESC:Events for Stroum Jewish Community Center of Greater Seattle
REFRESH-INTERVAL;VALUE=DURATION:PT1H
X-Robots-Tag:noindex
X-PUBLISHED-TTL:PT1H
BEGIN:VTIMEZONE
TZID:America/Los_Angeles
BEGIN:DAYLIGHT
TZOFFSETFROM:-0800
TZOFFSETTO:-0700
TZNAME:PDT
DTSTART:20250309T100000
END:DAYLIGHT
BEGIN:STANDARD
TZOFFSETFROM:-0700
TZOFFSETTO:-0800
TZNAME:PST
DTSTART:20251102T090000
END:STANDARD
BEGIN:DAYLIGHT
TZOFFSETFROM:-0800
TZOFFSETTO:-0700
TZNAME:PDT
DTSTART:20260308T100000
END:DAYLIGHT
BEGIN:STANDARD
TZOFFSETFROM:-0700
TZOFFSETTO:-0800
TZNAME:PST
DTSTART:20261101T090000
END:STANDARD
BEGIN:DAYLIGHT
TZOFFSETFROM:-0800
TZOFFSETTO:-0700
TZNAME:PDT
DTSTART:20270314T100000
END:DAYLIGHT
BEGIN:STANDARD
TZOFFSETFROM:-0700
TZOFFSETTO:-0800
TZNAME:PST
DTSTART:20271107T090000
END:STANDARD
END:VTIMEZONE
BEGIN:VEVENT
DTSTART;TZID=America/Los_Angeles:20260524T080000
DTEND;TZID=America/Los_Angeles:20260524T164500
DTSTAMP:20260422T163059
CREATED:20260326T210848Z
LAST-MODIFIED:20260326T210848Z
UID:10022429-1779609600-1779641100@sjcc.org
SUMMARY:Sunday Pool Hours
DESCRIPTION:Join us for a high-energy stair workout at Mercerdale Park. We’ll start together and warm-up\, then take on the stairs—challenge yourself to complete as many climbs as you can at your own pace.
URL:https://sjcc.org/event/sunday-pool-hours-2/2026-05-24/
LOCATION:Stroum Jewish Community Center\, 3801 E Mercer Way\, Mercer Island\, WA\, United States
CATEGORIES:Fitness and Aquatics,Pool,Swimming
ORGANIZER;CN="Stroum JCC":MAILTO:info@sjcc.org
GEO:47.576754;-122.206204
X-APPLE-STRUCTURED-LOCATION;VALUE=URI;X-ADDRESS=Stroum Jewish Community Center 3801 E Mercer Way Mercer Island WA United States;X-APPLE-RADIUS=500;X-TITLE=3801 E Mercer Way:geo:-122.206204,47.576754
END:VEVENT
BEGIN:VEVENT
DTSTART;TZID=America/Los_Angeles:20260524T081000
DTEND;TZID=America/Los_Angeles:20260524T091000
DTSTAMP:20260422T163059
CREATED:20251216T173745Z
LAST-MODIFIED:20260420T161539Z
UID:10022539-1779610200-1779613800@sjcc.org
SUMMARY:Fitness Class: Advanced H.I.R.T - Sunday
DESCRIPTION:Join us for a high-energy stair workout at Mercerdale Park. We’ll start together and warm-up\, then take on the stairs—challenge yourself to complete as many climbs as you can at your own pace.
URL:https://sjcc.org/event/fitness-class-advanced-h-i-r-t-sunday-2/2026-05-24/
LOCATION:Stroum Jewish Community Center\, 3801 E Mercer Way\, Mercer Island\, WA\, United States
CATEGORIES:Advanced,Demographics: Adults,Demographics: Seniors (55+ better),Demographics: Young Adults,Exercise Studio,Fitness and Aquatics,Group Fitness Classes,Membership
ORGANIZER;CN="Stroum JCC":MAILTO:info@sjcc.org
GEO:47.576754;-122.206204
X-APPLE-STRUCTURED-LOCATION;VALUE=URI;X-ADDRESS=Stroum Jewish Community Center 3801 E Mercer Way Mercer Island WA United States;X-APPLE-RADIUS=500;X-TITLE=3801 E Mercer Way:geo:-122.206204,47.576754
END:VEVENT
BEGIN:VEVENT
DTSTART;TZID=America/Los_Angeles:20260524T092000
DTEND;TZID=America/Los_Angeles:20260524T102000
DTSTAMP:20260422T163059
CREATED:20251216T173814Z
LAST-MODIFIED:20260420T161441Z
UID:10022518-1779614400-1779618000@sjcc.org
SUMMARY:Fitness Class: H.I.R.T. - Sunday
DESCRIPTION:Join us for a high-energy stair workout at Mercerdale Park. We’ll start together and warm-up\, then take on the stairs—challenge yourself to complete as many climbs as you can at your own pace.
URL:https://sjcc.org/event/fitness-class-h-i-r-t-sunday-2/2026-05-24/
LOCATION:Stroum Jewish Community Center\, 3801 E Mercer Way\, Mercer Island\, WA\, United States
CATEGORIES:Demographics: Adults,Demographics: Seniors (55+ better),Demographics: Young Adults,Exercise Studio,Fitness and Aquatics,Group Fitness Classes,Intermediate,Membership
ORGANIZER;CN="Stroum JCC":MAILTO:info@sjcc.org
GEO:47.576754;-122.206204
X-APPLE-STRUCTURED-LOCATION;VALUE=URI;X-ADDRESS=Stroum Jewish Community Center 3801 E Mercer Way Mercer Island WA United States;X-APPLE-RADIUS=500;X-TITLE=3801 E Mercer Way:geo:-122.206204,47.576754
END:VEVENT
BEGIN:VEVENT
DTSTART;TZID=America/Los_Angeles:20260524T092000
DTEND;TZID=America/Los_Angeles:20260524T102000
DTSTAMP:20260422T163059
CREATED:20251216T174120Z
LAST-MODIFIED:20260420T160628Z
UID:10022497-1779614400-1779618000@sjcc.org
SUMMARY:Fitness Class: Restorative Stretch - Sunday
DESCRIPTION:Join us for a high-energy stair workout at Mercerdale Park. We’ll start together and warm-up\, then take on the stairs—challenge yourself to complete as many climbs as you can at your own pace.
URL:https://sjcc.org/event/fitness-class-restorative-stretch-sunday/2026-05-24/
LOCATION:Stroum Jewish Community Center\, 3801 E Mercer Way\, Mercer Island\, WA\, United States
CATEGORIES:Demographics: Adults,Demographics: Seniors (55+ better),Demographics: Young Adults,Exercise Studio,Fitness and Aquatics,Group Fitness Classes,Intermediate,Membership
ORGANIZER;CN="Stroum JCC":MAILTO:info@sjcc.org
GEO:47.576754;-122.206204
X-APPLE-STRUCTURED-LOCATION;VALUE=URI;X-ADDRESS=Stroum Jewish Community Center 3801 E Mercer Way Mercer Island WA United States;X-APPLE-RADIUS=500;X-TITLE=3801 E Mercer Way:geo:-122.206204,47.576754
END:VEVENT
BEGIN:VEVENT
DTSTART;TZID=America/Los_Angeles:20260524T103000
DTEND;TZID=America/Los_Angeles:20260524T113000
DTSTAMP:20260422T163059
CREATED:20251216T173718Z
LAST-MODIFIED:20260213T192741Z
UID:10020590-1779618600-1779622200@sjcc.org
SUMMARY:Fitness Class: Step Class - Sunday
DESCRIPTION:Join us for a high-energy stair workout at Mercerdale Park. We’ll start together and warm-up\, then take on the stairs—challenge yourself to complete as many climbs as you can at your own pace.
URL:https://sjcc.org/event/fitness-class-step-class-sunday/2026-05-24/
LOCATION:Stroum Jewish Community Center\, 3801 E Mercer Way\, Mercer Island\, WA\, United States
CATEGORIES:Demographics: Adults,Demographics: Seniors (55+ better),Demographics: Young Adults,Exercise Studio,Fitness and Aquatics,Group Fitness Classes,Intermediate,Membership
ORGANIZER;CN="Stroum JCC":MAILTO:info@sjcc.org
GEO:47.576754;-122.206204
X-APPLE-STRUCTURED-LOCATION;VALUE=URI;X-ADDRESS=Stroum Jewish Community Center 3801 E Mercer Way Mercer Island WA United States;X-APPLE-RADIUS=500;X-TITLE=3801 E Mercer Way:geo:-122.206204,47.576754
END:VEVENT
END:VCALENDAR