BEGIN:VCALENDAR
VERSION:2.0
PRODID:-//Stroum Jewish Community Center of Greater Seattle - ECPv6.15.20//NONSGML v1.0//EN
CALSCALE:GREGORIAN
METHOD:PUBLISH
X-WR-CALNAME:Stroum Jewish Community Center of Greater Seattle
X-ORIGINAL-URL:https://sjcc.org
X-WR-CALDESC:Events for Stroum Jewish Community Center of Greater Seattle
REFRESH-INTERVAL;VALUE=DURATION:PT1H
X-Robots-Tag:noindex
X-PUBLISHED-TTL:PT1H
BEGIN:VTIMEZONE
TZID:America/Los_Angeles
BEGIN:DAYLIGHT
TZOFFSETFROM:-0800
TZOFFSETTO:-0700
TZNAME:PDT
DTSTART:20250309T100000
END:DAYLIGHT
BEGIN:STANDARD
TZOFFSETFROM:-0700
TZOFFSETTO:-0800
TZNAME:PST
DTSTART:20251102T090000
END:STANDARD
BEGIN:DAYLIGHT
TZOFFSETFROM:-0800
TZOFFSETTO:-0700
TZNAME:PDT
DTSTART:20260308T100000
END:DAYLIGHT
BEGIN:STANDARD
TZOFFSETFROM:-0700
TZOFFSETTO:-0800
TZNAME:PST
DTSTART:20261101T090000
END:STANDARD
BEGIN:DAYLIGHT
TZOFFSETFROM:-0800
TZOFFSETTO:-0700
TZNAME:PDT
DTSTART:20270314T100000
END:DAYLIGHT
BEGIN:STANDARD
TZOFFSETFROM:-0700
TZOFFSETTO:-0800
TZNAME:PST
DTSTART:20271107T090000
END:STANDARD
END:VTIMEZONE
BEGIN:VEVENT
DTSTART;TZID=America/Los_Angeles:20260521T060000
DTEND;TZID=America/Los_Angeles:20260521T204500
DTSTAMP:20260423T210433
CREATED:20260326T205723Z
LAST-MODIFIED:20260326T210048Z
UID:10022371-1779343200-1779396300@sjcc.org
SUMMARY:Thursday Pool Hours
DESCRIPTION:Join us for a high-energy stair workout at Mercerdale Park. We’ll start together and warm-up\, then take on the stairs—challenge yourself to complete as many climbs as you can at your own pace.
URL:https://sjcc.org/event/thursday-pool-hours-2/2026-05-21/
LOCATION:Stroum Jewish Community Center\, 3801 E Mercer Way\, Mercer Island\, WA\, United States
CATEGORIES:Fitness and Aquatics,Pool,Swimming
ORGANIZER;CN="Stroum JCC":MAILTO:info@sjcc.org
GEO:47.576754;-122.206204
X-APPLE-STRUCTURED-LOCATION;VALUE=URI;X-ADDRESS=Stroum Jewish Community Center 3801 E Mercer Way Mercer Island WA United States;X-APPLE-RADIUS=500;X-TITLE=3801 E Mercer Way:geo:-122.206204,47.576754
END:VEVENT
BEGIN:VEVENT
DTSTART;TZID=America/Los_Angeles:20260521T061500
DTEND;TZID=America/Los_Angeles:20260521T071500
DTSTAMP:20260423T210433
CREATED:20250208T003617Z
LAST-MODIFIED:20260420T165907Z
UID:10022551-1779344100-1779347700@sjcc.org
SUMMARY:Fitness Class: Total Body Sculpt
DESCRIPTION:Join us for a high-energy stair workout at Mercerdale Park. We’ll start together and warm-up\, then take on the stairs—challenge yourself to complete as many climbs as you can at your own pace.
URL:https://sjcc.org/event/fitness-class-total-body-sculpt/2026-05-21/
LOCATION:Stroum Jewish Community Center\, 3801 E Mercer Way\, Mercer Island\, WA\, United States
CATEGORIES:Advanced,Demographics: Adults,Demographics: Seniors (55+ better),Demographics: Young Adults,Exercise Studio,Fitness and Aquatics,Group Fitness Classes,Membership
ORGANIZER;CN="Stroum JCC":MAILTO:info@sjcc.org
GEO:47.576754;-122.206204
X-APPLE-STRUCTURED-LOCATION;VALUE=URI;X-ADDRESS=Stroum Jewish Community Center 3801 E Mercer Way Mercer Island WA United States;X-APPLE-RADIUS=500;X-TITLE=3801 E Mercer Way:geo:-122.206204,47.576754
END:VEVENT
BEGIN:VEVENT
DTSTART;TZID=America/Los_Angeles:20260521T083000
DTEND;TZID=America/Los_Angeles:20260521T093000
DTSTAMP:20260423T210433
CREATED:20251216T174154Z
LAST-MODIFIED:20260423T195433Z
UID:10020130-1779352200-1779355800@sjcc.org
SUMMARY:Fitness Class: Step Class - Thursday
DESCRIPTION:Join us for a high-energy stair workout at Mercerdale Park. We’ll start together and warm-up\, then take on the stairs—challenge yourself to complete as many climbs as you can at your own pace.
URL:https://sjcc.org/event/fitness-class-step-class-thursday-2/2026-05-21/
LOCATION:Stroum Jewish Community Center\, 3801 E Mercer Way\, Mercer Island\, WA\, United States
CATEGORIES:Demographics: Adults,Demographics: Seniors (55+ better),Demographics: Young Adults,Exercise Studio,Fitness and Aquatics,Group Fitness Classes,Membership,Small Group at the J
ORGANIZER;CN="Stroum JCC":MAILTO:info@sjcc.org
GEO:47.576754;-122.206204
X-APPLE-STRUCTURED-LOCATION;VALUE=URI;X-ADDRESS=Stroum Jewish Community Center 3801 E Mercer Way Mercer Island WA United States;X-APPLE-RADIUS=500;X-TITLE=3801 E Mercer Way:geo:-122.206204,47.576754
END:VEVENT
BEGIN:VEVENT
DTSTART;TZID=America/Los_Angeles:20260521T090000
DTEND;TZID=America/Los_Angeles:20260521T100000
DTSTAMP:20260423T210433
CREATED:20260123T004410Z
LAST-MODIFIED:20260423T180246Z
UID:10021107-1779354000-1779357600@sjcc.org
SUMMARY:Fitness Class: Aqua Fit HIIT
DESCRIPTION:Join us for a high-energy stair workout at Mercerdale Park. We’ll start together and warm-up\, then take on the stairs—challenge yourself to complete as many climbs as you can at your own pace.
URL:https://sjcc.org/event/fitness-class-aqua-fit-hiit/2026-05-21/
LOCATION:Stroum Jewish Community Center\, 3801 E Mercer Way\, Mercer Island\, WA\, United States
CATEGORIES:Adults + Seniors,Beginner,Demographics: Adults,Demographics: Seniors (55+ better),Fitness and Aquatics,Group Fitness Classes,Membership,Pool,Swimming
ORGANIZER;CN="Stroum JCC":MAILTO:info@sjcc.org
GEO:47.576754;-122.206204
X-APPLE-STRUCTURED-LOCATION;VALUE=URI;X-ADDRESS=Stroum Jewish Community Center 3801 E Mercer Way Mercer Island WA United States;X-APPLE-RADIUS=500;X-TITLE=3801 E Mercer Way:geo:-122.206204,47.576754
END:VEVENT
BEGIN:VEVENT
DTSTART;TZID=America/Los_Angeles:20260521T094500
DTEND;TZID=America/Los_Angeles:20260521T104500
DTSTAMP:20260423T210433
CREATED:20251216T174544Z
LAST-MODIFIED:20260423T194756Z
UID:10020393-1779356700-1779360300@sjcc.org
SUMMARY:Fitness Class: Body Fit
DESCRIPTION:Join us for a high-energy stair workout at Mercerdale Park. We’ll start together and warm-up\, then take on the stairs—challenge yourself to complete as many climbs as you can at your own pace.
URL:https://sjcc.org/event/fitness-class-body-fit/2026-05-21/
LOCATION:Stroum Jewish Community Center\, 3801 E Mercer Way\, Mercer Island\, WA\, United States
CATEGORIES:Demographics: Adults,Demographics: Seniors (55+ better),Demographics: Young Adults,Exercise Studio,Fitness and Aquatics,Group Fitness Classes,Intermediate,Membership
ORGANIZER;CN="Stroum JCC":MAILTO:info@sjcc.org
GEO:47.576754;-122.206204
X-APPLE-STRUCTURED-LOCATION;VALUE=URI;X-ADDRESS=Stroum Jewish Community Center 3801 E Mercer Way Mercer Island WA United States;X-APPLE-RADIUS=500;X-TITLE=3801 E Mercer Way:geo:-122.206204,47.576754
END:VEVENT
BEGIN:VEVENT
DTSTART;TZID=America/Los_Angeles:20260521T110000
DTEND;TZID=America/Los_Angeles:20260521T114000
DTSTAMP:20260423T210433
CREATED:20260326T183514Z
LAST-MODIFIED:20260423T180107Z
UID:10022321-1779361200-1779363600@sjcc.org
SUMMARY:Fitness Class: Balance + Stability
DESCRIPTION:Join us for a high-energy stair workout at Mercerdale Park. We’ll start together and warm-up\, then take on the stairs—challenge yourself to complete as many climbs as you can at your own pace.
URL:https://sjcc.org/event/fitness-class-balance-stability/2026-05-21/
LOCATION:Stroum Jewish Community Center\, 3801 E Mercer Way\, Mercer Island\, WA\, United States
CATEGORIES:Beginner,Demographics: Adults,Demographics: Seniors (55+ better),Demographics: Young Adults,Exercise Studio,Fitness and Aquatics,Group Fitness Classes
ORGANIZER;CN="Stroum JCC":MAILTO:info@sjcc.org
GEO:47.576754;-122.206204
X-APPLE-STRUCTURED-LOCATION;VALUE=URI;X-ADDRESS=Stroum Jewish Community Center 3801 E Mercer Way Mercer Island WA United States;X-APPLE-RADIUS=500;X-TITLE=3801 E Mercer Way:geo:-122.206204,47.576754
END:VEVENT
BEGIN:VEVENT
DTSTART;TZID=America/Los_Angeles:20260521T163000
DTEND;TZID=America/Los_Angeles:20260521T173000
DTSTAMP:20260423T210433
CREATED:20251216T172820Z
LAST-MODIFIED:20260423T212805Z
UID:10019184-1779381000-1779384600@sjcc.org
SUMMARY:Fitness Class: H.I.R.T - T/TH
DESCRIPTION:Join us for a high-energy stair workout at Mercerdale Park. We’ll start together and warm-up\, then take on the stairs—challenge yourself to complete as many climbs as you can at your own pace.
URL:https://sjcc.org/event/fitness-class-h-i-r-t-t-th/2026-05-21/
LOCATION:Stroum Jewish Community Center\, 3801 E Mercer Way\, Mercer Island\, WA\, United States
CATEGORIES:Demographics: Adults,Demographics: Seniors (55+ better),Demographics: Young Adults,Exercise Studio,Fitness and Aquatics,Group Fitness Classes,Intermediate,Membership
ORGANIZER;CN="Stroum JCC":MAILTO:info@sjcc.org
GEO:47.576754;-122.206204
X-APPLE-STRUCTURED-LOCATION;VALUE=URI;X-ADDRESS=Stroum Jewish Community Center 3801 E Mercer Way Mercer Island WA United States;X-APPLE-RADIUS=500;X-TITLE=3801 E Mercer Way:geo:-122.206204,47.576754
END:VEVENT
BEGIN:VEVENT
DTSTART;TZID=America/Los_Angeles:20260521T174500
DTEND;TZID=America/Los_Angeles:20260521T184500
DTSTAMP:20260423T210433
CREATED:20260422T225243Z
LAST-MODIFIED:20260422T225538Z
UID:10022606-1779385500-1779389100@sjcc.org
SUMMARY:Fitness Class: Countdown to Strong
DESCRIPTION:Join us for a high-energy stair workout at Mercerdale Park. We’ll start together and warm-up\, then take on the stairs—challenge yourself to complete as many climbs as you can at your own pace.
URL:https://sjcc.org/event/fitness-class-countdown-to-strong/2026-05-21/
LOCATION:Stroum Jewish Community Center\, 3801 E Mercer Way\, Mercer Island\, WA\, United States
CATEGORIES:Beginner,Demographics,Demographics: Adults,Demographics: Seniors (55+ better),Demographics: Young Adults,Exercise Studio,Facilities,Fitness and Aquatics,Group Fitness Classes
ORGANIZER;CN="Stroum JCC":MAILTO:info@sjcc.org
GEO:47.576754;-122.206204
X-APPLE-STRUCTURED-LOCATION;VALUE=URI;X-ADDRESS=Stroum Jewish Community Center 3801 E Mercer Way Mercer Island WA United States;X-APPLE-RADIUS=500;X-TITLE=3801 E Mercer Way:geo:-122.206204,47.576754
END:VEVENT
END:VCALENDAR