BEGIN:VCALENDAR
VERSION:2.0
PRODID:-//Stroum Jewish Community Center of Greater Seattle - ECPv6.15.20//NONSGML v1.0//EN
CALSCALE:GREGORIAN
METHOD:PUBLISH
X-WR-CALNAME:Stroum Jewish Community Center of Greater Seattle
X-ORIGINAL-URL:https://sjcc.org
X-WR-CALDESC:Events for Stroum Jewish Community Center of Greater Seattle
REFRESH-INTERVAL;VALUE=DURATION:PT1H
X-Robots-Tag:noindex
X-PUBLISHED-TTL:PT1H
BEGIN:VTIMEZONE
TZID:America/Los_Angeles
BEGIN:DAYLIGHT
TZOFFSETFROM:-0800
TZOFFSETTO:-0700
TZNAME:PDT
DTSTART:20250309T100000
END:DAYLIGHT
BEGIN:STANDARD
TZOFFSETFROM:-0700
TZOFFSETTO:-0800
TZNAME:PST
DTSTART:20251102T090000
END:STANDARD
BEGIN:DAYLIGHT
TZOFFSETFROM:-0800
TZOFFSETTO:-0700
TZNAME:PDT
DTSTART:20260308T100000
END:DAYLIGHT
BEGIN:STANDARD
TZOFFSETFROM:-0700
TZOFFSETTO:-0800
TZNAME:PST
DTSTART:20261101T090000
END:STANDARD
BEGIN:DAYLIGHT
TZOFFSETFROM:-0800
TZOFFSETTO:-0700
TZNAME:PDT
DTSTART:20270314T100000
END:DAYLIGHT
BEGIN:STANDARD
TZOFFSETFROM:-0700
TZOFFSETTO:-0800
TZNAME:PST
DTSTART:20271107T090000
END:STANDARD
END:VTIMEZONE
BEGIN:VEVENT
DTSTART;TZID=America/Los_Angeles:20260315T080000
DTEND;TZID=America/Los_Angeles:20260315T100000
DTSTAMP:20260425T042203
CREATED:20260226T003741Z
LAST-MODIFIED:20260310T190453Z
UID:10022199-1773561600-1773568800@sjcc.org
SUMMARY:Sunday Pick-Up Basketball
DESCRIPTION:Join us for a high-energy stair workout at Mercerdale Park. We’ll start together and warm-up\, then take on the stairs—challenge yourself to complete as many climbs as you can at your own pace.
URL:https://sjcc.org/event/sunday-pick-up-basketball-hours/2026-03-15/
LOCATION:Stroum Jewish Community Center\, 3801 E Mercer Way\, Mercer Island\, WA\, United States
CATEGORIES:Facilities,Fitness and Aquatics,Gym
ORGANIZER;CN="Stroum JCC":MAILTO:info@sjcc.org
GEO:47.576754;-122.206204
X-APPLE-STRUCTURED-LOCATION;VALUE=URI;X-ADDRESS=Stroum Jewish Community Center 3801 E Mercer Way Mercer Island WA United States;X-APPLE-RADIUS=500;X-TITLE=3801 E Mercer Way:geo:-122.206204,47.576754
END:VEVENT
BEGIN:VEVENT
DTSTART;TZID=America/Los_Angeles:20260315T080000
DTEND;TZID=America/Los_Angeles:20260315T164500
DTSTAMP:20260425T042203
CREATED:20260225T215744Z
LAST-MODIFIED:20260225T235833Z
UID:10021578-1773561600-1773593100@sjcc.org
SUMMARY:Sunday Pool Hours
DESCRIPTION:Join us for a high-energy stair workout at Mercerdale Park. We’ll start together and warm-up\, then take on the stairs—challenge yourself to complete as many climbs as you can at your own pace.
URL:https://sjcc.org/event/sunday-pool-hours/2026-03-15/
LOCATION:Stroum Jewish Community Center\, 3801 E Mercer Way\, Mercer Island\, WA\, United States
CATEGORIES:Fitness and Aquatics,Pool,Swimming
ORGANIZER;CN="Stroum JCC":MAILTO:info@sjcc.org
GEO:47.576754;-122.206204
X-APPLE-STRUCTURED-LOCATION;VALUE=URI;X-ADDRESS=Stroum Jewish Community Center 3801 E Mercer Way Mercer Island WA United States;X-APPLE-RADIUS=500;X-TITLE=3801 E Mercer Way:geo:-122.206204,47.576754
END:VEVENT
BEGIN:VEVENT
DTSTART;TZID=America/Los_Angeles:20260315T081000
DTEND;TZID=America/Los_Angeles:20260315T091000
DTSTAMP:20260425T042203
CREATED:20251216T173745Z
LAST-MODIFIED:20260423T212408Z
UID:10022529-1773562200-1773565800@sjcc.org
SUMMARY:Fitness Class: Advanced H.I.R.T - Sunday
DESCRIPTION:Join us for a high-energy stair workout at Mercerdale Park. We’ll start together and warm-up\, then take on the stairs—challenge yourself to complete as many climbs as you can at your own pace.
URL:https://sjcc.org/event/fitness-class-advanced-h-i-r-t-sunday-2/2026-03-15/
LOCATION:Stroum Jewish Community Center\, 3801 E Mercer Way\, Mercer Island\, WA\, United States
CATEGORIES:Advanced,Demographics: Adults,Demographics: Seniors (55+ better),Demographics: Young Adults,Exercise Studio,Fitness and Aquatics,Group Fitness Classes,Membership
ORGANIZER;CN="Stroum JCC":MAILTO:info@sjcc.org
GEO:47.576754;-122.206204
X-APPLE-STRUCTURED-LOCATION;VALUE=URI;X-ADDRESS=Stroum Jewish Community Center 3801 E Mercer Way Mercer Island WA United States;X-APPLE-RADIUS=500;X-TITLE=3801 E Mercer Way:geo:-122.206204,47.576754
END:VEVENT
BEGIN:VEVENT
DTSTART;TZID=America/Los_Angeles:20260315T092000
DTEND;TZID=America/Los_Angeles:20260315T102000
DTSTAMP:20260425T042203
CREATED:20251216T173814Z
LAST-MODIFIED:20260423T212329Z
UID:10022508-1773566400-1773570000@sjcc.org
SUMMARY:Fitness Class: H.I.R.T. - Sunday
DESCRIPTION:Join us for a high-energy stair workout at Mercerdale Park. We’ll start together and warm-up\, then take on the stairs—challenge yourself to complete as many climbs as you can at your own pace.
URL:https://sjcc.org/event/fitness-class-h-i-r-t-sunday-2/2026-03-15/
LOCATION:Stroum Jewish Community Center\, 3801 E Mercer Way\, Mercer Island\, WA\, United States
CATEGORIES:Demographics: Adults,Demographics: Seniors (55+ better),Demographics: Young Adults,Exercise Studio,Fitness and Aquatics,Group Fitness Classes,Intermediate,Membership
ORGANIZER;CN="Stroum JCC":MAILTO:info@sjcc.org
GEO:47.576754;-122.206204
X-APPLE-STRUCTURED-LOCATION;VALUE=URI;X-ADDRESS=Stroum Jewish Community Center 3801 E Mercer Way Mercer Island WA United States;X-APPLE-RADIUS=500;X-TITLE=3801 E Mercer Way:geo:-122.206204,47.576754
END:VEVENT
BEGIN:VEVENT
DTSTART;TZID=America/Los_Angeles:20260315T092000
DTEND;TZID=America/Los_Angeles:20260315T102000
DTSTAMP:20260425T042203
CREATED:20251216T174120Z
LAST-MODIFIED:20260423T212152Z
UID:10022487-1773566400-1773570000@sjcc.org
SUMMARY:Fitness Class: Restorative Stretch - Sunday
DESCRIPTION:Join us for a high-energy stair workout at Mercerdale Park. We’ll start together and warm-up\, then take on the stairs—challenge yourself to complete as many climbs as you can at your own pace.
URL:https://sjcc.org/event/fitness-class-restorative-stretch-sunday/2026-03-15/
LOCATION:Stroum Jewish Community Center\, 3801 E Mercer Way\, Mercer Island\, WA\, United States
CATEGORIES:Demographics: Adults,Demographics: Seniors (55+ better),Demographics: Young Adults,Exercise Studio,Fitness and Aquatics,Group Fitness Classes,Intermediate,Membership
ORGANIZER;CN="Stroum JCC":MAILTO:info@sjcc.org
GEO:47.576754;-122.206204
X-APPLE-STRUCTURED-LOCATION;VALUE=URI;X-ADDRESS=Stroum Jewish Community Center 3801 E Mercer Way Mercer Island WA United States;X-APPLE-RADIUS=500;X-TITLE=3801 E Mercer Way:geo:-122.206204,47.576754
END:VEVENT
BEGIN:VEVENT
DTSTART;TZID=America/Los_Angeles:20260315T100000
DTEND;TZID=America/Los_Angeles:20260315T120000
DTSTAMP:20260425T042203
CREATED:20260310T184749Z
LAST-MODIFIED:20260310T184750Z
UID:10022202-1773568800-1773576000@sjcc.org
SUMMARY:Sunday Pickleball Hours
DESCRIPTION:Join us for a high-energy stair workout at Mercerdale Park. We’ll start together and warm-up\, then take on the stairs—challenge yourself to complete as many climbs as you can at your own pace.
URL:https://sjcc.org/event/wednesday-pickleball-hours-2/2026-03-15/
LOCATION:Stroum Jewish Community Center\, 3801 E Mercer Way\, Mercer Island\, WA\, United States
CATEGORIES:Fitness and Aquatics,Gym,Pickleball
ORGANIZER;CN="Stroum JCC":MAILTO:info@sjcc.org
GEO:47.576754;-122.206204
X-APPLE-STRUCTURED-LOCATION;VALUE=URI;X-ADDRESS=Stroum Jewish Community Center 3801 E Mercer Way Mercer Island WA United States;X-APPLE-RADIUS=500;X-TITLE=3801 E Mercer Way:geo:-122.206204,47.576754
END:VEVENT
BEGIN:VEVENT
DTSTART;TZID=America/Los_Angeles:20260315T103000
DTEND;TZID=America/Los_Angeles:20260315T113000
DTSTAMP:20260425T042203
CREATED:20251216T173718Z
LAST-MODIFIED:20260423T212620Z
UID:10020580-1773570600-1773574200@sjcc.org
SUMMARY:Fitness Class: Step Class - Sunday
DESCRIPTION:Join us for a high-energy stair workout at Mercerdale Park. We’ll start together and warm-up\, then take on the stairs—challenge yourself to complete as many climbs as you can at your own pace.
URL:https://sjcc.org/event/fitness-class-step-class-sunday/2026-03-15/
LOCATION:Stroum Jewish Community Center\, 3801 E Mercer Way\, Mercer Island\, WA\, United States
CATEGORIES:Demographics: Adults,Demographics: Seniors (55+ better),Demographics: Young Adults,Exercise Studio,Fitness and Aquatics,Group Fitness Classes,Intermediate,Membership
ORGANIZER;CN="Stroum JCC":MAILTO:info@sjcc.org
GEO:47.576754;-122.206204
X-APPLE-STRUCTURED-LOCATION;VALUE=URI;X-ADDRESS=Stroum Jewish Community Center 3801 E Mercer Way Mercer Island WA United States;X-APPLE-RADIUS=500;X-TITLE=3801 E Mercer Way:geo:-122.206204,47.576754
END:VEVENT
BEGIN:VEVENT
DTSTART;TZID=America/Los_Angeles:20260315T143000
DTEND;TZID=America/Los_Angeles:20260315T160000
DTSTAMP:20260425T042203
CREATED:20260226T002135Z
LAST-MODIFIED:20260226T002135Z
UID:10022055-1773585000-1773590400@sjcc.org
SUMMARY:Sunday Open Gym
DESCRIPTION:Join us for a high-energy stair workout at Mercerdale Park. We’ll start together and warm-up\, then take on the stairs—challenge yourself to complete as many climbs as you can at your own pace.
URL:https://sjcc.org/event/sunday-open-gym/2026-03-15/
LOCATION:Stroum Jewish Community Center\, 3801 E Mercer Way\, Mercer Island\, WA\, United States
CATEGORIES:Fitness and Aquatics,Gym
ORGANIZER;CN="Stroum JCC":MAILTO:info@sjcc.org
GEO:47.576754;-122.206204
X-APPLE-STRUCTURED-LOCATION;VALUE=URI;X-ADDRESS=Stroum Jewish Community Center 3801 E Mercer Way Mercer Island WA United States;X-APPLE-RADIUS=500;X-TITLE=3801 E Mercer Way:geo:-122.206204,47.576754
END:VEVENT
END:VCALENDAR