BEGIN:VCALENDAR
VERSION:2.0
PRODID:-//Stroum Jewish Community Center of Greater Seattle - ECPv6.15.20//NONSGML v1.0//EN
CALSCALE:GREGORIAN
METHOD:PUBLISH
X-WR-CALNAME:Stroum Jewish Community Center of Greater Seattle
X-ORIGINAL-URL:https://sjcc.org
X-WR-CALDESC:Events for Stroum Jewish Community Center of Greater Seattle
REFRESH-INTERVAL;VALUE=DURATION:PT1H
X-Robots-Tag:noindex
X-PUBLISHED-TTL:PT1H
BEGIN:VTIMEZONE
TZID:America/Los_Angeles
BEGIN:DAYLIGHT
TZOFFSETFROM:-0800
TZOFFSETTO:-0700
TZNAME:PDT
DTSTART:20250309T100000
END:DAYLIGHT
BEGIN:STANDARD
TZOFFSETFROM:-0700
TZOFFSETTO:-0800
TZNAME:PST
DTSTART:20251102T090000
END:STANDARD
BEGIN:DAYLIGHT
TZOFFSETFROM:-0800
TZOFFSETTO:-0700
TZNAME:PDT
DTSTART:20260308T100000
END:DAYLIGHT
BEGIN:STANDARD
TZOFFSETFROM:-0700
TZOFFSETTO:-0800
TZNAME:PST
DTSTART:20261101T090000
END:STANDARD
BEGIN:DAYLIGHT
TZOFFSETFROM:-0800
TZOFFSETTO:-0700
TZNAME:PDT
DTSTART:20270314T100000
END:DAYLIGHT
BEGIN:STANDARD
TZOFFSETFROM:-0700
TZOFFSETTO:-0800
TZNAME:PST
DTSTART:20271107T090000
END:STANDARD
END:VTIMEZONE
BEGIN:VEVENT
DTSTART;TZID=America/Los_Angeles:20260804T083000
DTEND;TZID=America/Los_Angeles:20260804T093000
DTSTAMP:20260424T121014
CREATED:20251216T174616Z
LAST-MODIFIED:20260423T180324Z
UID:10022737-1785832200-1785835800@sjcc.org
SUMMARY:Fitness Class: TRX Suspension Training
DESCRIPTION:Celebrate Lag B'Omer with the J! Bring the whole family to roast and enjoy delicious s'mores over our community bonfire (weather permitting).
URL:https://sjcc.org/event/fitness-class-trx-suspension-training-2/2026-08-04/
LOCATION:Stroum Jewish Community Center\, 3801 E Mercer Way\, Mercer Island\, WA\, United States
CATEGORIES:Demographics: Adults,Demographics: Young Adults,Exercise Studio,Fitness and Aquatics,Group Fitness Classes,Intermediate,Membership
ORGANIZER;CN="Stroum JCC":MAILTO:info@sjcc.org
GEO:47.576754;-122.206204
X-APPLE-STRUCTURED-LOCATION;VALUE=URI;X-ADDRESS=Stroum Jewish Community Center 3801 E Mercer Way Mercer Island WA United States;X-APPLE-RADIUS=500;X-TITLE=3801 E Mercer Way:geo:-122.206204,47.576754
END:VEVENT
BEGIN:VEVENT
DTSTART;TZID=America/Los_Angeles:20260804T090000
DTEND;TZID=America/Los_Angeles:20260804T100000
DTSTAMP:20260424T121014
CREATED:20260123T003133Z
LAST-MODIFIED:20260423T180303Z
UID:10022724-1785834000-1785837600@sjcc.org
SUMMARY:Fitness Class: Aqua Fit Strong
DESCRIPTION:Celebrate Lag B'Omer with the J! Bring the whole family to roast and enjoy delicious s'mores over our community bonfire (weather permitting).
URL:https://sjcc.org/event/fitness-class-aqua-fit-strong/2026-08-04/
LOCATION:Stroum Jewish Community Center\, 3801 E Mercer Way\, Mercer Island\, WA\, United States
CATEGORIES:Adults + Seniors,Beginner,Demographics: Adults,Demographics: Seniors (55+ better),Fitness and Aquatics,Group Fitness Classes,Membership,Pool,Swimming
ORGANIZER;CN="Stroum JCC":MAILTO:info@sjcc.org
GEO:47.576754;-122.206204
X-APPLE-STRUCTURED-LOCATION;VALUE=URI;X-ADDRESS=Stroum Jewish Community Center 3801 E Mercer Way Mercer Island WA United States;X-APPLE-RADIUS=500;X-TITLE=3801 E Mercer Way:geo:-122.206204,47.576754
END:VEVENT
BEGIN:VEVENT
DTSTART;TZID=America/Los_Angeles:20260804T094500
DTEND;TZID=America/Los_Angeles:20260804T104500
DTSTAMP:20260424T121014
CREATED:20251216T174544Z
LAST-MODIFIED:20260423T194756Z
UID:10022759-1785836700-1785840300@sjcc.org
SUMMARY:Fitness Class: Body Fit
DESCRIPTION:Celebrate Lag B'Omer with the J! Bring the whole family to roast and enjoy delicious s'mores over our community bonfire (weather permitting).
URL:https://sjcc.org/event/fitness-class-body-fit/2026-08-04/
LOCATION:Stroum Jewish Community Center\, 3801 E Mercer Way\, Mercer Island\, WA\, United States
CATEGORIES:Demographics: Adults,Demographics: Seniors (55+ better),Demographics: Young Adults,Exercise Studio,Fitness and Aquatics,Group Fitness Classes,Intermediate,Membership
ORGANIZER;CN="Stroum JCC":MAILTO:info@sjcc.org
GEO:47.576754;-122.206204
X-APPLE-STRUCTURED-LOCATION;VALUE=URI;X-ADDRESS=Stroum Jewish Community Center 3801 E Mercer Way Mercer Island WA United States;X-APPLE-RADIUS=500;X-TITLE=3801 E Mercer Way:geo:-122.206204,47.576754
END:VEVENT
BEGIN:VEVENT
DTSTART;TZID=America/Los_Angeles:20260804T100000
DTEND;TZID=America/Los_Angeles:20260804T110000
DTSTAMP:20260424T121014
CREATED:20251216T174224Z
LAST-MODIFIED:20260423T195307Z
UID:10022816-1785837600-1785841200@sjcc.org
SUMMARY:Fitness Class: Zumba
DESCRIPTION:Celebrate Lag B'Omer with the J! Bring the whole family to roast and enjoy delicious s'mores over our community bonfire (weather permitting).
URL:https://sjcc.org/event/fitness-class-zumba-2/2026-08-04/
LOCATION:Stroum Jewish Community Center\, 3801 E Mercer Way\, Mercer Island\, WA\, United States
CATEGORIES:Demographics: Adults,Demographics: Seniors (55+ better),Demographics: Young Adults,Fitness and Aquatics,Group Fitness Classes,Intermediate,Membership
ORGANIZER;CN="Stroum JCC":MAILTO:info@sjcc.org
GEO:47.576754;-122.206204
X-APPLE-STRUCTURED-LOCATION;VALUE=URI;X-ADDRESS=Stroum Jewish Community Center 3801 E Mercer Way Mercer Island WA United States;X-APPLE-RADIUS=500;X-TITLE=3801 E Mercer Way:geo:-122.206204,47.576754
END:VEVENT
BEGIN:VEVENT
DTSTART;TZID=America/Los_Angeles:20260804T110000
DTEND;TZID=America/Los_Angeles:20260804T120000
DTSTAMP:20260424T121014
CREATED:20251216T173527Z
LAST-MODIFIED:20260423T212658Z
UID:10022962-1785841200-1785844800@sjcc.org
SUMMARY:Fitness Class: Senior Strong
DESCRIPTION:Celebrate Lag B'Omer with the J! Bring the whole family to roast and enjoy delicious s'mores over our community bonfire (weather permitting).
URL:https://sjcc.org/event/fitness-class-senior-strong-2/2026-08-04/
LOCATION:Stroum Jewish Community Center\, 3801 E Mercer Way\, Mercer Island\, WA\, United States
CATEGORIES:Adults + Seniors,Beginner,Demographics: Adults,Demographics: Seniors (55+ better),Demographics: Young Adults,Exercise Studio,Fitness and Aquatics,Group Fitness Classes,Membership,Senior Fitness
ORGANIZER;CN="Stroum JCC":MAILTO:info@sjcc.org
GEO:47.576754;-122.206204
X-APPLE-STRUCTURED-LOCATION;VALUE=URI;X-ADDRESS=Stroum Jewish Community Center 3801 E Mercer Way Mercer Island WA United States;X-APPLE-RADIUS=500;X-TITLE=3801 E Mercer Way:geo:-122.206204,47.576754
END:VEVENT
BEGIN:VEVENT
DTSTART;TZID=America/Los_Angeles:20260804T163000
DTEND;TZID=America/Los_Angeles:20260804T173000
DTSTAMP:20260424T121014
CREATED:20251216T172820Z
LAST-MODIFIED:20260423T212805Z
UID:10023011-1785861000-1785864600@sjcc.org
SUMMARY:Fitness Class: H.I.R.T - T/TH
DESCRIPTION:Celebrate Lag B'Omer with the J! Bring the whole family to roast and enjoy delicious s'mores over our community bonfire (weather permitting).
URL:https://sjcc.org/event/fitness-class-h-i-r-t-t-th/2026-08-04/
LOCATION:Stroum Jewish Community Center\, 3801 E Mercer Way\, Mercer Island\, WA\, United States
CATEGORIES:Demographics: Adults,Demographics: Seniors (55+ better),Demographics: Young Adults,Exercise Studio,Fitness and Aquatics,Group Fitness Classes,Intermediate,Membership
ORGANIZER;CN="Stroum JCC":MAILTO:info@sjcc.org
GEO:47.576754;-122.206204
X-APPLE-STRUCTURED-LOCATION;VALUE=URI;X-ADDRESS=Stroum Jewish Community Center 3801 E Mercer Way Mercer Island WA United States;X-APPLE-RADIUS=500;X-TITLE=3801 E Mercer Way:geo:-122.206204,47.576754
END:VEVENT
END:VCALENDAR