BEGIN:VCALENDAR
VERSION:2.0
PRODID:-//Stroum Jewish Community Center of Greater Seattle - ECPv6.15.20//NONSGML v1.0//EN
CALSCALE:GREGORIAN
METHOD:PUBLISH
X-ORIGINAL-URL:https://sjcc.org
X-WR-CALDESC:Events for Stroum Jewish Community Center of Greater Seattle
REFRESH-INTERVAL;VALUE=DURATION:PT1H
X-Robots-Tag:noindex
X-PUBLISHED-TTL:PT1H
BEGIN:VTIMEZONE
TZID:America/Los_Angeles
BEGIN:DAYLIGHT
TZOFFSETFROM:-0800
TZOFFSETTO:-0700
TZNAME:PDT
DTSTART:20250309T100000
END:DAYLIGHT
BEGIN:STANDARD
TZOFFSETFROM:-0700
TZOFFSETTO:-0800
TZNAME:PST
DTSTART:20251102T090000
END:STANDARD
BEGIN:DAYLIGHT
TZOFFSETFROM:-0800
TZOFFSETTO:-0700
TZNAME:PDT
DTSTART:20260308T100000
END:DAYLIGHT
BEGIN:STANDARD
TZOFFSETFROM:-0700
TZOFFSETTO:-0800
TZNAME:PST
DTSTART:20261101T090000
END:STANDARD
BEGIN:DAYLIGHT
TZOFFSETFROM:-0800
TZOFFSETTO:-0700
TZNAME:PDT
DTSTART:20270314T100000
END:DAYLIGHT
BEGIN:STANDARD
TZOFFSETFROM:-0700
TZOFFSETTO:-0800
TZNAME:PST
DTSTART:20271107T090000
END:STANDARD
END:VTIMEZONE
BEGIN:VEVENT
DTSTART;TZID=America/Los_Angeles:20260528T061500
DTEND;TZID=America/Los_Angeles:20260528T071500
DTSTAMP:20260423T054612
CREATED:20250208T003617Z
LAST-MODIFIED:20260420T165907Z
UID:10022553-1779948900-1779952500@sjcc.org
SUMMARY:Fitness Class: Total Body Sculpt
DESCRIPTION:Celebrate Lag B'Omer with the J! Bring the whole family to roast and enjoy delicious s'mores over our community bonfire (weather permitting).
URL:https://sjcc.org/event/fitness-class-total-body-sculpt/2026-05-28/
LOCATION:Stroum Jewish Community Center\, 3801 E Mercer Way\, Mercer Island\, WA\, United States
CATEGORIES:Advanced,Demographics: Adults,Demographics: Seniors (55+ better),Demographics: Young Adults,Exercise Studio,Fitness and Aquatics,Group Fitness Classes,Membership
ORGANIZER;CN="Stroum JCC":MAILTO:info@sjcc.org
GEO:47.576754;-122.206204
X-APPLE-STRUCTURED-LOCATION;VALUE=URI;X-ADDRESS=Stroum Jewish Community Center 3801 E Mercer Way Mercer Island WA United States;X-APPLE-RADIUS=500;X-TITLE=3801 E Mercer Way:geo:-122.206204,47.576754
END:VEVENT
BEGIN:VEVENT
DTSTART;TZID=America/Los_Angeles:20260528T083000
DTEND;TZID=America/Los_Angeles:20260528T093000
DTSTAMP:20260423T054612
CREATED:20251216T174154Z
LAST-MODIFIED:20260323T201153Z
UID:10020131-1779957000-1779960600@sjcc.org
SUMMARY:Fitness Class: Step Class - Thursday
DESCRIPTION:Celebrate Lag B'Omer with the J! Bring the whole family to roast and enjoy delicious s'mores over our community bonfire (weather permitting).
URL:https://sjcc.org/event/fitness-class-step-class-thursday-2/2026-05-28/
LOCATION:Stroum Jewish Community Center\, 3801 E Mercer Way\, Mercer Island\, WA\, United States
CATEGORIES:Demographics: Adults,Demographics: Seniors (55+ better),Demographics: Young Adults,Exercise Studio,Fitness and Aquatics,Group Fitness Classes,Membership,Small Group at the J
ORGANIZER;CN="Stroum JCC":MAILTO:info@sjcc.org
GEO:47.576754;-122.206204
X-APPLE-STRUCTURED-LOCATION;VALUE=URI;X-ADDRESS=Stroum Jewish Community Center 3801 E Mercer Way Mercer Island WA United States;X-APPLE-RADIUS=500;X-TITLE=3801 E Mercer Way:geo:-122.206204,47.576754
END:VEVENT
BEGIN:VEVENT
DTSTART;TZID=America/Los_Angeles:20260528T090000
DTEND;TZID=America/Los_Angeles:20260528T100000
DTSTAMP:20260423T054612
CREATED:20260123T004410Z
LAST-MODIFIED:20260323T201216Z
UID:10021108-1779958800-1779962400@sjcc.org
SUMMARY:Fitness Class: Aqua Fit HIIT
DESCRIPTION:Celebrate Lag B'Omer with the J! Bring the whole family to roast and enjoy delicious s'mores over our community bonfire (weather permitting).
URL:https://sjcc.org/event/fitness-class-aqua-fit-hiit/2026-05-28/
LOCATION:Stroum Jewish Community Center\, 3801 E Mercer Way\, Mercer Island\, WA\, United States
CATEGORIES:Adults + Seniors,Beginner,Demographics: Adults,Demographics: Seniors (55+ better),Fitness and Aquatics,Group Fitness Classes,Membership,Pool,Swimming
ORGANIZER;CN="Stroum JCC":MAILTO:info@sjcc.org
GEO:47.576754;-122.206204
X-APPLE-STRUCTURED-LOCATION;VALUE=URI;X-ADDRESS=Stroum Jewish Community Center 3801 E Mercer Way Mercer Island WA United States;X-APPLE-RADIUS=500;X-TITLE=3801 E Mercer Way:geo:-122.206204,47.576754
END:VEVENT
BEGIN:VEVENT
DTSTART;TZID=America/Los_Angeles:20260528T090000
DTEND;TZID=America/Los_Angeles:20260528T120000
DTSTAMP:20260423T054612
CREATED:20260413T194123Z
LAST-MODIFIED:20260422T192144Z
UID:10022475-1779958800-1779969600@sjcc.org
SUMMARY:Schwartz ECS Truck Day
DESCRIPTION:Celebrate Lag B'Omer with the J! Bring the whole family to roast and enjoy delicious s'mores over our community bonfire (weather permitting).
URL:https://sjcc.org/event/schwartz-ecs-truck-day/
LOCATION:Stroum Jewish Community Center\, 3801 E Mercer Way\, Mercer Island\, WA\, United States
CATEGORIES:Demographics,Demographics: Early Childhood (Birth to 5 yrs),ECS,ECS Events
ATTACH;FMTTYPE=image/jpeg:https://sjcc.org/wp-content/uploads/2026/04/260528-secs-truck-day-EVENT-1200.jpg
ORGANIZER;CN="Stroum JCC":MAILTO:info@sjcc.org
GEO:47.576754;-122.206204
X-APPLE-STRUCTURED-LOCATION;VALUE=URI;X-ADDRESS=Stroum Jewish Community Center 3801 E Mercer Way Mercer Island WA United States;X-APPLE-RADIUS=500;X-TITLE=3801 E Mercer Way:geo:-122.206204,47.576754
END:VEVENT
BEGIN:VEVENT
DTSTART;TZID=America/Los_Angeles:20260528T094500
DTEND;TZID=America/Los_Angeles:20260528T104500
DTSTAMP:20260423T054612
CREATED:20251216T174544Z
LAST-MODIFIED:20260323T201245Z
UID:10020395-1779961500-1779965100@sjcc.org
SUMMARY:Fitness Class: Body Fit
DESCRIPTION:Celebrate Lag B'Omer with the J! Bring the whole family to roast and enjoy delicious s'mores over our community bonfire (weather permitting).
URL:https://sjcc.org/event/fitness-class-body-fit/2026-05-28/
LOCATION:Stroum Jewish Community Center\, 3801 E Mercer Way\, Mercer Island\, WA\, United States
CATEGORIES:Demographics: Adults,Demographics: Seniors (55+ better),Demographics: Young Adults,Exercise Studio,Fitness and Aquatics,Group Fitness Classes,Intermediate,Membership
ORGANIZER;CN="Stroum JCC":MAILTO:info@sjcc.org
GEO:47.576754;-122.206204
X-APPLE-STRUCTURED-LOCATION;VALUE=URI;X-ADDRESS=Stroum Jewish Community Center 3801 E Mercer Way Mercer Island WA United States;X-APPLE-RADIUS=500;X-TITLE=3801 E Mercer Way:geo:-122.206204,47.576754
END:VEVENT
BEGIN:VEVENT
DTSTART;TZID=America/Los_Angeles:20260528T110000
DTEND;TZID=America/Los_Angeles:20260528T114000
DTSTAMP:20260423T054612
CREATED:20260326T183514Z
LAST-MODIFIED:20260326T183514Z
UID:10022322-1779966000-1779968400@sjcc.org
SUMMARY:Fitness Class: Balance + Stability
DESCRIPTION:Celebrate Lag B'Omer with the J! Bring the whole family to roast and enjoy delicious s'mores over our community bonfire (weather permitting).
URL:https://sjcc.org/event/fitness-class-balance-stability/2026-05-28/
LOCATION:Stroum Jewish Community Center\, 3801 E Mercer Way\, Mercer Island\, WA\, United States
CATEGORIES:Beginner,Demographics: Adults,Demographics: Seniors (55+ better),Demographics: Young Adults,Exercise Studio,Fitness and Aquatics,Group Fitness Classes
ORGANIZER;CN="Stroum JCC":MAILTO:info@sjcc.org
GEO:47.576754;-122.206204
X-APPLE-STRUCTURED-LOCATION;VALUE=URI;X-ADDRESS=Stroum Jewish Community Center 3801 E Mercer Way Mercer Island WA United States;X-APPLE-RADIUS=500;X-TITLE=3801 E Mercer Way:geo:-122.206204,47.576754
END:VEVENT
BEGIN:VEVENT
DTSTART;TZID=America/Los_Angeles:20260528T163000
DTEND;TZID=America/Los_Angeles:20260528T173000
DTSTAMP:20260423T054612
CREATED:20251216T172820Z
LAST-MODIFIED:20260420T170037Z
UID:10019185-1779985800-1779989400@sjcc.org
SUMMARY:Fitness Class: H.I.R.T - T/TH
DESCRIPTION:Celebrate Lag B'Omer with the J! Bring the whole family to roast and enjoy delicious s'mores over our community bonfire (weather permitting).
URL:https://sjcc.org/event/fitness-class-h-i-r-t-t-th/2026-05-28/
LOCATION:Stroum Jewish Community Center\, 3801 E Mercer Way\, Mercer Island\, WA\, United States
CATEGORIES:Demographics: Adults,Demographics: Seniors (55+ better),Demographics: Young Adults,Exercise Studio,Fitness and Aquatics,Group Fitness Classes,Intermediate,Membership
ORGANIZER;CN="Stroum JCC":MAILTO:info@sjcc.org
GEO:47.576754;-122.206204
X-APPLE-STRUCTURED-LOCATION;VALUE=URI;X-ADDRESS=Stroum Jewish Community Center 3801 E Mercer Way Mercer Island WA United States;X-APPLE-RADIUS=500;X-TITLE=3801 E Mercer Way:geo:-122.206204,47.576754
END:VEVENT
BEGIN:VEVENT
DTSTART;TZID=America/Los_Angeles:20260528T174500
DTEND;TZID=America/Los_Angeles:20260528T184500
DTSTAMP:20260423T054612
CREATED:20260422T225243Z
LAST-MODIFIED:20260422T225538Z
UID:10022607-1779990300-1779993900@sjcc.org
SUMMARY:Fitness Class: Countdown to Strong
DESCRIPTION:Celebrate Lag B'Omer with the J! Bring the whole family to roast and enjoy delicious s'mores over our community bonfire (weather permitting).
URL:https://sjcc.org/event/fitness-class-countdown-to-strong/2026-05-28/
LOCATION:Stroum Jewish Community Center\, 3801 E Mercer Way\, Mercer Island\, WA\, United States
CATEGORIES:Beginner,Demographics,Demographics: Adults,Demographics: Seniors (55+ better),Demographics: Young Adults,Exercise Studio,Facilities,Fitness and Aquatics,Group Fitness Classes
ORGANIZER;CN="Stroum JCC":MAILTO:info@sjcc.org
GEO:47.576754;-122.206204
X-APPLE-STRUCTURED-LOCATION;VALUE=URI;X-ADDRESS=Stroum Jewish Community Center 3801 E Mercer Way Mercer Island WA United States;X-APPLE-RADIUS=500;X-TITLE=3801 E Mercer Way:geo:-122.206204,47.576754
END:VEVENT
END:VCALENDAR