BEGIN:VCALENDAR
VERSION:2.0
PRODID:-//Stroum Jewish Community Center of Greater Seattle - ECPv6.15.20//NONSGML v1.0//EN
CALSCALE:GREGORIAN
METHOD:PUBLISH
X-ORIGINAL-URL:https://sjcc.org
X-WR-CALDESC:Events for Stroum Jewish Community Center of Greater Seattle
REFRESH-INTERVAL;VALUE=DURATION:PT1H
X-Robots-Tag:noindex
X-PUBLISHED-TTL:PT1H
BEGIN:VTIMEZONE
TZID:America/Los_Angeles
BEGIN:DAYLIGHT
TZOFFSETFROM:-0800
TZOFFSETTO:-0700
TZNAME:PDT
DTSTART:20250309T100000
END:DAYLIGHT
BEGIN:STANDARD
TZOFFSETFROM:-0700
TZOFFSETTO:-0800
TZNAME:PST
DTSTART:20251102T090000
END:STANDARD
BEGIN:DAYLIGHT
TZOFFSETFROM:-0800
TZOFFSETTO:-0700
TZNAME:PDT
DTSTART:20260308T100000
END:DAYLIGHT
BEGIN:STANDARD
TZOFFSETFROM:-0700
TZOFFSETTO:-0800
TZNAME:PST
DTSTART:20261101T090000
END:STANDARD
BEGIN:DAYLIGHT
TZOFFSETFROM:-0800
TZOFFSETTO:-0700
TZNAME:PDT
DTSTART:20270314T100000
END:DAYLIGHT
BEGIN:STANDARD
TZOFFSETFROM:-0700
TZOFFSETTO:-0800
TZNAME:PST
DTSTART:20271107T090000
END:STANDARD
END:VTIMEZONE
BEGIN:VEVENT
DTSTART;TZID=America/Los_Angeles:20260517T081000
DTEND;TZID=America/Los_Angeles:20260517T091000
DTSTAMP:20260425T041311
CREATED:20251216T173745Z
LAST-MODIFIED:20260423T212408Z
UID:10022538-1779005400-1779009000@sjcc.org
SUMMARY:Fitness Class: Advanced H.I.R.T - Sunday
DESCRIPTION:Celebrate Lag B'Omer with the J! Bring the whole family to roast and enjoy delicious s'mores over our community bonfire (weather permitting).
URL:https://sjcc.org/event/fitness-class-advanced-h-i-r-t-sunday-2/2026-05-17/
LOCATION:Stroum Jewish Community Center\, 3801 E Mercer Way\, Mercer Island\, WA\, United States
CATEGORIES:Advanced,Demographics: Adults,Demographics: Seniors (55+ better),Demographics: Young Adults,Exercise Studio,Fitness and Aquatics,Group Fitness Classes,Membership
ORGANIZER;CN="Stroum JCC":MAILTO:info@sjcc.org
GEO:47.576754;-122.206204
X-APPLE-STRUCTURED-LOCATION;VALUE=URI;X-ADDRESS=Stroum Jewish Community Center 3801 E Mercer Way Mercer Island WA United States;X-APPLE-RADIUS=500;X-TITLE=3801 E Mercer Way:geo:-122.206204,47.576754
END:VEVENT
BEGIN:VEVENT
DTSTART;TZID=America/Los_Angeles:20260517T092000
DTEND;TZID=America/Los_Angeles:20260517T102000
DTSTAMP:20260425T041311
CREATED:20251216T174120Z
LAST-MODIFIED:20260423T212152Z
UID:10022496-1779009600-1779013200@sjcc.org
SUMMARY:Fitness Class: Restorative Stretch - Sunday
DESCRIPTION:Celebrate Lag B'Omer with the J! Bring the whole family to roast and enjoy delicious s'mores over our community bonfire (weather permitting).
URL:https://sjcc.org/event/fitness-class-restorative-stretch-sunday/2026-05-17/
LOCATION:Stroum Jewish Community Center\, 3801 E Mercer Way\, Mercer Island\, WA\, United States
CATEGORIES:Demographics: Adults,Demographics: Seniors (55+ better),Demographics: Young Adults,Exercise Studio,Fitness and Aquatics,Group Fitness Classes,Intermediate,Membership
ORGANIZER;CN="Stroum JCC":MAILTO:info@sjcc.org
GEO:47.576754;-122.206204
X-APPLE-STRUCTURED-LOCATION;VALUE=URI;X-ADDRESS=Stroum Jewish Community Center 3801 E Mercer Way Mercer Island WA United States;X-APPLE-RADIUS=500;X-TITLE=3801 E Mercer Way:geo:-122.206204,47.576754
END:VEVENT
BEGIN:VEVENT
DTSTART;TZID=America/Los_Angeles:20260517T103000
DTEND;TZID=America/Los_Angeles:20260517T113000
DTSTAMP:20260425T041311
CREATED:20251216T173718Z
LAST-MODIFIED:20260423T212620Z
UID:10020589-1779013800-1779017400@sjcc.org
SUMMARY:Fitness Class: Step Class - Sunday
DESCRIPTION:Celebrate Lag B'Omer with the J! Bring the whole family to roast and enjoy delicious s'mores over our community bonfire (weather permitting).
URL:https://sjcc.org/event/fitness-class-step-class-sunday/2026-05-17/
LOCATION:Stroum Jewish Community Center\, 3801 E Mercer Way\, Mercer Island\, WA\, United States
CATEGORIES:Demographics: Adults,Demographics: Seniors (55+ better),Demographics: Young Adults,Exercise Studio,Fitness and Aquatics,Group Fitness Classes,Intermediate,Membership
ORGANIZER;CN="Stroum JCC":MAILTO:info@sjcc.org
GEO:47.576754;-122.206204
X-APPLE-STRUCTURED-LOCATION;VALUE=URI;X-ADDRESS=Stroum Jewish Community Center 3801 E Mercer Way Mercer Island WA United States;X-APPLE-RADIUS=500;X-TITLE=3801 E Mercer Way:geo:-122.206204,47.576754
END:VEVENT
BEGIN:VEVENT
DTSTART;TZID=America/Los_Angeles:20260517T103000
DTEND;TZID=America/Los_Angeles:20260517T123000
DTSTAMP:20260425T041311
CREATED:20260408T172024Z
LAST-MODIFIED:20260422T191319Z
UID:10022455-1779013800-1779021000@sjcc.org
SUMMARY:Encanto + Eggos Movie Matinee
DESCRIPTION:Celebrate Lag B'Omer with the J! Bring the whole family to roast and enjoy delicious s'mores over our community bonfire (weather permitting).
URL:https://sjcc.org/event/encanto-eggos-movie-matinee/
LOCATION:Stroum Jewish Community Center\, 3801 E Mercer Way\, Mercer Island\, WA\, United States
CATEGORIES:Demographics,Demographics: Families,Family Programs,J Community,Kids: Grades K to 5th
ATTACH;FMTTYPE=image/jpeg:https://sjcc.org/wp-content/uploads/2026/04/260517-encanto-movie-matinee-EVENT-1200.jpg
ORGANIZER;CN="Stroum JCC":MAILTO:info@sjcc.org
GEO:47.576754;-122.206204
X-APPLE-STRUCTURED-LOCATION;VALUE=URI;X-ADDRESS=Stroum Jewish Community Center 3801 E Mercer Way Mercer Island WA United States;X-APPLE-RADIUS=500;X-TITLE=3801 E Mercer Way:geo:-122.206204,47.576754
END:VEVENT
BEGIN:VEVENT
DTSTART;TZID=America/Los_Angeles:20260517T133000
DTEND;TZID=America/Los_Angeles:20260517T143000
DTSTAMP:20260425T041311
CREATED:20260320T170904Z
LAST-MODIFIED:20260407T162314Z
UID:10022227-1779024600-1779028200@sjcc.org
SUMMARY:ACEing Autism
DESCRIPTION:Celebrate Lag B'Omer with the J! Bring the whole family to roast and enjoy delicious s'mores over our community bonfire (weather permitting).
URL:https://sjcc.org/event/aceing-autism/2026-05-17/
LOCATION:Stroum Jewish Community Center\, 3801 E Mercer Way\, Mercer Island\, WA\, United States
CATEGORIES:Demographics,Demographics: Families,Family Programs,J Community,Jewish Life,Kid Programs,Kids: Grades 6th to 8th,Kids: Grades K to 5th,Partner Event,Teen Programs,Teens: Grades 9th to 12th
ATTACH;FMTTYPE=image/jpeg:https://sjcc.org/wp-content/uploads/2026/03/260419-aceing-autism-EVENT-1200-2.jpg
ORGANIZER;CN="Stroum JCC":MAILTO:info@sjcc.org
GEO:47.576754;-122.206204
X-APPLE-STRUCTURED-LOCATION;VALUE=URI;X-ADDRESS=Stroum Jewish Community Center 3801 E Mercer Way Mercer Island WA United States;X-APPLE-RADIUS=500;X-TITLE=3801 E Mercer Way:geo:-122.206204,47.576754
END:VEVENT
BEGIN:VEVENT
DTSTART;TZID=America/Los_Angeles:20260517T133000
DTEND;TZID=America/Los_Angeles:20260517T150000
DTSTAMP:20260425T041311
CREATED:20260416T194315Z
LAST-MODIFIED:20260416T194316Z
UID:10022477-1779024600-1779030000@sjcc.org
SUMMARY:J Camp Open House
DESCRIPTION:Celebrate Lag B'Omer with the J! Bring the whole family to roast and enjoy delicious s'mores over our community bonfire (weather permitting).
URL:https://sjcc.org/event/j-camp-open-house/
LOCATION:Stroum Jewish Community Center\, 3801 E Mercer Way\, Mercer Island\, WA\, United States
CATEGORIES:Camps + After School,Demographics,Demographics: Adults,Demographics: Families,Summer J Camp
ORGANIZER;CN="Stroum JCC":MAILTO:info@sjcc.org
GEO:47.576754;-122.206204
X-APPLE-STRUCTURED-LOCATION;VALUE=URI;X-ADDRESS=Stroum Jewish Community Center 3801 E Mercer Way Mercer Island WA United States;X-APPLE-RADIUS=500;X-TITLE=3801 E Mercer Way:geo:-122.206204,47.576754
END:VEVENT
END:VCALENDAR