BEGIN:VCALENDAR
VERSION:2.0
PRODID:-//Stroum Jewish Community Center of Greater Seattle - ECPv6.15.20//NONSGML v1.0//EN
CALSCALE:GREGORIAN
METHOD:PUBLISH
X-ORIGINAL-URL:https://sjcc.org
X-WR-CALDESC:Events for Stroum Jewish Community Center of Greater Seattle
REFRESH-INTERVAL;VALUE=DURATION:PT1H
X-Robots-Tag:noindex
X-PUBLISHED-TTL:PT1H
BEGIN:VTIMEZONE
TZID:America/Los_Angeles
BEGIN:DAYLIGHT
TZOFFSETFROM:-0800
TZOFFSETTO:-0700
TZNAME:PDT
DTSTART:20240310T100000
END:DAYLIGHT
BEGIN:STANDARD
TZOFFSETFROM:-0700
TZOFFSETTO:-0800
TZNAME:PST
DTSTART:20241103T090000
END:STANDARD
BEGIN:DAYLIGHT
TZOFFSETFROM:-0800
TZOFFSETTO:-0700
TZNAME:PDT
DTSTART:20250309T100000
END:DAYLIGHT
BEGIN:STANDARD
TZOFFSETFROM:-0700
TZOFFSETTO:-0800
TZNAME:PST
DTSTART:20251102T090000
END:STANDARD
BEGIN:DAYLIGHT
TZOFFSETFROM:-0800
TZOFFSETTO:-0700
TZNAME:PDT
DTSTART:20260308T100000
END:DAYLIGHT
BEGIN:STANDARD
TZOFFSETFROM:-0700
TZOFFSETTO:-0800
TZNAME:PST
DTSTART:20261101T090000
END:STANDARD
END:VTIMEZONE
BEGIN:VEVENT
DTSTART;TZID=America/Los_Angeles:20251114T100000
DTEND;TZID=America/Los_Angeles:20251114T104500
DTSTAMP:20260419T212355
CREATED:20250925T202841Z
LAST-MODIFIED:20250926T163925Z
UID:10018104-1763114400-1763117100@sjcc.org
SUMMARY:North Seattle Tot Shabbat
DESCRIPTION:Held every Friday at 9:45 am\, we welcome Shabbat with singing\, dancing\, friends and fun! Registration not required\, just come by the J.
URL:https://sjcc.org/event/north-seattle-tot-shabbat-11-14/
LOCATION:Congregation Beth Shalom\, 6800 35th Ave NE\, Seattle\, 98115\, United States
CATEGORIES:Demographics,Demographics: Early Childhood (Birth to 5 yrs),Demographics: Families,Family Programs,Holiday Programs,J Community,Jewish Life,Kid Programs,Tot Shabbat
ATTACH;FMTTYPE=image/jpeg:https://sjcc.org/wp-content/uploads/2025/09/251114-north-seattle-tot-shabbat-EVENT-1200.jpg
ORGANIZER;CN="Stroum JCC":MAILTO:info@sjcc.org
END:VEVENT
BEGIN:VEVENT
DTSTART;TZID=America/Los_Angeles:20251114T094500
DTEND;TZID=America/Los_Angeles:20251114T103000
DTSTAMP:20260419T212355
CREATED:20250827T213250Z
LAST-MODIFIED:20260113T193447Z
UID:10017895-1763113500-1763116200@sjcc.org
SUMMARY:Tot Shabbat
DESCRIPTION:Held every Friday at 9:45 am\, we welcome Shabbat with singing\, dancing\, friends and fun! Registration not required\, just come by the J.
URL:https://sjcc.org/event/tot-shabbat-2-2/2025-11-14/
LOCATION:Stroum Jewish Community Center\, 3801 E Mercer Way\, Mercer Island\, WA\, United States
CATEGORIES:Demographics: Early Childhood (Birth to 5 yrs),Demographics: Families,Holiday Programs,J Community,Jewish Life,Kids: Grades K to 5th,Tot Shabbat
ATTACH;FMTTYPE=image/jpeg:https://sjcc.org/wp-content/uploads/2025/07/250710-tot-shabbat-EVENT-1200.jpg
ORGANIZER;CN="Stroum JCC":MAILTO:info@sjcc.org
GEO:47.576754;-122.206204
X-APPLE-STRUCTURED-LOCATION;VALUE=URI;X-ADDRESS=Stroum Jewish Community Center 3801 E Mercer Way Mercer Island WA United States;X-APPLE-RADIUS=500;X-TITLE=3801 E Mercer Way:geo:-122.206204,47.576754
END:VEVENT
BEGIN:VEVENT
DTSTART;TZID=America/Los_Angeles:20251111T090000
DTEND;TZID=America/Los_Angeles:20251111T160000
DTSTAMP:20260419T212355
CREATED:20250829T163221Z
LAST-MODIFIED:20251105T004232Z
UID:10018064-1762851600-1762876800@sjcc.org
SUMMARY:School's Out Veterans Day Camp
DESCRIPTION:Held every Friday at 9:45 am\, we welcome Shabbat with singing\, dancing\, friends and fun! Registration not required\, just come by the J.
URL:https://sjcc.org/event/schools-out-veterans-day-camp/
LOCATION:Stroum Jewish Community Center\, 3801 E Mercer Way\, Mercer Island\, WA\, United States
CATEGORIES:Camps + After School,Demographics: Early Childhood (Birth to 5 yrs),Demographics: Families,Kid Programs,Kids: Grades K to 5th,School's Out J Camp
ATTACH;FMTTYPE=image/jpeg:https://sjcc.org/wp-content/uploads/2025/08/251111-schools-out-veterans-EVENT-1200.jpg
ORGANIZER;CN="Stroum JCC":MAILTO:info@sjcc.org
GEO:47.576754;-122.206204
X-APPLE-STRUCTURED-LOCATION;VALUE=URI;X-ADDRESS=Stroum Jewish Community Center 3801 E Mercer Way Mercer Island WA United States;X-APPLE-RADIUS=500;X-TITLE=3801 E Mercer Way:geo:-122.206204,47.576754
END:VEVENT
BEGIN:VEVENT
DTSTART;VALUE=DATE:20251110
DTEND;VALUE=DATE:20251206
DTSTAMP:20260419T212355
CREATED:20251104T201955Z
LAST-MODIFIED:20251111T211815Z
UID:10018732-1762732800-1764979199@sjcc.org
SUMMARY:Helping Hands Hanukkah Drive
DESCRIPTION:Held every Friday at 9:45 am\, we welcome Shabbat with singing\, dancing\, friends and fun! Registration not required\, just come by the J.
URL:https://sjcc.org/event/helping-hands-hanukkah-drive/
LOCATION:Stroum Jewish Community Center\, 3801 E Mercer Way\, Mercer Island\, WA\, United States
CATEGORIES:Adults + Seniors,Demographics: Adults,Demographics: Early Childhood (Birth to 5 yrs),Demographics: Families,Demographics: Seniors (55+ better),Demographics: Young Adults,ECS,Family Programs,Holiday Programs,J Community,Jewish Life,Partner Event,Young Adult Programs
ATTACH;FMTTYPE=image/jpeg:https://sjcc.org/wp-content/uploads/2025/11/251110-helping-hands-hanukkah-EVENT-1200.jpg
ORGANIZER;CN="Stroum JCC":MAILTO:info@sjcc.org
GEO:47.576754;-122.206204
X-APPLE-STRUCTURED-LOCATION;VALUE=URI;X-ADDRESS=Stroum Jewish Community Center 3801 E Mercer Way Mercer Island WA United States;X-APPLE-RADIUS=500;X-TITLE=3801 E Mercer Way:geo:-122.206204,47.576754
END:VEVENT
BEGIN:VEVENT
DTSTART;TZID=America/Los_Angeles:20251107T094500
DTEND;TZID=America/Los_Angeles:20251107T103000
DTSTAMP:20260419T212355
CREATED:20250827T213250Z
LAST-MODIFIED:20260113T193447Z
UID:10017894-1762508700-1762511400@sjcc.org
SUMMARY:Tot Shabbat
DESCRIPTION:Held every Friday at 9:45 am\, we welcome Shabbat with singing\, dancing\, friends and fun! Registration not required\, just come by the J.
URL:https://sjcc.org/event/tot-shabbat-2-2/2025-11-07/
LOCATION:Stroum Jewish Community Center\, 3801 E Mercer Way\, Mercer Island\, WA\, United States
CATEGORIES:Demographics: Early Childhood (Birth to 5 yrs),Demographics: Families,Holiday Programs,J Community,Jewish Life,Kids: Grades K to 5th,Tot Shabbat
ATTACH;FMTTYPE=image/jpeg:https://sjcc.org/wp-content/uploads/2025/07/250710-tot-shabbat-EVENT-1200.jpg
ORGANIZER;CN="Stroum JCC":MAILTO:info@sjcc.org
GEO:47.576754;-122.206204
X-APPLE-STRUCTURED-LOCATION;VALUE=URI;X-ADDRESS=Stroum Jewish Community Center 3801 E Mercer Way Mercer Island WA United States;X-APPLE-RADIUS=500;X-TITLE=3801 E Mercer Way:geo:-122.206204,47.576754
END:VEVENT
BEGIN:VEVENT
DTSTART;TZID=America/Los_Angeles:20251031T094500
DTEND;TZID=America/Los_Angeles:20251031T103000
DTSTAMP:20260419T212355
CREATED:20250827T213250Z
LAST-MODIFIED:20260113T193447Z
UID:10017893-1761903900-1761906600@sjcc.org
SUMMARY:Tot Shabbat
DESCRIPTION:Held every Friday at 9:45 am\, we welcome Shabbat with singing\, dancing\, friends and fun! Registration not required\, just come by the J.
URL:https://sjcc.org/event/tot-shabbat-2-2/2025-10-31/
LOCATION:Stroum Jewish Community Center\, 3801 E Mercer Way\, Mercer Island\, WA\, United States
CATEGORIES:Demographics: Early Childhood (Birth to 5 yrs),Demographics: Families,Holiday Programs,J Community,Jewish Life,Kids: Grades K to 5th,Tot Shabbat
ATTACH;FMTTYPE=image/jpeg:https://sjcc.org/wp-content/uploads/2025/07/250710-tot-shabbat-EVENT-1200.jpg
ORGANIZER;CN="Stroum JCC":MAILTO:info@sjcc.org
GEO:47.576754;-122.206204
X-APPLE-STRUCTURED-LOCATION;VALUE=URI;X-ADDRESS=Stroum Jewish Community Center 3801 E Mercer Way Mercer Island WA United States;X-APPLE-RADIUS=500;X-TITLE=3801 E Mercer Way:geo:-122.206204,47.576754
END:VEVENT
BEGIN:VEVENT
DTSTART;TZID=America/Los_Angeles:20251024T094500
DTEND;TZID=America/Los_Angeles:20251024T103000
DTSTAMP:20260419T212355
CREATED:20250827T213250Z
LAST-MODIFIED:20260113T193447Z
UID:10017892-1761299100-1761301800@sjcc.org
SUMMARY:Tot Shabbat
DESCRIPTION:Held every Friday at 9:45 am\, we welcome Shabbat with singing\, dancing\, friends and fun! Registration not required\, just come by the J.
URL:https://sjcc.org/event/tot-shabbat-2-2/2025-10-24/
LOCATION:Stroum Jewish Community Center\, 3801 E Mercer Way\, Mercer Island\, WA\, United States
CATEGORIES:Demographics: Early Childhood (Birth to 5 yrs),Demographics: Families,Holiday Programs,J Community,Jewish Life,Kids: Grades K to 5th,Tot Shabbat
ATTACH;FMTTYPE=image/jpeg:https://sjcc.org/wp-content/uploads/2025/07/250710-tot-shabbat-EVENT-1200.jpg
ORGANIZER;CN="Stroum JCC":MAILTO:info@sjcc.org
GEO:47.576754;-122.206204
X-APPLE-STRUCTURED-LOCATION;VALUE=URI;X-ADDRESS=Stroum Jewish Community Center 3801 E Mercer Way Mercer Island WA United States;X-APPLE-RADIUS=500;X-TITLE=3801 E Mercer Way:geo:-122.206204,47.576754
END:VEVENT
END:VCALENDAR