BEGIN:VCALENDAR
VERSION:2.0
PRODID:-//Stroum Jewish Community Center of Greater Seattle - ECPv6.15.20//NONSGML v1.0//EN
CALSCALE:GREGORIAN
METHOD:PUBLISH
X-ORIGINAL-URL:https://sjcc.org
X-WR-CALDESC:Events for Stroum Jewish Community Center of Greater Seattle
REFRESH-INTERVAL;VALUE=DURATION:PT1H
X-Robots-Tag:noindex
X-PUBLISHED-TTL:PT1H
BEGIN:VTIMEZONE
TZID:America/Los_Angeles
BEGIN:DAYLIGHT
TZOFFSETFROM:-0800
TZOFFSETTO:-0700
TZNAME:PDT
DTSTART:20250309T100000
END:DAYLIGHT
BEGIN:STANDARD
TZOFFSETFROM:-0700
TZOFFSETTO:-0800
TZNAME:PST
DTSTART:20251102T090000
END:STANDARD
BEGIN:DAYLIGHT
TZOFFSETFROM:-0800
TZOFFSETTO:-0700
TZNAME:PDT
DTSTART:20260308T100000
END:DAYLIGHT
BEGIN:STANDARD
TZOFFSETFROM:-0700
TZOFFSETTO:-0800
TZNAME:PST
DTSTART:20261101T090000
END:STANDARD
BEGIN:DAYLIGHT
TZOFFSETFROM:-0800
TZOFFSETTO:-0700
TZNAME:PDT
DTSTART:20270314T100000
END:DAYLIGHT
BEGIN:STANDARD
TZOFFSETFROM:-0700
TZOFFSETTO:-0800
TZNAME:PST
DTSTART:20271107T090000
END:STANDARD
END:VTIMEZONE
BEGIN:VEVENT
DTSTART;VALUE=DATE:20260313
DTEND;VALUE=DATE:20260330
DTSTAMP:20260425T162554
CREATED:20260212T173716Z
LAST-MODIFIED:20260212T183053Z
UID:10021369-1773360000-1774828799@sjcc.org
SUMMARY:Passover Food Drive
DESCRIPTION:Celebrate Lag B'Omer with the J! Bring the whole family to roast and enjoy delicious s'mores over our community bonfire (weather permitting).
URL:https://sjcc.org/event/passover-food-drive/
LOCATION:Stroum Jewish Community Center\, 3801 E Mercer Way\, Mercer Island\, WA\, United States
CATEGORIES:Adults + Seniors,Demographics,Demographics: Adults,Demographics: Families,Demographics: Seniors (55+ better),Demographics: Young Adults,Family Programs,Holiday Programs,J Community,Jewish Life,Partner Event,Young Adult Programs
ATTACH;FMTTYPE=image/jpeg:https://sjcc.org/wp-content/uploads/2026/02/260313-passover-food-drive-EVENT-1200-1.jpg
ORGANIZER;CN="Stroum JCC":MAILTO:info@sjcc.org
GEO:47.576754;-122.206204
X-APPLE-STRUCTURED-LOCATION;VALUE=URI;X-ADDRESS=Stroum Jewish Community Center 3801 E Mercer Way Mercer Island WA United States;X-APPLE-RADIUS=500;X-TITLE=3801 E Mercer Way:geo:-122.206204,47.576754
END:VEVENT
BEGIN:VEVENT
DTSTART;TZID=America/Los_Angeles:20260313T071500
DTEND;TZID=America/Los_Angeles:20260313T081500
DTSTAMP:20260425T162554
CREATED:20251216T173143Z
LAST-MODIFIED:20260423T212736Z
UID:10020687-1773386100-1773389700@sjcc.org
SUMMARY:Fitness Class: Ageless Strength Training
DESCRIPTION:Celebrate Lag B'Omer with the J! Bring the whole family to roast and enjoy delicious s'mores over our community bonfire (weather permitting).
URL:https://sjcc.org/event/fitness-class-ageless-strength-training/2026-03-13/
LOCATION:Stroum Jewish Community Center\, 3801 E Mercer Way\, Mercer Island\, WA\, United States
CATEGORIES:Demographics: Adults,Demographics: Seniors (55+ better),Exercise Studio,Fitness and Aquatics,Group Fitness Classes,Intermediate,Membership
ORGANIZER;CN="Stroum JCC":MAILTO:info@sjcc.org
GEO:47.576754;-122.206204
X-APPLE-STRUCTURED-LOCATION;VALUE=URI;X-ADDRESS=Stroum Jewish Community Center 3801 E Mercer Way Mercer Island WA United States;X-APPLE-RADIUS=500;X-TITLE=3801 E Mercer Way:geo:-122.206204,47.576754
END:VEVENT
BEGIN:VEVENT
DTSTART;TZID=America/Los_Angeles:20260313T083000
DTEND;TZID=America/Los_Angeles:20260313T093000
DTSTAMP:20260425T162554
CREATED:20251216T173603Z
LAST-MODIFIED:20260423T212642Z
UID:10020602-1773390600-1773394200@sjcc.org
SUMMARY:Fitness Class: Intermediate Slow Flow Yoga
DESCRIPTION:Celebrate Lag B'Omer with the J! Bring the whole family to roast and enjoy delicious s'mores over our community bonfire (weather permitting).
URL:https://sjcc.org/event/fitness-class-intermediate-slow-flow-yoga-2/2026-03-13/
LOCATION:Stroum Jewish Community Center\, 3801 E Mercer Way\, Mercer Island\, WA\, United States
CATEGORIES:Demographics: Adults,Demographics: Seniors (55+ better),Demographics: Young Adults,Exercise Studio,Fitness and Aquatics,Group Fitness Classes,Intermediate,Membership,Virtual SJCC
ORGANIZER;CN="Stroum JCC":MAILTO:info@sjcc.org
GEO:47.576754;-122.206204
X-APPLE-STRUCTURED-LOCATION;VALUE=URI;X-ADDRESS=Stroum Jewish Community Center 3801 E Mercer Way Mercer Island WA United States;X-APPLE-RADIUS=500;X-TITLE=3801 E Mercer Way:geo:-122.206204,47.576754
END:VEVENT
BEGIN:VEVENT
DTSTART;TZID=America/Los_Angeles:20260313T090000
DTEND;TZID=America/Los_Angeles:20260313T100000
DTSTAMP:20260425T162554
CREATED:20251216T174047Z
LAST-MODIFIED:20260423T212230Z
UID:10020032-1773392400-1773396000@sjcc.org
SUMMARY:Fitness Class: Aqua Fit
DESCRIPTION:Celebrate Lag B'Omer with the J! Bring the whole family to roast and enjoy delicious s'mores over our community bonfire (weather permitting).
URL:https://sjcc.org/event/fitness-class-aqua-fit/2026-03-13/
LOCATION:Stroum Jewish Community Center\, 3801 E Mercer Way\, Mercer Island\, WA\, United States
CATEGORIES:Adults + Seniors,Beginner,Demographics: Adults,Demographics: Seniors (55+ better),Fitness and Aquatics,Group Fitness Classes,Membership,Pool,Swimming
ORGANIZER;CN="Stroum JCC":MAILTO:info@sjcc.org
GEO:47.576754;-122.206204
X-APPLE-STRUCTURED-LOCATION;VALUE=URI;X-ADDRESS=Stroum Jewish Community Center 3801 E Mercer Way Mercer Island WA United States;X-APPLE-RADIUS=500;X-TITLE=3801 E Mercer Way:geo:-122.206204,47.576754
END:VEVENT
BEGIN:VEVENT
DTSTART;TZID=America/Los_Angeles:20260313T103000
DTEND;TZID=America/Los_Angeles:20260313T113000
DTSTAMP:20260425T162554
CREATED:20251216T173847Z
LAST-MODIFIED:20260423T212431Z
UID:10022900-1773397800-1773401400@sjcc.org
SUMMARY:Fitness Class: Tai Chi
DESCRIPTION:Celebrate Lag B'Omer with the J! Bring the whole family to roast and enjoy delicious s'mores over our community bonfire (weather permitting).
URL:https://sjcc.org/event/fitness-class-tai-chi-2/2026-03-13/
LOCATION:Stroum Jewish Community Center\, 3801 E Mercer Way\, Mercer Island\, WA\, United States
CATEGORIES:Adults + Seniors,Demographics: Adults,Demographics: Seniors (55+ better),Demographics: Young Adults,Exercise Studio,Fitness and Aquatics,Group Fitness Classes,Intermediate,Membership
ORGANIZER;CN="Stroum JCC":MAILTO:info@sjcc.org
GEO:47.576754;-122.206204
X-APPLE-STRUCTURED-LOCATION;VALUE=URI;X-ADDRESS=Stroum Jewish Community Center 3801 E Mercer Way Mercer Island WA United States;X-APPLE-RADIUS=500;X-TITLE=3801 E Mercer Way:geo:-122.206204,47.576754
END:VEVENT
BEGIN:VEVENT
DTSTART;TZID=America/Los_Angeles:20260313T110000
DTEND;TZID=America/Los_Angeles:20260313T115500
DTSTAMP:20260425T162554
CREATED:20260123T192110Z
LAST-MODIFIED:20260123T192110Z
UID:10021151-1773399600-1773402900@sjcc.org
SUMMARY:Fitness Workshop: Water Walk
DESCRIPTION:Celebrate Lag B'Omer with the J! Bring the whole family to roast and enjoy delicious s'mores over our community bonfire (weather permitting).
URL:https://sjcc.org/event/fitness-workshop-water-walk/2026-03-13/
LOCATION:Stroum Jewish Community Center\, 3801 E Mercer Way\, Mercer Island\, WA\, United States
CATEGORIES:Clinics + Workshops,Demographics,Demographics: Adults,Demographics: Young Adults,Fitness and Aquatics,Membership
ORGANIZER;CN="Stroum JCC":MAILTO:info@sjcc.org
GEO:47.576754;-122.206204
X-APPLE-STRUCTURED-LOCATION;VALUE=URI;X-ADDRESS=Stroum Jewish Community Center 3801 E Mercer Way Mercer Island WA United States;X-APPLE-RADIUS=500;X-TITLE=3801 E Mercer Way:geo:-122.206204,47.576754
END:VEVENT
BEGIN:VEVENT
DTSTART;TZID=America/Los_Angeles:20260313T110000
DTEND;TZID=America/Los_Angeles:20260313T120000
DTSTAMP:20260425T162554
CREATED:20260209T173452Z
LAST-MODIFIED:20260423T180202Z
UID:10021230-1773399600-1773403200@sjcc.org
SUMMARY:Fitness Class: Rock Steady Boxing Level 1/2
DESCRIPTION:Celebrate Lag B'Omer with the J! Bring the whole family to roast and enjoy delicious s'mores over our community bonfire (weather permitting).
URL:https://sjcc.org/event/fitness-class-rock-steady-boxing-level-1-2/2026-03-13/
LOCATION:Stroum Jewish Community Center\, 3801 E Mercer Way\, Mercer Island\, WA\, United States
CATEGORIES:Beginner,Demographics: Adults,Demographics: Seniors (55+ better),Demographics: Young Adults,Exercise Studio,Fitness and Aquatics,Group Fitness Classes
ORGANIZER;CN="Stroum JCC":MAILTO:info@sjcc.org
GEO:47.576754;-122.206204
X-APPLE-STRUCTURED-LOCATION;VALUE=URI;X-ADDRESS=Stroum Jewish Community Center 3801 E Mercer Way Mercer Island WA United States;X-APPLE-RADIUS=500;X-TITLE=3801 E Mercer Way:geo:-122.206204,47.576754
END:VEVENT
BEGIN:VEVENT
DTSTART;TZID=America/Los_Angeles:20260313T121500
DTEND;TZID=America/Los_Angeles:20260313T131500
DTSTAMP:20260425T162554
CREATED:20260209T173739Z
LAST-MODIFIED:20260423T212949Z
UID:10021327-1773404100-1773407700@sjcc.org
SUMMARY:Fitness Class: Rock Steady Boxing Level 3/4
DESCRIPTION:Celebrate Lag B'Omer with the J! Bring the whole family to roast and enjoy delicious s'mores over our community bonfire (weather permitting).
URL:https://sjcc.org/event/fitness-class-rock-steady-boxing-level-3-4/2026-03-13/
LOCATION:Stroum Jewish Community Center\, 3801 E Mercer Way\, Mercer Island\, WA\, United States
CATEGORIES:Beginner,Demographics: Adults,Demographics: Seniors (55+ better),Demographics: Young Adults,Exercise Studio,Fitness and Aquatics,Group Fitness Classes
ORGANIZER;CN="Stroum JCC":MAILTO:info@sjcc.org
GEO:47.576754;-122.206204
X-APPLE-STRUCTURED-LOCATION;VALUE=URI;X-ADDRESS=Stroum Jewish Community Center 3801 E Mercer Way Mercer Island WA United States;X-APPLE-RADIUS=500;X-TITLE=3801 E Mercer Way:geo:-122.206204,47.576754
END:VEVENT
BEGIN:VEVENT
DTSTART;TZID=America/Los_Angeles:20260313T130000
DTEND;TZID=America/Los_Angeles:20260313T150000
DTSTAMP:20260425T162554
CREATED:20251117T215631Z
LAST-MODIFIED:20251117T215631Z
UID:10018810-1773406800-1773414000@sjcc.org
SUMMARY:Monthly Challah Bake
DESCRIPTION:Celebrate Lag B'Omer with the J! Bring the whole family to roast and enjoy delicious s'mores over our community bonfire (weather permitting).
URL:https://sjcc.org/event/monthly-challah-bake-3-13/
LOCATION:Stroum Jewish Community Center\, 3801 E Mercer Way\, Mercer Island\, WA\, United States
CATEGORIES:Adult Gatherings,Adults + Seniors,Demographics: Adults,Demographics: Families,Demographics: Seniors (55+ better),Demographics: Young Adults,Family Programs,Holiday Programs,J Community,Jewish Life,Kitchen,Young Adult Programs
ATTACH;FMTTYPE=image/jpeg:https://sjcc.org/wp-content/uploads/2025/11/260313-monthly-challah-bakes-EVENT-1200.jpg
ORGANIZER;CN="Stroum JCC":MAILTO:info@sjcc.org
GEO:47.576754;-122.206204
X-APPLE-STRUCTURED-LOCATION;VALUE=URI;X-ADDRESS=Stroum Jewish Community Center 3801 E Mercer Way Mercer Island WA United States;X-APPLE-RADIUS=500;X-TITLE=3801 E Mercer Way:geo:-122.206204,47.576754
END:VEVENT
BEGIN:VEVENT
DTSTART;TZID=America/Los_Angeles:20260313T163000
DTEND;TZID=America/Los_Angeles:20260313T173000
DTSTAMP:20260425T162554
CREATED:20251215T215356Z
LAST-MODIFIED:20260313T174135Z
UID:10018898-1773419400-1773423000@sjcc.org
SUMMARY:Fitness Class: Power Yoga
DESCRIPTION:Celebrate Lag B'Omer with the J! Bring the whole family to roast and enjoy delicious s'mores over our community bonfire (weather permitting).
URL:https://sjcc.org/event/fitness-class-power-yoga/2026-03-13/
LOCATION:Stroum Jewish Community Center\, 3801 E Mercer Way\, Mercer Island\, WA\, United States
CATEGORIES:Demographics: Adults,Demographics: Seniors (55+ better),Exercise Studio,Fitness and Aquatics,Group Fitness Classes,Intermediate,Membership
ORGANIZER;CN="Stroum JCC":MAILTO:info@sjcc.org
GEO:47.576754;-122.206204
X-APPLE-STRUCTURED-LOCATION;VALUE=URI;X-ADDRESS=Stroum Jewish Community Center 3801 E Mercer Way Mercer Island WA United States;X-APPLE-RADIUS=500;X-TITLE=3801 E Mercer Way:geo:-122.206204,47.576754
END:VEVENT
BEGIN:VEVENT
DTSTART;TZID=America/Los_Angeles:20260313T174500
DTEND;TZID=America/Los_Angeles:20260313T184500
DTSTAMP:20260425T162554
CREATED:20251215T220148Z
LAST-MODIFIED:20260303T221419Z
UID:10018930-1773423900-1773427500@sjcc.org
SUMMARY:Fitness Class: Restorative Yoga
DESCRIPTION:Celebrate Lag B'Omer with the J! Bring the whole family to roast and enjoy delicious s'mores over our community bonfire (weather permitting).
URL:https://sjcc.org/event/fitness-class-restorative-yoga/2026-03-13/
LOCATION:Stroum Jewish Community Center\, 3801 E Mercer Way\, Mercer Island\, WA\, United States
CATEGORIES:Beginner,Demographics: Adults,Demographics: Seniors (55+ better),Exercise Studio,Fitness and Aquatics,Group Fitness Classes,Membership
ORGANIZER;CN="Stroum JCC":MAILTO:info@sjcc.org
GEO:47.576754;-122.206204
X-APPLE-STRUCTURED-LOCATION;VALUE=URI;X-ADDRESS=Stroum Jewish Community Center 3801 E Mercer Way Mercer Island WA United States;X-APPLE-RADIUS=500;X-TITLE=3801 E Mercer Way:geo:-122.206204,47.576754
END:VEVENT
END:VCALENDAR