BEGIN:VCALENDAR
VERSION:2.0
PRODID:-//Stroum Jewish Community Center of Greater Seattle - ECPv6.15.20//NONSGML v1.0//EN
CALSCALE:GREGORIAN
METHOD:PUBLISH
X-ORIGINAL-URL:https://sjcc.org
X-WR-CALDESC:Events for Stroum Jewish Community Center of Greater Seattle
REFRESH-INTERVAL;VALUE=DURATION:PT1H
X-Robots-Tag:noindex
X-PUBLISHED-TTL:PT1H
BEGIN:VTIMEZONE
TZID:America/Los_Angeles
BEGIN:DAYLIGHT
TZOFFSETFROM:-0800
TZOFFSETTO:-0700
TZNAME:PDT
DTSTART:20250309T100000
END:DAYLIGHT
BEGIN:STANDARD
TZOFFSETFROM:-0700
TZOFFSETTO:-0800
TZNAME:PST
DTSTART:20251102T090000
END:STANDARD
BEGIN:DAYLIGHT
TZOFFSETFROM:-0800
TZOFFSETTO:-0700
TZNAME:PDT
DTSTART:20260308T100000
END:DAYLIGHT
BEGIN:STANDARD
TZOFFSETFROM:-0700
TZOFFSETTO:-0800
TZNAME:PST
DTSTART:20261101T090000
END:STANDARD
BEGIN:DAYLIGHT
TZOFFSETFROM:-0800
TZOFFSETTO:-0700
TZNAME:PDT
DTSTART:20270314T100000
END:DAYLIGHT
BEGIN:STANDARD
TZOFFSETFROM:-0700
TZOFFSETTO:-0800
TZNAME:PST
DTSTART:20271107T090000
END:STANDARD
END:VTIMEZONE
BEGIN:VEVENT
DTSTART;TZID=America/Los_Angeles:20260315T090000
DTEND;TZID=America/Los_Angeles:20260315T113000
DTSTAMP:20260423T130757
CREATED:20260218T225545Z
LAST-MODIFIED:20260218T225545Z
UID:10021381-1773565200-1773574200@sjcc.org
SUMMARY:WE MET AT GROSSINGER’S – Brunch Film
DESCRIPTION:Spend the summer in the New York Catskills with those who sojourned there and were inspired by it. Grossinger’s famed resort was an oasis for Jewish families\, celebrities and a crown jewel of the Borscht Belt.
URL:https://sjcc.org/event/we-met-at-grossingers/
LOCATION:AMC Pacific Place 11\, 600 Pine Street\, Seattle\, WA\, 98101\, United States
CATEGORIES:Arts + Ideas,Demographics: Adults,Demographics: Seniors (55+ better),Demographics: Young Adults,Film,SJFF,SJFF Film In-Person,Special Events
ATTACH;FMTTYPE=image/jpeg:https://sjcc.org/wp-content/uploads/2026/02/2026-we-met-grossingers-SLIDE-1920-virtual.jpg
ORGANIZER;CN="Stroum JCC":MAILTO:info@sjcc.org
END:VEVENT
BEGIN:VEVENT
DTSTART;TZID=America/Los_Angeles:20260314T201500
DTEND;TZID=America/Los_Angeles:20260314T220000
DTSTAMP:20260423T130757
CREATED:20260218T225136Z
LAST-MODIFIED:20260218T225137Z
UID:10021380-1773519300-1773525600@sjcc.org
SUMMARY:ONCE UPON MY MOTHER – Opening Night
DESCRIPTION:Spend the summer in the New York Catskills with those who sojourned there and were inspired by it. Grossinger’s famed resort was an oasis for Jewish families\, celebrities and a crown jewel of the Borscht Belt.
URL:https://sjcc.org/event/once-upon-my-mother-opening-night/
LOCATION:AMC Pacific Place 11\, 600 Pine Street\, Seattle\, WA\, 98101\, United States
CATEGORIES:Arts + Ideas,Demographics,Demographics: Adults,Demographics: Seniors (55+ better),Demographics: Young Adults,Film,SJFF,SJFF Film In-Person,Special Events
ATTACH;FMTTYPE=image/jpeg:https://sjcc.org/wp-content/uploads/2026/02/2026-once-upon-my-mother-SLIDE-1920-virtual.jpg
ORGANIZER;CN="Stroum JCC":MAILTO:info@sjcc.org
END:VEVENT
END:VCALENDAR